BEGIN:VCALENDAR
VERSION:2.0
PRODID:-// - ECPv6.15.14//NONSGML v1.0//EN
CALSCALE:GREGORIAN
METHOD:PUBLISH
X-ORIGINAL-URL:https://nhccnm.org
X-WR-CALDESC:Events for 
REFRESH-INTERVAL;VALUE=DURATION:PT1H
X-Robots-Tag:noindex
X-PUBLISHED-TTL:PT1H
BEGIN:VTIMEZONE
TZID:America/Denver
BEGIN:DAYLIGHT
TZOFFSETFROM:-0700
TZOFFSETTO:-0600
TZNAME:MDT
DTSTART:20170312T090000
END:DAYLIGHT
BEGIN:STANDARD
TZOFFSETFROM:-0600
TZOFFSETTO:-0700
TZNAME:MST
DTSTART:20171105T080000
END:STANDARD
BEGIN:DAYLIGHT
TZOFFSETFROM:-0700
TZOFFSETTO:-0600
TZNAME:MDT
DTSTART:20180311T090000
END:DAYLIGHT
BEGIN:STANDARD
TZOFFSETFROM:-0600
TZOFFSETTO:-0700
TZNAME:MST
DTSTART:20181104T080000
END:STANDARD
BEGIN:DAYLIGHT
TZOFFSETFROM:-0700
TZOFFSETTO:-0600
TZNAME:MDT
DTSTART:20190310T090000
END:DAYLIGHT
BEGIN:STANDARD
TZOFFSETFROM:-0600
TZOFFSETTO:-0700
TZNAME:MST
DTSTART:20191103T080000
END:STANDARD
END:VTIMEZONE
BEGIN:VEVENT
DTSTART;VALUE=DATE:20180203
DTEND;VALUE=DATE:20180204
DTSTAMP:20260424T033808
CREATED:20171019T215618Z
LAST-MODIFIED:20171019T215618Z
UID:4232-1517616000-1517702399@nhccnm.org
SUMMARY:¡Vamos al Museo!
DESCRIPTION:10:30 am to 12 pm \nA great morning of art-making for children of all ages and families of all sizes.   A visit to the museum is included in this artist led workshop\, on the first Saturday of every month. We will meet in the Creative Classroom in the Pete V. Domenici Building.  Please pre-register using the link HERE so we can prepare materials. \nFebruary’s workshop will be led by artist Carisa Otero\, and we will be making metal embossed hearts. \nFor more information please call or email Elena Baca at 505-246-2261 or ElenaD.Baca@state.nm.us\nFree\, $5 donations are encouraged to support the artists & purchase supplies
URL:https://nhccnm.org/event/vamos-al-museo-17/
LOCATION:Domenici Education Building\, 1701 4th Street SW\, Albuquerque\, NM\, 87102
CATEGORIES:Education,School and Youth Programs,Workshops
END:VEVENT
BEGIN:VEVENT
DTSTART;VALUE=DATE:20180203
DTEND;VALUE=DATE:20180205
DTSTAMP:20260424T033808
CREATED:20171212T194320Z
LAST-MODIFIED:20171212T194320Z
UID:4422-1517616000-1517788799@nhccnm.org
SUMMARY:Mundos de Mestizaje
DESCRIPTION:12 pm to 5 pm \nA Vision of History through Fresco… \nMundos de Mestizaje by Frederico Vigil is a mural housed in the Torreón on the campus of the National Hispanic Cultural Center. This monumental fresco depicts thousands of years of Hispanic history highlighting diverse cultural connections between people and places from the Iberian Peninsula to the Americas. The 4\,000 square foot painting is one of the largest frescos in North America. \nThe digitized imagery of the painting ensures that this culturally significant work can be a sharing and learning experience for students and families anywhere. We invite you to explore the imagery\, history and complexities of the Mundos de Mestizaje mural. \nDiscover on your own by clicking the link HERE. \n(It may take a moment to load. Microsoft Internet Explorer is NOT recommended. Best experienced with Safari\, Firefox or Chrome.)\nFree
URL:https://nhccnm.org/event/mundos-de-mestizaje-5/
LOCATION:NHCC Torreón\, 1701 4th street SW\, Albuquerque\, NM\, 87102\, United States
CATEGORIES:Education,Visual Arts
ATTACH;FMTTYPE=image/jpeg:https://nhccnm.org/wp-content/uploads/2017/08/Torreon.jpg
END:VEVENT
BEGIN:VEVENT
DTSTART;VALUE=DATE:20180204
DTEND;VALUE=DATE:20180205
DTSTAMP:20260424T033808
CREATED:20180127T230306Z
LAST-MODIFIED:20180127T230306Z
UID:4531-1517702400-1517788799@nhccnm.org
SUMMARY:Sundays in the Museum
DESCRIPTION:2 pm to 3 pm \nNational Hispanic Cultural Center Art Museum presents Sundays in the Museum Tours every Sunday afternoon starting at 2 pm. Each tour will be different depending on the exhibit and theme.\nFree with NHCC Museum admission
URL:https://nhccnm.org/event/saturdays-in-the-museum-14/
LOCATION:September-2019-Board-Meeting-Minutes
CATEGORIES:Education,Speakers,Visual Arts,Workshops
ATTACH;FMTTYPE=image/jpeg:https://nhccnm.org/wp-content/uploads/2016/03/Permanent3.jpg
END:VEVENT
BEGIN:VEVENT
DTSTART;VALUE=DATE:20180210
DTEND;VALUE=DATE:20180211
DTSTAMP:20260424T033808
CREATED:20171213T210919Z
LAST-MODIFIED:20171213T210919Z
UID:4428-1518220800-1518307199@nhccnm.org
SUMMARY:Reading & Booksigning: Diana Silva\, Molé Mama; A Memoir of Love\, Cooking and Loss
DESCRIPTION:2 pm to 4 pm \nJoin author Diana Silva for a book reading and signing of Molé Mama; A Memoir of Love\, Cooking and Loss about the intimate journey of Diana’s mother’s final thirteen months. She cooks her mother’s heirloom Mexican recipes every weekend while Rose presides from her nearby hospice bed and completes taste tests to ensure that Diana has perfected her favorite dishes. Rose also uses this precious time to help Diana understand the secrets to a good life: forgiveness\, love\, faith\, and gratitude for every moment. The book includes some of Rose’s most cherished recipes\, Chicken mole\, Spanish rice\, chili beans\, enchiladas\, guacamole and others. Diana Silva is a San Francisco-based author\, radio host\, video blogger and home chef. Her Molé Mama Recipes YouTube channel celebrates family recipes\, cooking delicious meals at home and adding love to every recipe. Diving into her Latina roots\, she uses her magical molcajete\, and other tools and techniques that make her food taste like grandma used to make back in Mexico.\nFree community event
URL:https://nhccnm.org/event/reading-memoir-love-cooking-loss/
LOCATION:NHCC-Newsletter-August-11-–-24
CATEGORIES:Education,Speakers,Workshops
ATTACH;FMTTYPE=image/jpeg:https://nhccnm.org/wp-content/uploads/2017/12/FinalCover_MMbook_front-scaled.jpg
END:VEVENT
BEGIN:VEVENT
DTSTART;VALUE=DATE:20180210
DTEND;VALUE=DATE:20180212
DTSTAMP:20260424T033808
CREATED:20171212T194456Z
LAST-MODIFIED:20171212T194456Z
UID:4423-1518220800-1518393599@nhccnm.org
SUMMARY:Mundos de Mestizaje
DESCRIPTION:12 pm to 5 pm \nA Vision of History through Fresco… \nMundos de Mestizaje by Frederico Vigil is a mural housed in the Torreón on the campus of the National Hispanic Cultural Center. This monumental fresco depicts thousands of years of Hispanic history highlighting diverse cultural connections between people and places from the Iberian Peninsula to the Americas. The 4\,000 square foot painting is one of the largest frescos in North America. \nThe digitized imagery of the painting ensures that this culturally significant work can be a sharing and learning experience for students and families anywhere. We invite you to explore the imagery\, history and complexities of the Mundos de Mestizaje mural. \nDiscover on your own by clicking the link HERE. \n(It may take a moment to load. Microsoft Internet Explorer is NOT recommended. Best experienced with Safari\, Firefox or Chrome.)\nFree
URL:https://nhccnm.org/event/mundos-de-mestizaje-6/
LOCATION:NHCC Torreón\, 1701 4th street SW\, Albuquerque\, NM\, 87102\, United States
CATEGORIES:Education,Visual Arts
ATTACH;FMTTYPE=image/jpeg:https://nhccnm.org/wp-content/uploads/2017/08/Torreon.jpg
END:VEVENT
BEGIN:VEVENT
DTSTART;VALUE=DATE:20180211
DTEND;VALUE=DATE:20180212
DTSTAMP:20260424T033808
CREATED:20170726T163818Z
LAST-MODIFIED:20170726T163818Z
UID:3963-1518307200-1518393599@nhccnm.org
SUMMARY:New Mexico Philharmonic Orchestra: From Bach to Bachianas & Britten (Rental)
DESCRIPTION:2 pm \nMusic Director Roberto Minczuk wields the baton in a glimmering afternoon of globe-spanning masterworks by renowned composers. Piazzolla’s Libertango and Oblivion bring “Tango Nuevo” to the forefront. Bachianas Brasileiras by Villa-Lobos links Brazilian popular music to Baroque works—such as those of Bach\, one of which is included in this concert. Also\, an homage to Benjamin Britten by Arvo Pärt and the purity of Britten’s own Simple Symphony.\n$24\, $35\, $46\, $68 \nRoberto Minczuk\, conductor\nKimberly Fredenburgh\, viola\nKevin Vigneau\, oboe \nPiazzolla: Libertango\nPiazzolla: Oblivion\nStephenson: Concerto for Oboe and Viola\nBach: Aria from Suite No. 3\nVilla-Lobos: Bachianas Brasileiras No. 9\nPärt: Cantus in Memoriam Benjamin Britten\nBritten: Simple Symphony \n\nThe title\, content\, photos/images and description for this event were provided to the NHCC by the organization renting the NHCC venue for the event. By serving as a venue and posting the event on its website\, the NHCC is not endorsing any views expressed in the title or description of the event\, nor is it endorsing the content of the event.
URL:https://nhccnm.org/event/new-mexico-philharmonic-orchestra-bach-bachianas-britten-rental/
LOCATION:Roy E. Disney Center for Performing Arts: Albuquerque Journal Theatre\, 1701 4th St SW\, Albuquerque\, NM\, 87102
CATEGORIES:Music,Performing Arts,Theatre
ATTACH;FMTTYPE=image/jpeg:https://nhccnm.org/wp-content/uploads/2015/11/NM-Philharmonic-Logo.jpg
END:VEVENT
BEGIN:VEVENT
DTSTART;VALUE=DATE:20180211
DTEND;VALUE=DATE:20180212
DTSTAMP:20260424T033808
CREATED:20180127T230605Z
LAST-MODIFIED:20180127T230605Z
UID:4532-1518307200-1518393599@nhccnm.org
SUMMARY:Sundays in the Museum
DESCRIPTION:2 pm to 3 pm \nNational Hispanic Cultural Center Art Museum presents Sundays in the Museum Tours every Sunday afternoon starting at 2 pm. Each tour will be different depending on the exhibit and theme.\nFree with NHCC Museum admission
URL:https://nhccnm.org/event/sundays-in-the-museum/
LOCATION:September-2019-Board-Meeting-Minutes
CATEGORIES:Education,Speakers,Visual Arts,Workshops
ATTACH;FMTTYPE=image/jpeg:https://nhccnm.org/wp-content/uploads/2016/03/Permanent3.jpg
END:VEVENT
BEGIN:VEVENT
DTSTART;VALUE=DATE:20180216
DTEND;VALUE=DATE:20180217
DTSTAMP:20260424T033808
CREATED:20171014T190930Z
LAST-MODIFIED:20171014T190930Z
UID:4222-1518739200-1518825599@nhccnm.org
SUMMARY:Colcha Community Stitch-Along
DESCRIPTION:9:30 am – 12 pm \nJoin our monthly gathering for colcheras of all skill levels led by Annette Gutierrez Turk. If you are beginning or advanced in the traditional New Mexican style of embroidery\, bring your current colcha project along and enjoy these monthly\, informal\, community work sessions to share ideas\, resources and encouragement! \nFor more information\, call Elena at 505-246-2261 or e-mailing elenad.baca@state.nm.us.\nFree event \nFacilitated by Sandia Mountains Chapter-EGA
URL:https://nhccnm.org/event/colcha-community-stitch-along-8/
LOCATION:Domenici Education Building\, 1701 4th Street SW\, Albuquerque\, NM\, 87102
CATEGORIES:Education,Workshops
ATTACH;FMTTYPE=image/jpeg:https://nhccnm.org/wp-content/uploads/2016/02/Colcha-Embroidery-graphic.2-08-26-2015.jpg
END:VEVENT
BEGIN:VEVENT
DTSTART;VALUE=DATE:20180217
DTEND;VALUE=DATE:20180219
DTSTAMP:20260424T033808
CREATED:20171212T194701Z
LAST-MODIFIED:20171212T194701Z
UID:4424-1518825600-1518998399@nhccnm.org
SUMMARY:Mundos de Mestizaje
DESCRIPTION:12 pm to 5 pm \nA Vision of History through Fresco… \nMundos de Mestizaje by Frederico Vigil is a mural housed in the Torreón on the campus of the National Hispanic Cultural Center. This monumental fresco depicts thousands of years of Hispanic history highlighting diverse cultural connections between people and places from the Iberian Peninsula to the Americas. The 4\,000 square foot painting is one of the largest frescos in North America. \nThe digitized imagery of the painting ensures that this culturally significant work can be a sharing and learning experience for students and families anywhere. We invite you to explore the imagery\, history and complexities of the Mundos de Mestizaje mural. \nDiscover on your own by clicking the link HERE. \n(It may take a moment to load. Microsoft Internet Explorer is NOT recommended. Best experienced with Safari\, Firefox or Chrome.)\nFree
URL:https://nhccnm.org/event/mundos-de-mestizaje-7/
LOCATION:NHCC Torreón\, 1701 4th street SW\, Albuquerque\, NM\, 87102\, United States
CATEGORIES:Education,Visual Arts
ATTACH;FMTTYPE=image/jpeg:https://nhccnm.org/wp-content/uploads/2017/08/Torreon.jpg
END:VEVENT
BEGIN:VEVENT
DTSTART;VALUE=DATE:20180224
DTEND;VALUE=DATE:20180226
DTSTAMP:20260424T033808
CREATED:20171212T201538Z
LAST-MODIFIED:20171212T201538Z
UID:4426-1519430400-1519603199@nhccnm.org
SUMMARY:Mundos de Mestizaje
DESCRIPTION:12 pm to 5 pm \nA Vision of History through Fresco… \nMundos de Mestizaje by Frederico Vigil is a mural housed in the Torreón on the campus of the National Hispanic Cultural Center. This monumental fresco depicts thousands of years of Hispanic history highlighting diverse cultural connections between people and places from the Iberian Peninsula to the Americas. The 4\,000 square foot painting is one of the largest frescos in North America. \nThe digitized imagery of the painting ensures that this culturally significant work can be a sharing and learning experience for students and families anywhere. We invite you to explore the imagery\, history and complexities of the Mundos de Mestizaje mural. \nDiscover on your own by clicking the link HERE. \n(It may take a moment to load. Microsoft Internet Explorer is NOT recommended. Best experienced with Safari\, Firefox or Chrome.)\nFree
URL:https://nhccnm.org/event/mundos-de-mestizaje-8/
LOCATION:NHCC Torreón\, 1701 4th street SW\, Albuquerque\, NM\, 87102\, United States
CATEGORIES:Education,Visual Arts
ATTACH;FMTTYPE=image/jpeg:https://nhccnm.org/wp-content/uploads/2017/08/Torreon.jpg
END:VEVENT
END:VCALENDAR