BEGIN:VCALENDAR
VERSION:2.0
PRODID:-// - ECPv6.15.14//NONSGML v1.0//EN
CALSCALE:GREGORIAN
METHOD:PUBLISH
X-ORIGINAL-URL:https://nhccnm.org
X-WR-CALDESC:Events for 
REFRESH-INTERVAL;VALUE=DURATION:PT1H
X-Robots-Tag:noindex
X-PUBLISHED-TTL:PT1H
BEGIN:VTIMEZONE
TZID:America/Denver
BEGIN:DAYLIGHT
TZOFFSETFROM:-0700
TZOFFSETTO:-0600
TZNAME:MDT
DTSTART:20170312T090000
END:DAYLIGHT
BEGIN:STANDARD
TZOFFSETFROM:-0600
TZOFFSETTO:-0700
TZNAME:MST
DTSTART:20171105T080000
END:STANDARD
BEGIN:DAYLIGHT
TZOFFSETFROM:-0700
TZOFFSETTO:-0600
TZNAME:MDT
DTSTART:20180311T090000
END:DAYLIGHT
BEGIN:STANDARD
TZOFFSETFROM:-0600
TZOFFSETTO:-0700
TZNAME:MST
DTSTART:20181104T080000
END:STANDARD
BEGIN:DAYLIGHT
TZOFFSETFROM:-0700
TZOFFSETTO:-0600
TZNAME:MDT
DTSTART:20190310T090000
END:DAYLIGHT
BEGIN:STANDARD
TZOFFSETFROM:-0600
TZOFFSETTO:-0700
TZNAME:MST
DTSTART:20191103T080000
END:STANDARD
END:VTIMEZONE
BEGIN:VEVENT
DTSTART;VALUE=DATE:20180303
DTEND;VALUE=DATE:20180304
DTSTAMP:20260424T005430
CREATED:20180214T184627Z
LAST-MODIFIED:20180214T184627Z
UID:4666-1520035200-1520121599@nhccnm.org
SUMMARY:Reading & Booksigning\, Historic Route 66: A New Mexican Crossroads
DESCRIPTION:2 pm to 4 pm \nJoin authors Joseph P. Sánchez\, Angélica Sánchez-Clark\, and Steve Mandrgoc for a presentation of their book Historic Route 66: A New Mexican Crossroads\, narrating the history of how New Mexico’s portion of Highway 66 came to be and the people who used it as a lifeline for medical purposes\, food\, commerce\, and the transport of livestock\, which together shaped the significance of Historic Route 66 to our national heritage.\nFree public event
URL:https://nhccnm.org/event/reading-booksigning-historic-route-66-new-mexican-crossroads/
LOCATION:NHCC-Newsletter-August-26–September-7
CATEGORIES:Education,Speakers,Workshops
ATTACH;FMTTYPE=image/jpeg:https://nhccnm.org/wp-content/uploads/2018/02/Rt.66-Book-Cover-scaled.jpg
END:VEVENT
BEGIN:VEVENT
DTSTART;VALUE=DATE:20180303
DTEND;VALUE=DATE:20180305
DTSTAMP:20260424T005430
CREATED:20171212T201921Z
LAST-MODIFIED:20171212T201921Z
UID:4427-1520035200-1520207999@nhccnm.org
SUMMARY:Mundos de Mestizaje
DESCRIPTION:12 pm to 5 pm \nA Vision of History through Fresco… \nMundos de Mestizaje by Frederico Vigil is a mural housed in the Torreón on the campus of the National Hispanic Cultural Center. This monumental fresco depicts thousands of years of Hispanic history highlighting diverse cultural connections between people and places from the Iberian Peninsula to the Americas. The 4\,000 square foot painting is one of the largest frescos in North America. \nThe digitized imagery of the painting ensures that this culturally significant work can be a sharing and learning experience for students and families anywhere. We invite you to explore the imagery\, history and complexities of the Mundos de Mestizaje mural. \nDiscover on your own by clicking the link HERE. \n(It may take a moment to load. Microsoft Internet Explorer is NOT recommended. Best experienced with Safari\, Firefox or Chrome.)\nFree
URL:https://nhccnm.org/event/mundos-de-mestizaje-9/
LOCATION:NHCC Torreón\, 1701 4th street SW\, Albuquerque\, NM\, 87102\, United States
CATEGORIES:Education,Visual Arts
ATTACH;FMTTYPE=image/jpeg:https://nhccnm.org/wp-content/uploads/2017/08/Torreon.jpg
END:VEVENT
BEGIN:VEVENT
DTSTART;VALUE=DATE:20180303
DTEND;VALUE=DATE:20180305
DTSTAMP:20260424T005430
CREATED:20171222T184210Z
LAST-MODIFIED:20171222T184210Z
UID:4462-1520035200-1520207999@nhccnm.org
SUMMARY:Abrepaso Flamenco & Alice Blumenfeld: Vacío/Void
DESCRIPTION:8 pm Saturday\,\n 2 pm Saturday & Sunday \nAbrepaso seeks to create honest flamenco dance that provokes the audience to think\, feel\, question\, and remember our shared humanity. The name Abrepaso comes from the Spanish phrase “abrir paso\,” which can signify making or paving the way and breaking open space. The company aims to establish a contemporary approach to flamenco in the United States\, breaking down boundaries and stereotypes through professional\, quality performances and education. This flamenco performance explores the voids that thwart us from seeing our own interconnectedness to others and nature. Using environmentalist Rachel Carson’s work as a starting point\, the flamenco movements and new music develop a dynamic approach to the figurative and literal voids we experience in our lives. Featuring Alice Blumenfeld\, composer Lauren Valerie Coons\, guitarist Misael Barraza\, and singer Meagan Chandler.\n$28\, $34 w/ a $2 discount for NHCC members \nThank you to our Performing Arts Season Sponsors Heritage Hotels and Resorts\, the Albuquerque Journal and Southwest Airlines!
URL:https://nhccnm.org/event/abrepaso-flamenco-alice-blumenfeld-vaciovoid/
LOCATION:NHCC-Newsletter-November-2-30
CATEGORIES:Dance,Music,Performing Arts,Theatre
ATTACH;FMTTYPE=image/jpeg:https://nhccnm.org/wp-content/uploads/2017/12/Lisa-Greenberg-5-box.jpg
END:VEVENT
BEGIN:VEVENT
DTSTART;VALUE=DATE:20180310
DTEND;VALUE=DATE:20180312
DTSTAMP:20260424T005430
CREATED:20180216T172649Z
LAST-MODIFIED:20180216T172649Z
UID:4712-1520640000-1520812799@nhccnm.org
SUMMARY:Mundos de Mestizaje
DESCRIPTION:12 pm to 5 pm \nA Vision of History through Fresco… \nMundos de Mestizaje by Frederico Vigil is a mural housed in the Torreón on the campus of the National Hispanic Cultural Center. This monumental fresco depicts thousands of years of Hispanic history highlighting diverse cultural connections between people and places from the Iberian Peninsula to the Americas. The 4\,000 square foot painting is one of the largest frescos in North America. \nThe digitized imagery of the painting ensures that this culturally significant work can be a sharing and learning experience for students and families anywhere. We invite you to explore the imagery\, history and complexities of the Mundos de Mestizaje mural. \nDiscover on your own by clicking the link HERE.\n(It may take a moment to load.  Microsoft Internet Explorer is NOT recommended.  Best experienced with Safari\, Firefox or Chrome.)\nFree
URL:https://nhccnm.org/event/mundos-de-mestizaje-10/
LOCATION:NHCC Torreón\, 1701 4th street SW\, Albuquerque\, NM\, 87102\, United States
CATEGORIES:Speakers,Visual Arts,Workshops
ATTACH;FMTTYPE=image/jpeg:https://nhccnm.org/wp-content/uploads/2017/08/Torreon.jpg
END:VEVENT
BEGIN:VEVENT
DTSTART;VALUE=DATE:20180317
DTEND;VALUE=DATE:20180318
DTSTAMP:20260424T005430
CREATED:20180228T225741Z
LAST-MODIFIED:20180228T225741Z
UID:4780-1521244800-1521331199@nhccnm.org
SUMMARY:La Canoa Legacy Talks:  Genízaro Ethnogenesis\, Emergence\, and Futurism
DESCRIPTION:2 pm – 4 pm\nIn collaboration with UNM Center for Regional Studies \nJoin Associate Professor Moises Gonzales\, from the University of New Mexico’s School of Architecture and Planning\, as he relates the emerging story of the history\, identity\, and cultural evolution of the genízaro people of New Mexico during the March La Canoa Legacy Talk. \nAs defined by Fray Angelico Chavez\, genízaro was the designation given to North American Indians of mixed tribal derivation living among the Hispanic population in Spanish fashion: that is\, having Spanish surnames from their masters and Christian names through baptism\, speaking a simple form of Spanish\, and living together or sprinkled among the Hispanic towns and ranchos. Today the permanence of genízaro identity blurs the lines of distinction between Native and Hispanic frameworks of race and cultural affiliation. The talk will discuss the emergence of contemporary indigenous cultural production and futurism generated by genízaros in New Mexico\, as well as the collective work of New Mexican genízaro scholars compiled in a forthcoming anthology co-edited by Gonzales. \n \nMoises Gonzales is Associate Professor of Urban Design in Community and Regional Planning at the School of Architecture and Planning at the University of New Mexico. He is a genízaro heir of both the Cañón de Carnué Land Grant and the San Antonio de Las Huertas land grant. Gonzales also currently serves on the Board of Trustees of the Carnué Land Grant\, and has written various academic articles on the history and culture of genízaro settlements in New Mexico. He is a danzante in the Matachín and Comanche traditions of the Sandia mountain communities\, and co-editor\, with Dr. Enrique Lamadrid\, of Genízaro Nation: Ethnogenesis\, Place\, and Identity in New Mexico\, to be released by UNM Press in 2018.\nFree public event \nPresented in collaboration with Center for Regional Studies: http://crsinfo.unm.edu/.
URL:https://nhccnm.org/event/la-canoa-legacy-talks-moises-gonzales-genizaro-ethnogenesis-emergence-futurism/
LOCATION:History and Literary Arts Building
CATEGORIES:Education,Speakers,Workshops
ATTACH;FMTTYPE=image/jpeg:https://nhccnm.org/wp-content/uploads/2015/11/Fountain-Beauty-Shot-scaled.jpg
END:VEVENT
BEGIN:VEVENT
DTSTART;VALUE=DATE:20180317
DTEND;VALUE=DATE:20180319
DTSTAMP:20260424T005430
CREATED:20180216T172828Z
LAST-MODIFIED:20180216T172828Z
UID:4713-1521244800-1521417599@nhccnm.org
SUMMARY:Mundos de Mestizaje
DESCRIPTION:12 pm to 5 pm \nA Vision of History through Fresco… \nMundos de Mestizaje by Frederico Vigil is a mural housed in the Torreón on the campus of the National Hispanic Cultural Center. This monumental fresco depicts thousands of years of Hispanic history highlighting diverse cultural connections between people and places from the Iberian Peninsula to the Americas. The 4\,000 square foot painting is one of the largest frescos in North America. \nThe digitized imagery of the painting ensures that this culturally significant work can be a sharing and learning experience for students and families anywhere. We invite you to explore the imagery\, history and complexities of the Mundos de Mestizaje mural. \nDiscover on your own by clicking the link HERE.\n(It may take a moment to load.  Microsoft Internet Explorer is NOT recommended.  Best experienced with Safari\, Firefox or Chrome.)\nFree
URL:https://nhccnm.org/event/mundos-de-mestizaje-11/
LOCATION:NHCC Torreón\, 1701 4th street SW\, Albuquerque\, NM\, 87102\, United States
CATEGORIES:Speakers,Visual Arts,Workshops
ATTACH;FMTTYPE=image/jpeg:https://nhccnm.org/wp-content/uploads/2017/08/Torreon.jpg
END:VEVENT
BEGIN:VEVENT
DTSTART;VALUE=DATE:20180324
DTEND;VALUE=DATE:20180325
DTSTAMP:20260424T005430
CREATED:20180221T235305Z
LAST-MODIFIED:20180221T235305Z
UID:4749-1521849600-1521935999@nhccnm.org
SUMMARY:Seeing Double: Paired Perspective Museum Tours
DESCRIPTION:2 pm \nJoin us for a special tour of the NHCC Art Museum exhibition\, La Ultima Exhibición. Led by two different specialists with two distinct perspectives\, it’s sure to have you seeing the artwork in new ways! The tour will be led by María Teresa Márquez\, retired librarian from the University of New Mexico and Augustine Romero\, curator of the exhibit\, who will discuss Bless Me\, Ultima and the exhibit\, La Ultima Exhibición\, from an artistic\, literary\, and cultural perspective. \nAdmission: $6 for adults (17+); $5 for New Mexico residents (17+); free for youth 16 and under. Price of admission gains access to the entire museum so come a little early or stay a little late to see everything!
URL:https://nhccnm.org/event/seeing-double-paired-perspective-museum-tours-3/
LOCATION:September-2019-Board-Meeting-Minutes
CATEGORIES:Speakers,Visual Arts,Workshops
ATTACH;FMTTYPE=image/jpeg:https://nhccnm.org/wp-content/uploads/2018/01/Featured-Image.jpg
END:VEVENT
BEGIN:VEVENT
DTSTART;VALUE=DATE:20180324
DTEND;VALUE=DATE:20180326
DTSTAMP:20260424T005430
CREATED:20180216T173011Z
LAST-MODIFIED:20180216T173011Z
UID:4714-1521849600-1522022399@nhccnm.org
SUMMARY:Mundos de Mestizaje
DESCRIPTION:12 pm to 5 pm \nA Vision of History through Fresco… \nMundos de Mestizaje by Frederico Vigil is a mural housed in the Torreón on the campus of the National Hispanic Cultural Center. This monumental fresco depicts thousands of years of Hispanic history highlighting diverse cultural connections between people and places from the Iberian Peninsula to the Americas. The 4\,000 square foot painting is one of the largest frescos in North America. \nThe digitized imagery of the painting ensures that this culturally significant work can be a sharing and learning experience for students and families anywhere. We invite you to explore the imagery\, history and complexities of the Mundos de Mestizaje mural. \nDiscover on your own by clicking the link HERE.\n(It may take a moment to load.  Microsoft Internet Explorer is NOT recommended.  Best experienced with Safari\, Firefox or Chrome.)\nFree
URL:https://nhccnm.org/event/mundos-de-mestizaje-12/
LOCATION:NHCC Torreón\, 1701 4th street SW\, Albuquerque\, NM\, 87102\, United States
CATEGORIES:Speakers,Visual Arts,Workshops
ATTACH;FMTTYPE=image/jpeg:https://nhccnm.org/wp-content/uploads/2017/08/Torreon.jpg
END:VEVENT
END:VCALENDAR