BEGIN:VCALENDAR
VERSION:2.0
PRODID:-// - ECPv6.15.14//NONSGML v1.0//EN
CALSCALE:GREGORIAN
METHOD:PUBLISH
X-ORIGINAL-URL:https://nhccnm.org
X-WR-CALDESC:Events for 
REFRESH-INTERVAL;VALUE=DURATION:PT1H
X-Robots-Tag:noindex
X-PUBLISHED-TTL:PT1H
BEGIN:VTIMEZONE
TZID:America/Denver
BEGIN:DAYLIGHT
TZOFFSETFROM:-0700
TZOFFSETTO:-0600
TZNAME:MDT
DTSTART:20170312T090000
END:DAYLIGHT
BEGIN:STANDARD
TZOFFSETFROM:-0600
TZOFFSETTO:-0700
TZNAME:MST
DTSTART:20171105T080000
END:STANDARD
BEGIN:DAYLIGHT
TZOFFSETFROM:-0700
TZOFFSETTO:-0600
TZNAME:MDT
DTSTART:20180311T090000
END:DAYLIGHT
BEGIN:STANDARD
TZOFFSETFROM:-0600
TZOFFSETTO:-0700
TZNAME:MST
DTSTART:20181104T080000
END:STANDARD
BEGIN:DAYLIGHT
TZOFFSETFROM:-0700
TZOFFSETTO:-0600
TZNAME:MDT
DTSTART:20190310T090000
END:DAYLIGHT
BEGIN:STANDARD
TZOFFSETFROM:-0600
TZOFFSETTO:-0700
TZNAME:MST
DTSTART:20191103T080000
END:STANDARD
END:VTIMEZONE
BEGIN:VEVENT
DTSTART;VALUE=DATE:20180804
DTEND;VALUE=DATE:20180805
DTSTAMP:20260423T020758
CREATED:20180309T012408Z
LAST-MODIFIED:20180309T012408Z
UID:4803-1533340800-1533427199@nhccnm.org
SUMMARY:Jugamos Juntos: ¡Vamos al Museo!
DESCRIPTION:10:30 am to 12 pm \nThe National Hispanic Cultural Center is pleased to offer free children’s programming during the summer. During June\, July\, and the first two Saturdays in August\, families will be able to come to the Center on Saturday mornings for a new activity every week. \nThis Saturday\, enjoy a great morning of art-making for children of all ages and families of all sizes. A visit to the museum is included in this workshop led by artist Catalina Salinas whose work is part of La Ultima Exhibición. We will meet in the Creative Classroom in the Pete V. Domenici Building. \nPlease pre-register (so we know how many materials to prepare): https://goo.gl/forms/1mk0uGSN0fqV8pSr1. \nFor more information please call or email Elena Baca at 505-246-2261 or ElenaD.Baca@state.nm.us\nFree\, $5 donations are encouraged to support the artists & purchase supplies \nSponsored by Molina Healthcare
URL:https://nhccnm.org/event/vamos-al-museo-22/
LOCATION:Domenici Education Building\, 1701 4th Street SW\, Albuquerque\, NM\, 87102
CATEGORIES:Education,School and Youth Programs,Visual Arts,Workshops
ATTACH;FMTTYPE=image/jpeg:https://nhccnm.org/wp-content/uploads/2016/12/JugamosSIDE.jpg
END:VEVENT
BEGIN:VEVENT
DTSTART;VALUE=DATE:20180804
DTEND;VALUE=DATE:20180806
DTSTAMP:20260423T020758
CREATED:20180709T215158Z
LAST-MODIFIED:20180709T215158Z
UID:5234-1533340800-1533513599@nhccnm.org
SUMMARY:Mundos de Mestizaje
DESCRIPTION:12 pm to 5 pm \nA Vision of History through Fresco… \nMundos de Mestizaje by Frederico Vigil is a mural housed in the Torreón on the campus of the National Hispanic Cultural Center. This monumental fresco depicts thousands of years of Hispanic history highlighting diverse cultural connections between people and places from the Iberian Peninsula to the Americas. The 4\,000 square foot painting is one of the largest frescos in North America. \nThe digitized imagery of the painting ensures that this culturally significant work can be a sharing and learning experience for students and families anywhere. We invite you to explore the imagery\, history and complexities of the Mundos de Mestizaje mural. \nDiscover on your own by clicking the link HERE.\n(It may take a moment to load.  Microsoft Internet Explorer is NOT recommended.  Best experienced with Safari\, Firefox or Chrome.)\nFree
URL:https://nhccnm.org/event/mundos-de-mestizaje-30/
LOCATION:NHCC Torreón\, 1701 4th street SW\, Albuquerque\, NM\, 87102\, United States
CATEGORIES:Speakers,Visual Arts,Workshops
ATTACH;FMTTYPE=image/jpeg:https://nhccnm.org/wp-content/uploads/2017/08/Torreon.jpg
END:VEVENT
BEGIN:VEVENT
DTSTART;VALUE=DATE:20180809
DTEND;VALUE=DATE:20180810
DTSTAMP:20260423T020758
CREATED:20180719T195804Z
LAST-MODIFIED:20180719T195804Z
UID:5287-1533772800-1533859199@nhccnm.org
SUMMARY:Writing Our Lives
DESCRIPTION:6-8 pm \nJoin us to celebrate the conclusion of our spring memoir writing workshop with a reading by Ymelda Baca\, Patricia Clark\, Evelyn Fernandez\, María Leyba\, Regina Manocchio\, Steve Morrow\, Elaine Reyes and Leanna Torres who will read excerpts from their memoirs in-progress. For ten weeks\, these writers have been writing their lives. Come and listen to the results and celebrate our NHCC writers.\n\nTo RSVP: valerie.martinez@state.nm.us.\n 
URL:https://nhccnm.org/event/writing-our-lives/
LOCATION:NHCC-Newsletter-August-11-–-24
CATEGORIES:History and Literary Arts,Workshops
ATTACH;FMTTYPE=image/jpeg:https://nhccnm.org/wp-content/uploads/2018/06/theme-details-fountain-pen-77924-scaled.jpeg
END:VEVENT
BEGIN:VEVENT
DTSTART;VALUE=DATE:20180811
DTEND;VALUE=DATE:20180813
DTSTAMP:20260423T020758
CREATED:20180709T215200Z
LAST-MODIFIED:20180709T215200Z
UID:5232-1533945600-1534118399@nhccnm.org
SUMMARY:Mundos de Mestizaje
DESCRIPTION:12 pm to 5 pm \nA Vision of History through Fresco… \nMundos de Mestizaje by Frederico Vigil is a mural housed in the Torreón on the campus of the National Hispanic Cultural Center. This monumental fresco depicts thousands of years of Hispanic history highlighting diverse cultural connections between people and places from the Iberian Peninsula to the Americas. The 4\,000 square foot painting is one of the largest frescos in North America. \nThe digitized imagery of the painting ensures that this culturally significant work can be a sharing and learning experience for students and families anywhere. We invite you to explore the imagery\, history and complexities of the Mundos de Mestizaje mural. \nDiscover on your own by clicking the link HERE.\n(It may take a moment to load.  Microsoft Internet Explorer is NOT recommended.  Best experienced with Safari\, Firefox or Chrome.)\nFree
URL:https://nhccnm.org/event/mundos-de-mestizaje-31/
LOCATION:NHCC Torreón\, 1701 4th street SW\, Albuquerque\, NM\, 87102\, United States
CATEGORIES:Speakers,Visual Arts,Workshops
ATTACH;FMTTYPE=image/jpeg:https://nhccnm.org/wp-content/uploads/2017/08/Torreon.jpg
END:VEVENT
BEGIN:VEVENT
DTSTART;VALUE=DATE:20180812
DTEND;VALUE=DATE:20180813
DTSTAMP:20260423T020758
CREATED:20180802T012233Z
LAST-MODIFIED:20180802T012233Z
UID:5321-1534032000-1534118399@nhccnm.org
SUMMARY:Henry Jake Foreman:  “Changing Tides in Indigenous Arts and Community--Indigenous Models for Entrepreneurial Development
DESCRIPTION:11 am \nThis talk is part of the educational programming related to People Powered: New Mexicans and Social Movements. \nThe fourth in our People-Powered (New Mexicans in Social Movements) Series features Henry Jake Foreman.  Henry Foreman uses traditional\, Indigenous models of knowledge production along with contemporary practices.  He is the founder of the Karuna Colectiva that mentors youth in Albuquerque.  Indigenous methodologies and epistemologies guide his philosophical and research approaches to working with youth and communities to promote the health of our biosphere. He recently graduated with his Masters from the UNM Community and Regional Planning program. Since graduating he has successfully completed his teacher licensure program\, the Native Entrepreneur in Residence Program\, through New Mexico Community Capital.
URL:https://nhccnm.org/event/henry-jake-foreman-changing-tides-indigenous-arts-community-indigenous-models-entrepreneurial-development/
LOCATION:NHCC-Newsletter-August-26–September-7
CATEGORIES:History and Literary Arts
ATTACH;FMTTYPE=image/jpeg:https://nhccnm.org/wp-content/uploads/2018/04/PeoplePowered.HeaderImage-scaled.jpg
END:VEVENT
BEGIN:VEVENT
DTSTART;VALUE=DATE:20180818
DTEND;VALUE=DATE:20180820
DTSTAMP:20260423T020758
CREATED:20180709T215205Z
LAST-MODIFIED:20180709T215205Z
UID:5235-1534550400-1534723199@nhccnm.org
SUMMARY:Mundos de Mestizaje
DESCRIPTION:12 pm to 5 pm \nA Vision of History through Fresco… \nMundos de Mestizaje by Frederico Vigil is a mural housed in the Torreón on the campus of the National Hispanic Cultural Center. This monumental fresco depicts thousands of years of Hispanic history highlighting diverse cultural connections between people and places from the Iberian Peninsula to the Americas. The 4\,000 square foot painting is one of the largest frescos in North America. \nThe digitized imagery of the painting ensures that this culturally significant work can be a sharing and learning experience for students and families anywhere. We invite you to explore the imagery\, history and complexities of the Mundos de Mestizaje mural. \nDiscover on your own by clicking the link HERE.\n(It may take a moment to load.  Microsoft Internet Explorer is NOT recommended.  Best experienced with Safari\, Firefox or Chrome.)\nFree
URL:https://nhccnm.org/event/mundos-de-mestizaje-32/
LOCATION:NHCC Torreón\, 1701 4th street SW\, Albuquerque\, NM\, 87102\, United States
CATEGORIES:Speakers,Visual Arts,Workshops
ATTACH;FMTTYPE=image/jpeg:https://nhccnm.org/wp-content/uploads/2017/08/Torreon.jpg
END:VEVENT
BEGIN:VEVENT
DTSTART;VALUE=DATE:20180819
DTEND;VALUE=DATE:20180820
DTSTAMP:20260423T020758
CREATED:20180811T180938Z
LAST-MODIFIED:20180811T180938Z
UID:5341-1534636800-1534723199@nhccnm.org
SUMMARY:High Spirit Dance Recital Dancing For Jesus (Rental)
DESCRIPTION:2 pm \nA ballet\, jazz\, and hip-hop dance recital featuring children\, young adults\, and professional dancers—an exciting ensemble of students and teachers bringing contemporary music to life in high-quality dance productions.\n$12\, $15\, $17 no other discounts \n\nThe title\, content\, photos/images and description for this event were provided to the NHCC by the organization renting the NHCC venue for the event. By serving as a venue and posting the event on its website\, the NHCC is not endorsing any views expressed in the title or description of the event\, nor is it endorsing the content of the event.
URL:https://nhccnm.org/event/high-spirit-dance-recital-dancing-jesus-rental-7/
LOCATION:Roy E. Disney Center for Performing Arts: Albuquerque Journal Theatre\, 1701 4th St SW\, Albuquerque\, NM\, 87102
CATEGORIES:Dance,Music,Performing Arts
ATTACH;FMTTYPE=image/jpeg:https://nhccnm.org/wp-content/uploads/2016/01/high-spirit-dance-logo1-300x162-1.jpg
END:VEVENT
BEGIN:VEVENT
DTSTART;VALUE=DATE:20180825
DTEND;VALUE=DATE:20180827
DTSTAMP:20260423T020758
CREATED:20180709T215208Z
LAST-MODIFIED:20180709T215208Z
UID:5233-1535155200-1535327999@nhccnm.org
SUMMARY:Mundos de Mestizaje
DESCRIPTION:12 pm to 5 pm \nA Vision of History through Fresco… \nMundos de Mestizaje by Frederico Vigil is a mural housed in the Torreón on the campus of the National Hispanic Cultural Center. This monumental fresco depicts thousands of years of Hispanic history highlighting diverse cultural connections between people and places from the Iberian Peninsula to the Americas. The 4\,000 square foot painting is one of the largest frescos in North America. \nThe digitized imagery of the painting ensures that this culturally significant work can be a sharing and learning experience for students and families anywhere. We invite you to explore the imagery\, history and complexities of the Mundos de Mestizaje mural. \nDiscover on your own by clicking the link HERE.\n(It may take a moment to load.  Microsoft Internet Explorer is NOT recommended.  Best experienced with Safari\, Firefox or Chrome.)\nFree
URL:https://nhccnm.org/event/mundos-de-mestizaje-33/
LOCATION:NHCC Torreón\, 1701 4th street SW\, Albuquerque\, NM\, 87102\, United States
CATEGORIES:Speakers,Visual Arts,Workshops
ATTACH;FMTTYPE=image/jpeg:https://nhccnm.org/wp-content/uploads/2017/08/Torreon.jpg
END:VEVENT
END:VCALENDAR