BEGIN:VCALENDAR
VERSION:2.0
PRODID:-// - ECPv6.15.14//NONSGML v1.0//EN
CALSCALE:GREGORIAN
METHOD:PUBLISH
X-ORIGINAL-URL:https://nhccnm.org
X-WR-CALDESC:Events for 
REFRESH-INTERVAL;VALUE=DURATION:PT1H
X-Robots-Tag:noindex
X-PUBLISHED-TTL:PT1H
BEGIN:VTIMEZONE
TZID:America/Denver
BEGIN:DAYLIGHT
TZOFFSETFROM:-0700
TZOFFSETTO:-0600
TZNAME:MDT
DTSTART:20170312T090000
END:DAYLIGHT
BEGIN:STANDARD
TZOFFSETFROM:-0600
TZOFFSETTO:-0700
TZNAME:MST
DTSTART:20171105T080000
END:STANDARD
BEGIN:DAYLIGHT
TZOFFSETFROM:-0700
TZOFFSETTO:-0600
TZNAME:MDT
DTSTART:20180311T090000
END:DAYLIGHT
BEGIN:STANDARD
TZOFFSETFROM:-0600
TZOFFSETTO:-0700
TZNAME:MST
DTSTART:20181104T080000
END:STANDARD
BEGIN:DAYLIGHT
TZOFFSETFROM:-0700
TZOFFSETTO:-0600
TZNAME:MDT
DTSTART:20190310T090000
END:DAYLIGHT
BEGIN:STANDARD
TZOFFSETFROM:-0600
TZOFFSETTO:-0700
TZNAME:MST
DTSTART:20191103T080000
END:STANDARD
BEGIN:DAYLIGHT
TZOFFSETFROM:-0700
TZOFFSETTO:-0600
TZNAME:MDT
DTSTART:20200308T090000
END:DAYLIGHT
BEGIN:STANDARD
TZOFFSETFROM:-0600
TZOFFSETTO:-0700
TZNAME:MST
DTSTART:20201101T080000
END:STANDARD
END:VTIMEZONE
BEGIN:VEVENT
DTSTART;VALUE=DATE:20181108
DTEND;VALUE=DATE:20190115
DTSTAMP:20260422T180428
CREATED:20181003T154958Z
LAST-MODIFIED:20181003T154958Z
UID:5539-1541635200-1547510399@nhccnm.org
SUMMARY:New Mexico Hometown Heroes: Hispanic Congressional Medal of Honor Recipients
DESCRIPTION:The New Mexico Hometown Heroes: Hispanic Congressional Medal of Honor Recipients exhibit is a tribute to the six Hispanic Congressional Medal of Honor recipients who have received the highest honor that the United States government bestows for acts of valor and heroism. It celebrates not only their stories of service but their connections to New Mexico: Private Joseph Martínez (WWII)\, Private José Valdez (WWII)\, Master Sergeant Alejandro Ruíz (WWII)\, Specialist Fourth Class Daniel Fernandez (Vietnam War)\, Chief Warrant Officer Louis Rocco (Vietnam War) Master Sergeant Leroy Petry (Operation Enduring Freedom). \nThis exhibition of photographs\, narratives\, and ephemera allows us to reflect on the sacrifices of those who served\, and those who follow in their footsteps. \nIt is on display in the NHCC History and Literary Arts building. You can find the hours for that building here.
URL:https://nhccnm.org/event/new-mexico-hometown-heroes-hispanic-congressional-medal-honor-winners/
LOCATION:History and Literary Arts Building
CATEGORIES:Exhibitions
ATTACH;FMTTYPE=image/jpeg:https://nhccnm.org/wp-content/uploads/2018/10/Featuredimage.jpg
END:VEVENT
BEGIN:VEVENT
DTSTART;VALUE=DATE:20181201
DTEND;VALUE=DATE:20181202
DTSTAMP:20260422T180428
CREATED:20181110T222021Z
LAST-MODIFIED:20181110T222021Z
UID:5672-1543622400-1543708799@nhccnm.org
SUMMARY:¡Vamos al Museo!
DESCRIPTION:10:30 am to noon \nA great morning of art-making for children of all ages and families of all sizes. A visit to the museum is included in this artist-led workshop. We will meet in the Creative Classroom in the Pete V. Domenici Building. \nA great morning of art-making for children of all ages and families of all sizes! \nPlease pre-register HERE (so we know how many materials to prepare) \nFor more information please call or email Elena Baca at 505-246-2261 or ElenaD.Baca@state.nm.us \nFree\, $5 donations are encouraged to support the artists & purchase supplies \n 
URL:https://nhccnm.org/event/vamos-al-museo-25/
LOCATION:Domenici Education Building\, 1701 4th Street SW\, Albuquerque\, NM\, 87102
CATEGORIES:Education,Visual Arts,Workshops
ATTACH;FMTTYPE=image/jpeg:https://nhccnm.org/wp-content/uploads/2018/05/VAM-2017-BannerLogo.jpg
END:VEVENT
BEGIN:VEVENT
DTSTART;VALUE=DATE:20181201
DTEND;VALUE=DATE:20181203
DTSTAMP:20260422T180428
CREATED:20180825T165241Z
LAST-MODIFIED:20180825T165241Z
UID:5391-1543622400-1543795199@nhccnm.org
SUMMARY:Baila! Baila! and the NHCC Present Christmas in New Mexico
DESCRIPTION:2 pm—Saturday & Sunday\n 7 pm—Saturday \nBaila! Baila!’s annual holiday show is a whirlwind extravaganza\, taking audiences on a journey through the sights and sounds of Christmas in New Mexico. Music\, song\, and dance with the traditional Southwestern flair that has been cultivated in our state over the generations\, as well as unique segments saluting Christmas traditions from around the world\, will delight theatregoers of all ages. The production features a large multigenerational cast including dancers as young as six\, as well as Baila! Baila!’s professional company dancers. \nSpecial guest performances include Mariachi Tapatio from El Paso\, Texas\, and an appearance by company founder Israela Garcia. \nBaila! Baila! Dance Academy was founded in 1990 with the mission of educating students solely in traditional Mexican folk dance. The school’s curriculum has expanded to additional dance genres including country western\, salsa\, hip hop\, classical ballet\, and Danza Azteca.\n$22\, $27\, $32 w/ $2 discount for seniors\, children\, & NHCC members \nThank you to our Performing Arts Season Sponsors Heritage Hotels and Resorts\, the Albuquerque Journal and Southwest Airlines!
URL:https://nhccnm.org/event/baila-baila-nhcc-present-christmas-new-mexico/
LOCATION:Roy E. Disney Center for Performing Arts: Albuquerque Journal Theatre\, 1701 4th St SW\, Albuquerque\, NM\, 87102
CATEGORIES:Dance,Performing Arts
ATTACH;FMTTYPE=image/jpeg:https://nhccnm.org/wp-content/uploads/2018/08/Baila-Baila-photo-5.jpg
END:VEVENT
BEGIN:VEVENT
DTSTART;VALUE=DATE:20181201
DTEND;VALUE=DATE:20181203
DTSTAMP:20260422T180428
CREATED:20181019T174846Z
LAST-MODIFIED:20181019T174846Z
UID:5608-1543622400-1543795199@nhccnm.org
SUMMARY:Mundos de Mestizaje
DESCRIPTION:12 pm to 5 pm \nA Vision of History through Fresco… \nMundos de Mestizaje by Frederico Vigil is a mural housed in the Torreón on the campus of the National Hispanic Cultural Center. This monumental fresco depicts thousands of years of Hispanic history highlighting diverse cultural connections between people and places from the Iberian Peninsula to the Americas. The 4\,000 square foot painting is one of the largest frescos in North America. \nThe digitized imagery of the painting ensures that this culturally significant work can be a sharing and learning experience for students and families anywhere. We invite you to explore the imagery\, history and complexities of the Mundos de Mestizaje mural. \nDiscover on your own by clicking the link HERE. (It may take a moment to load.  Microsoft Internet Explorer is NOT recommended.  Best experienced with Safari\, Firefox or Chrome.) Free
URL:https://nhccnm.org/event/mundos-de-mestizaje-38/
LOCATION:NHCC Torreón\, 1701 4th street SW\, Albuquerque\, NM\, 87102\, United States
CATEGORIES:Visual Arts,Workshops
ATTACH;FMTTYPE=image/jpeg:https://nhccnm.org/wp-content/uploads/2017/08/Torreon.jpg
END:VEVENT
BEGIN:VEVENT
DTSTART;VALUE=DATE:20181208
DTEND;VALUE=DATE:20181209
DTSTAMP:20260422T180428
CREATED:20181011T212044Z
LAST-MODIFIED:20181011T212044Z
UID:5591-1544227200-1544313599@nhccnm.org
SUMMARY:¡Iluminarte!
DESCRIPTION:¡ILUMINARTE! \nA Celebration of Luminarias/Farolitos and Illuminated Bike Parade\nUna celebración de farolitos/luminarias y Desfile de bicicletas illuminadas \nA partnership between the National Hispanic Cultural Center (NHCC)\, Storyriders (Dolores Gonzales\, Valle Vista and Hawthorne Elementary Schools)\, and Artful Life. \nThe National Hispanic Cultural Center (NHCC) is happy to present “Iluminarte!” on Saturday\, December 8\, 2018\, a one day celebration of the small paper bag lanterns with sand and candles that some call “farolitos ” and others call “luminarias”–a New Mexico tradition. Join us in the Barelas neighborhood of Albuquerque for something unusual and very special. \nAll events are free and open to the public and take place at the National Hispanic Cultural Center. \n1701 4th St. SW\, Albuquerque\, NM 87102 \nSCHEDULE \nSaturday\, December 8\, 2018 \nAll events are free and open to the public and take place in the History and Literary Arts Building at the NHCC. \n3-4 pm:  Talk: Enrique Lamadrid\, “Luminaria or Farolito? History/Legends/Myths of the Little Brown Bag with a Candle and Sand”.\nFree bicycle clinic with Esperanza. \n4-7 pm: “Luminarte” workshop — make your own luminaria/farolito work of art with Sara Daniele Rivera.\nPop Fizz open for dinner.\nPurchase t-shirts in the NHCC Library. \n4:30 pm:  Start of the illuminated bicycle parade/desfile de bicicletas illuminadas\, led by Storyriders students. The short ride is open to the public and will go along the Paseo del Bosque Trail. Arrive at 4 pm at the NW corner of the NHCC parking lot to start the ride at 4:30. Wear your “Team Farolito” or “Team Luminaria” t-shirt and adorn your helmet/bike/self with lights. \n5:30 pm:  Cyclists arrive at the NHCC plaza. Riders parade in a pattern in front of the pyramid steps. After the ride\, cyclists can park their bikes with a free Esperanza bike valet in the Salon Ortega patio courtyard. \n6 pm: Indoor events – free and open to the public. \n\nYouth iluminarte and writing on display.\nRefreshments: hot chocolate\, warm cider\, and biscochitos.\nRead luminaria/farolito stories with and to your children.\n\n7:00:   Warm up with hot chocolate\, warm cider\, and biscochitos in the Salon Ortega.\nCommunity story-sharing — tell your stories about luminarias and farolitos.\nMeet and greet with young artists/writers. \nPurchase your  “Team Luminaria” and “Team Farolito” T-shirts here. \nRegister for the bike parade here. \nFor more information\, contact valerie.martinez@state.nm.us\, 505-383-4724 \n \n  \n 
URL:https://nhccnm.org/event/iluminarte/
LOCATION:NM
CATEGORIES:History and Literary Arts
ATTACH;FMTTYPE=:
END:VEVENT
BEGIN:VEVENT
DTSTART;VALUE=DATE:20181208
DTEND;VALUE=DATE:20181210
DTSTAMP:20260422T180428
CREATED:20180914T215506Z
LAST-MODIFIED:20180914T215506Z
UID:5456-1544227200-1544399999@nhccnm.org
SUMMARY:Performers Ballet & Jazz Company Presents Christmas Joy (Rental)
DESCRIPTION:1 pm & 5 pm—Saturday\n 2 pm—Sunday \nCome…. Experience the Miracle! Awaken your heart to the true Spirit of Christmas in dance\, as The Performers Ballet & Jazz Company presents the 34th season of its Bravos Award-winning holiday production\, Christmas Joy. Over fifty classically trained dancers will once again inspire audiences with a repertoire of moving and inspirational classical ballet\, jazz\, and contemporary dance performances choreographed to traditional and contemporary Christmas music. \nA moving and uplifting production\, Christmas Joy has become an Albuquerque holiday tradition. In 1999\, members of the Albuquerque Arts Alliance conferred the Bravos Award for Dance Excellence on The Performers Ballet & Jazz Company. Additionally\, in 2012\, Christmas Joy was given the Albuquerque Community Live Art and Performance Service (Q-Claps) Applause Award for favorite performance.\n$25\, $33 with a $2 discount for students\, seniors and NHCC members \n\nThe title\, content\, photos/images and description for this event were provided to the NHCC by the organization renting the NHCC venue for the event. By serving as a venue and posting the event on its website\, the NHCC is not endorsing any views expressed in the title or description of the event\, nor is it endorsing the content of the event.
URL:https://nhccnm.org/event/christmas-joy-rental-2/
LOCATION:Roy E. Disney Center for Performing Arts: Albuquerque Journal Theatre\, 1701 4th St SW\, Albuquerque\, NM\, 87102
CATEGORIES:Dance,Performing Arts,Seasonal Events,Theatre
END:VEVENT
BEGIN:VEVENT
DTSTART;VALUE=DATE:20181208
DTEND;VALUE=DATE:20181210
DTSTAMP:20260422T180428
CREATED:20181019T175053Z
LAST-MODIFIED:20181019T175053Z
UID:5609-1544227200-1544399999@nhccnm.org
SUMMARY:Mundos de Mestizaje
DESCRIPTION:12 pm to 5 pm \nA Vision of History through Fresco… \nMundos de Mestizaje by Frederico Vigil is a mural housed in the Torreón on the campus of the National Hispanic Cultural Center. This monumental fresco depicts thousands of years of Hispanic history highlighting diverse cultural connections between people and places from the Iberian Peninsula to the Americas. The 4\,000 square foot painting is one of the largest frescos in North America. \nThe digitized imagery of the painting ensures that this culturally significant work can be a sharing and learning experience for students and families anywhere. We invite you to explore the imagery\, history and complexities of the Mundos de Mestizaje mural. \nDiscover on your own by clicking the link HERE. (It may take a moment to load.  Microsoft Internet Explorer is NOT recommended.  Best experienced with Safari\, Firefox or Chrome.) Free
URL:https://nhccnm.org/event/mundos-de-mestizaje-47/
LOCATION:NHCC Torreón\, 1701 4th street SW\, Albuquerque\, NM\, 87102\, United States
CATEGORIES:Education,Visual Arts,Workshops
ATTACH;FMTTYPE=image/jpeg:https://nhccnm.org/wp-content/uploads/2017/08/Torreon.jpg
END:VEVENT
BEGIN:VEVENT
DTSTART;VALUE=DATE:20181211
DTEND;VALUE=DATE:20181212
DTSTAMP:20260422T180428
CREATED:20181119T203537Z
LAST-MODIFIED:20181119T203537Z
UID:5693-1544486400-1544572799@nhccnm.org
SUMMARY:Nuevomexicana/o Baby Boomers:  Stories and Histories
DESCRIPTION:12:30 pm to 2:30 pm \nJoin us for a presentation by University of New Mexico students and professors Anna Nogar\, Department of Spanish and Portuguese and Myrriah Gómez\, Honors College who are collecting oral histories of Nuevo/Mexicana/o Baby Boomers. Students will present video excerpts of their interviews in which New Mexicans (born between 1945 and 1966) talk about family\, identity\, spirituality\, history\, culture and much more. Presented by the NHCC in partnership with UNM\nFree and open to the public \nPhoto Brown Beret Women by Oscar Castillo
URL:https://nhccnm.org/event/nuevomexicana-o-baby-boomers-stories-and-histories/
LOCATION:NHCC-Newsletter-August-11-–-24
CATEGORIES:History and Literary Arts
ATTACH;FMTTYPE=image/jpeg:https://nhccnm.org/wp-content/uploads/2018/11/boomers.2.jpg
END:VEVENT
BEGIN:VEVENT
DTSTART;VALUE=DATE:20181214
DTEND;VALUE=DATE:20181217
DTSTAMP:20260422T180428
CREATED:20180711T202201Z
LAST-MODIFIED:20180711T202201Z
UID:5246-1544745600-1545004799@nhccnm.org
SUMMARY:Nutcracker Ballet in the Land of Enchantment
DESCRIPTION:7 pm—Friday\, Saturday & Sunday\n2 pm—Saturday & Sunday \nFestival Ballet Albuquerque is partnering with the National Hispanic Cultural Center to present an original production\, The Nutcracker Ballet in the Land of Enchantment\, choreographed by Patricia Dickinson Wells. The beloved holiday classic is transported to territorial New Mexico in the late 1800s\, with added elements of the state’s heritage and traditions including Spanish dancers\, southwestern snakes\, sheep and shepherdesses\, a lively fandango\, a storyteller doll with children\, and lavish Victorian-era western costumes. Now in its 8th year at the NHCC\, the production showcases New Mexico heritage and traditions while maintaining the classical grace and family appeal of its origins. A live orchestra performs under the baton of Maestro Guillermo Figueroa\, former music director of the New Mexico Symphony Orchestra and an internationally renowned conductor and violinist who was a 2012 Latin Grammy nominee. Purchase tickets early—last year’s performances sold out!\n$14\, $20\, $29\, $38\, $47 w/ $2 off for seniors\, children and NHCC Members. Group rates available \nThank you to our Performing Arts Season Sponsors Heritage Hotels and Resorts\, the Albuquerque Journal and Southwest Airlines!
URL:https://nhccnm.org/event/nutcracker-ballet-land-enchantment-2/
LOCATION:Roy E. Disney Center for Performing Arts: Albuquerque Journal Theatre\, 1701 4th St SW\, Albuquerque\, NM\, 87102
CATEGORIES:Dance,Music,Performing Arts,Theatre
ATTACH;FMTTYPE=image/jpeg:https://nhccnm.org/wp-content/uploads/2015/05/nutcracker-in-the-land-of-enchantment-calendar.jpg
END:VEVENT
BEGIN:VEVENT
DTSTART;VALUE=DATE:20181215
DTEND;VALUE=DATE:20181216
DTSTAMP:20260422T180428
CREATED:20181128T180812Z
LAST-MODIFIED:20181128T180812Z
UID:5714-1544832000-1544918399@nhccnm.org
SUMMARY:La Canoa: The Nuclear Option: Perpetuating the Myth of New Mexico as Wasteland
DESCRIPTION:2 pm \nPlease join UNM Assistant Professor Myrriah Gómez for a presentation on New Mexico and the nuclear option. Long before the nuclear industrial complex began in here in 1942\, New Mexico was depicted by outsiders as a “wasteland.” In an effort to combat that historical portrayal\, the New Mexico Bureau of Immigration issued Aztlán: The History\, Resources and Attractions of New Mexico in 1885\, a book that was used to recruit Anglos to New Mexico in an effort to shift the racial and ethnic demographics so as to earn statehood. Building on Anglo rhetoric from the 19th century\, the federal government continues to use the same arguments to convert New Mexico into the premier repository for the nation’s nuclear waste. This talk will discuss the rearticulationof New Mexico as a nuclear wasteland in the 20th and 21st centuries. \nMyrriah Gómez is a Nuevo Mexicana from the Pojoaque Valley. She is an Assistant Professor in the Honors College at the University of New Mexico. Myrriah’s current book project\, NuclearNuevo México: Identity\, Ethnicity\, and Resistance in Atomic Third Spaces\, examines the effects of the nuclear industry on people of color in New Mexico.
URL:https://nhccnm.org/event/the-nuclear-option-perpetuating-the-myth-of-new-mexico-as-wasteland/
LOCATION:NHCC-Newsletter-August-26–September-7
CATEGORIES:History and Literary Arts,Speakers
ATTACH;FMTTYPE=image/jpeg:https://nhccnm.org/wp-content/uploads/2018/11/mg7smaller.jpg
END:VEVENT
BEGIN:VEVENT
DTSTART;VALUE=DATE:20181215
DTEND;VALUE=DATE:20181217
DTSTAMP:20260422T180428
CREATED:20181019T175236Z
LAST-MODIFIED:20181019T175236Z
UID:5610-1544832000-1545004799@nhccnm.org
SUMMARY:Mundos de Mestizaje
DESCRIPTION:12 pm to 5 pm \nA Vision of History through Fresco… \nMundos de Mestizaje by Frederico Vigil is a mural housed in the Torreón on the campus of the National Hispanic Cultural Center. This monumental fresco depicts thousands of years of Hispanic history highlighting diverse cultural connections between people and places from the Iberian Peninsula to the Americas. The 4\,000 square foot painting is one of the largest frescos in North America. \nThe digitized imagery of the painting ensures that this culturally significant work can be a sharing and learning experience for students and families anywhere. We invite you to explore the imagery\, history and complexities of the Mundos de Mestizaje mural. \nDiscover on your own by clicking the link HERE. (It may take a moment to load.  Microsoft Internet Explorer is NOT recommended.  Best experienced with Safari\, Firefox or Chrome.) Free
URL:https://nhccnm.org/event/mundos-de-mestizaje-48/
LOCATION:NHCC Torreón\, 1701 4th street SW\, Albuquerque\, NM\, 87102\, United States
CATEGORIES:Education,Visual Arts,Workshops
ATTACH;FMTTYPE=image/jpeg:https://nhccnm.org/wp-content/uploads/2017/08/Torreon.jpg
END:VEVENT
BEGIN:VEVENT
DTSTART;VALUE=DATE:20181222
DTEND;VALUE=DATE:20181223
DTSTAMP:20260422T180428
CREATED:20181019T175557Z
LAST-MODIFIED:20181019T175557Z
UID:5611-1545436800-1545523199@nhccnm.org
SUMMARY:Mundos de Mestizaje
DESCRIPTION:12 pm to 5 pm \nA Vision of History through Fresco… \nMundos de Mestizaje by Frederico Vigil is a mural housed in the Torreón on the campus of the National Hispanic Cultural Center. This monumental fresco depicts thousands of years of Hispanic history highlighting diverse cultural connections between people and places from the Iberian Peninsula to the Americas. The 4\,000 square foot painting is one of the largest frescos in North America. \nThe digitized imagery of the painting ensures that this culturally significant work can be a sharing and learning experience for students and families anywhere. We invite you to explore the imagery\, history and complexities of the Mundos de Mestizaje mural. \nDiscover on your own by clicking the link HERE.(It may take a moment to load.  Microsoft Internet Explorer is NOT recommended.  Best experienced with Safari\, Firefox or Chrome.)Free
URL:https://nhccnm.org/event/mundos-de-mestizaje-49/
LOCATION:NHCC Torreón\, 1701 4th street SW\, Albuquerque\, NM\, 87102\, United States
CATEGORIES:Education,Visual Arts
ATTACH;FMTTYPE=image/jpeg:https://nhccnm.org/wp-content/uploads/2017/08/Torreon.jpg
END:VEVENT
END:VCALENDAR