BEGIN:VCALENDAR
VERSION:2.0
PRODID:-// - ECPv6.15.14//NONSGML v1.0//EN
CALSCALE:GREGORIAN
METHOD:PUBLISH
X-ORIGINAL-URL:https://nhccnm.org
X-WR-CALDESC:Events for 
REFRESH-INTERVAL;VALUE=DURATION:PT1H
X-Robots-Tag:noindex
X-PUBLISHED-TTL:PT1H
BEGIN:VTIMEZONE
TZID:America/Denver
BEGIN:DAYLIGHT
TZOFFSETFROM:-0700
TZOFFSETTO:-0600
TZNAME:MDT
DTSTART:20180311T090000
END:DAYLIGHT
BEGIN:STANDARD
TZOFFSETFROM:-0600
TZOFFSETTO:-0700
TZNAME:MST
DTSTART:20181104T080000
END:STANDARD
BEGIN:DAYLIGHT
TZOFFSETFROM:-0700
TZOFFSETTO:-0600
TZNAME:MDT
DTSTART:20190310T090000
END:DAYLIGHT
BEGIN:STANDARD
TZOFFSETFROM:-0600
TZOFFSETTO:-0700
TZNAME:MST
DTSTART:20191103T080000
END:STANDARD
BEGIN:DAYLIGHT
TZOFFSETFROM:-0700
TZOFFSETTO:-0600
TZNAME:MDT
DTSTART:20200308T090000
END:DAYLIGHT
BEGIN:STANDARD
TZOFFSETFROM:-0600
TZOFFSETTO:-0700
TZNAME:MST
DTSTART:20201101T080000
END:STANDARD
BEGIN:DAYLIGHT
TZOFFSETFROM:-0700
TZOFFSETTO:-0600
TZNAME:MDT
DTSTART:20210314T090000
END:DAYLIGHT
BEGIN:STANDARD
TZOFFSETFROM:-0600
TZOFFSETTO:-0700
TZNAME:MST
DTSTART:20211107T080000
END:STANDARD
BEGIN:DAYLIGHT
TZOFFSETFROM:-0700
TZOFFSETTO:-0600
TZNAME:MDT
DTSTART:20220313T090000
END:DAYLIGHT
BEGIN:STANDARD
TZOFFSETFROM:-0600
TZOFFSETTO:-0700
TZNAME:MST
DTSTART:20221106T080000
END:STANDARD
END:VTIMEZONE
BEGIN:VEVENT
DTSTART;VALUE=DATE:20190719
DTEND;VALUE=DATE:20200101
DTSTAMP:20260420T201518
CREATED:20190411T141013Z
LAST-MODIFIED:20190411T141013Z
UID:5985-1563494400-1577836799@nhccnm.org
SUMMARY:Camina el Autor: The Iconography of Felipe Guamán Poma de Ayala\, Peruvian/Quechuan Chronicler
DESCRIPTION:Camina el Autor showcases the extraordinary work of Guaman Poma; explores the history of the indigenous people of Peru\, Andean civilization\, and Spanish conquest; and broadens our understanding of Peruvian culture and history.The digital images and accompanying texts have been provided to the NHCC by the Peruvian Ministry of Foreign Affairs\, with assistance from the Consulate General of Peru in Denver. The NHCC has curated these (398 fullpage drawings) to present a vibrant and informative exhibit that encourages learning\, discovery\, and contemplation. Exhibit programming will include talks and lectures; book readings; graphic novel\, zine\, and animation workshops for teens; bilingual story hours; and more. \nFor more information\, contact: Cassandra Osterloh\, NHCC Librarian\, cassandra.osterloh@state.nm.us\, (505) 383-4708. \nThis exhibit is free and open to the public during hours of operation.
URL:https://nhccnm.org/event/the-iconography-of-felipe-huaman-poma-de-ayala-peruvian-quechuan-chronicler/
LOCATION:History and Literary Arts Building
CATEGORIES:History and Literary Arts
ATTACH;FMTTYPE=image/jpeg:https://nhccnm.org/wp-content/uploads/2019/04/FeaturedImage.jpg
END:VEVENT
BEGIN:VEVENT
DTSTART;VALUE=DATE:20190906
DTEND;VALUE=DATE:20210217
DTSTAMP:20260420T201518
CREATED:20181221T170332Z
LAST-MODIFIED:20181221T170332Z
UID:5998-1567728000-1613519999@nhccnm.org
SUMMARY:El Perú: Art in the Contemporary Past
DESCRIPTION:El Perú: Art in the Contemporary Past\, aims to break down stereotypes of what visitors expect to see in a “Peruvian art exhibit.”  The exhibit celebrates the work of  artists Baldomero Alejos (1924-1976) a photographer from Ayacucho; Ana de Orbegoso\, a multimedia artist inspired by the Cuzco School\, Pre-Colombian pottery and Peruvian history and identity; Kukuli Velarde\, a ceramicist who addresses class racism\, and exclusion  in her ceramics\, and Lorry Salcedo\, a photographer whose striking black and white images connect the Peruvian past to its present.   Each artist explores the Peruvian pre-colonial and colonial past while addressing race\, class and inclusion in the contemporary present.  Works include photography\, sculpture\, ceramics\, painting\, and multimedia in juxtaposition with examples of their historical antecedents.
URL:https://nhccnm.org/event/el-peru-art-in-the-contemporary-past/
LOCATION:September-2019-Board-Meeting-Minutes
CATEGORIES:Exhibitions,Visual Arts
ATTACH;FMTTYPE=image/jpeg:https://nhccnm.org/wp-content/uploads/2019/07/HomeBanner.EP_.jpg
END:VEVENT
BEGIN:VEVENT
DTSTART;VALUE=DATE:20191005
DTEND;VALUE=DATE:20191006
DTSTAMP:20260420T201518
CREATED:20181229T211352Z
LAST-MODIFIED:20181229T211352Z
UID:6058-1570233600-1570319999@nhccnm.org
SUMMARY:¡Vamos al Museo!
DESCRIPTION:10:30 am to 12 pm \nA great morning of art-making for children of all ages and families of all sizes. A visit to the museum is included in this artist-led workshop. We will meet in the Creative Classroom in the Pete V. Domenici Building. \nPlease pre-register HERE (so we know how many materials to prepare) \nFor more information please call or email Elena Baca at 505-246-2261 or ElenaD.Baca@state.nm.us\nFree\, $5 donations are encouraged to support the artists & purchase supplies
URL:https://nhccnm.org/event/vamos-al-museo-34/
LOCATION:NM
CATEGORIES:Education,School and Youth Programs,Visual Arts,Workshops
ATTACH;FMTTYPE=image/jpeg:https://nhccnm.org/wp-content/uploads/2018/05/VAM-2017-BannerLogo.jpg
END:VEVENT
BEGIN:VEVENT
DTSTART;VALUE=DATE:20191005
DTEND;VALUE=DATE:20191007
DTSTAMP:20260420T201518
CREATED:20190605T192909Z
LAST-MODIFIED:20190605T192909Z
UID:7342-1570233600-1570406399@nhccnm.org
SUMMARY:Mundos de Mestizaje
DESCRIPTION:12 pm to 5 pm \nA Vision of History through Fresco… \nMundos de Mestizaje by Frederico Vigil is a mural housed in the Torreón on the campus of the National Hispanic Cultural Center. This monumental fresco depicts thousands of years of Hispanic history highlighting diverse cultural connections between people and places from the Iberian Peninsula to the Americas. The 4\,000 square foot painting is one of the largest frescos in North America. \nThe digitized imagery of the painting ensures that this culturally significant work can be a sharing and learning experience for students and families anywhere. We invite you to explore the imagery\, history and complexities of the Mundos de Mestizaje mural. \nDiscover on your own by clicking the link HERE.\n(It may take a moment to load.  Microsoft Internet Explorer is NOT recommended.  Best experienced with Safari\, Firefox or Chrome.)\nFree
URL:https://nhccnm.org/event/mundos-de-mestizaje-88/
LOCATION:NHCC Torreón\, 1701 4th street SW\, Albuquerque\, NM\, 87102\, United States
CATEGORIES:History and Literary Arts,Visual Arts
ATTACH;FMTTYPE=image/jpeg:https://nhccnm.org/wp-content/uploads/2017/08/Torreon.jpg
END:VEVENT
BEGIN:VEVENT
DTSTART;VALUE=DATE:20191006
DTEND;VALUE=DATE:20191007
DTSTAMP:20260420T201518
CREATED:20190715T170947Z
LAST-MODIFIED:20190715T170947Z
UID:7624-1570320000-1570406399@nhccnm.org
SUMMARY:Who We Are\, Together: NM Families Project Presentation for C De Baca
DESCRIPTION:2-4 pm \nThis project engaged 2-3 generations of seven NM families in testing their DNA and researching their family lineage with the help of the NHCC and experts in the field. For seven Sundays these families will present what they learned about who they are\, where they are\, where they came from\, and from whom they descend\, followed by dialogue. Join us to explore the diverse heritage and history of NM through our families: who we are\, together. \nFor this presentation\, hear more about the histories of the family C De Baca. \nOther presentation dates below: \nOct. 20\, 2-4 pm: Lopez\, Fraga\, Liomas and Gomez\nNov. 3\, 2-4 pm: Martinez and Tafoya \nPlease RSVP as space is limited: http://bit.ly/2WFltQa
URL:https://nhccnm.org/event/who-we-are-together-nm-families-project-presentation-for-c-de-baca/
LOCATION:History and Literary Arts Building
CATEGORIES:History and Literary Arts
ATTACH;FMTTYPE=image/jpeg:https://nhccnm.org/wp-content/uploads/2019/07/FeatureImage.DNA_.Tree_.jpg
END:VEVENT
BEGIN:VEVENT
DTSTART;VALUE=DATE:20191012
DTEND;VALUE=DATE:20191014
DTSTAMP:20260420T201518
CREATED:20190605T193025Z
LAST-MODIFIED:20190605T193025Z
UID:7344-1570838400-1571011199@nhccnm.org
SUMMARY:Mundos de Mestizaje
DESCRIPTION:12 pm to 5 pm \nA Vision of History through Fresco… \nMundos de Mestizaje by Frederico Vigil is a mural housed in the Torreón on the campus of the National Hispanic Cultural Center. This monumental fresco depicts thousands of years of Hispanic history highlighting diverse cultural connections between people and places from the Iberian Peninsula to the Americas. The 4\,000 square foot painting is one of the largest frescos in North America. \nThe digitized imagery of the painting ensures that this culturally significant work can be a sharing and learning experience for students and families anywhere. We invite you to explore the imagery\, history and complexities of the Mundos de Mestizaje mural. \nDiscover on your own by clicking the link HERE.\n(It may take a moment to load.  Microsoft Internet Explorer is NOT recommended.  Best experienced with Safari\, Firefox or Chrome.)\nFree
URL:https://nhccnm.org/event/mundos-de-mestizaje-89/
LOCATION:NHCC Torreón\, 1701 4th street SW\, Albuquerque\, NM\, 87102\, United States
CATEGORIES:History and Literary Arts,Visual Arts
ATTACH;FMTTYPE=image/jpeg:https://nhccnm.org/wp-content/uploads/2019/06/NHCC-Torreon-Fresco-3-16-dm-4SMALL.jpg
END:VEVENT
BEGIN:VEVENT
DTSTART;VALUE=DATE:20191018
DTEND;VALUE=DATE:20191019
DTSTAMP:20260420T201518
CREATED:20181229T214205Z
LAST-MODIFIED:20181229T214205Z
UID:6083-1571356800-1571443199@nhccnm.org
SUMMARY:Colcha Community Stitch-Along
DESCRIPTION:9:30 am – 12 pm \nJoin our monthly gathering for colcheras of all skill levels led by Annette Gutierrez Turk. If you are beginning or advanced in the traditional New Mexican style of embroidery\, bring your current colcha project along and enjoy these monthly\, informal\, community work sessions to share ideas\, resources and encouragement! \nFor more information\, call Elena at 505-246-2261 or e-mailing elenad.baca@state.nm.us.Free event \nFacilitated by Sandia Mountains Chapter-EGA
URL:https://nhccnm.org/event/colcha-community-stitch-along-28/
LOCATION:Domenici Education Building\, 1701 4th Street SW\, Albuquerque\, NM\, 87102
CATEGORIES:Education,Workshops
ATTACH;FMTTYPE=image/jpeg:https://nhccnm.org/wp-content/uploads/2016/02/Colcha-Embroidery-graphic.2-08-26-2015.jpg
END:VEVENT
BEGIN:VEVENT
DTSTART;VALUE=DATE:20191019
DTEND;VALUE=DATE:20191020
DTSTAMP:20260420T201518
CREATED:20190626T142806Z
LAST-MODIFIED:20190626T142806Z
UID:7508-1571443200-1571529599@nhccnm.org
SUMMARY:Book Reading and Signing: Refugees\, Rivers and Rebels with Renny Golden
DESCRIPTION:6 pm \nThis presentation will feature poets Sen. Bill O’Neill\, Margaret Randall\, Damien Flores and Renny Golden. \nRenny Golden’s The Music of Her Rivers pays homage to the Rio Grande and Illinois Rivers. Sharp-eyed and empathetic\, Golden serves as a witness\, documenting place\, history\, and people\, especially those left voiceless due to violence or discrimination—from the refugee border crossers of the Rio Grande to the Irish immigrants and former slaves struggling to build lives in Chicago in the late 19th and early 20th centuries. \nThis event is free and open to the public. 
URL:https://nhccnm.org/event/book-reading-and-signing-refugees-rivers-and-rebels-with-renny-golden/
LOCATION:September-2019-Board-Meeting-Minutes
CATEGORIES:History and Literary Arts,Speakers
ATTACH;FMTTYPE=image/jpeg:https://nhccnm.org/wp-content/uploads/2019/06/UNM-cover.jpg
END:VEVENT
BEGIN:VEVENT
DTSTART;VALUE=DATE:20191019
DTEND;VALUE=DATE:20191021
DTSTAMP:20260420T201518
CREATED:20190605T193137Z
LAST-MODIFIED:20190605T193137Z
UID:7346-1571443200-1571615999@nhccnm.org
SUMMARY:Mundos de Mestizaje
DESCRIPTION:12 pm to 5 pm \nA Vision of History through Fresco… \nMundos de Mestizaje by Frederico Vigil is a mural housed in the Torreón on the campus of the National Hispanic Cultural Center. This monumental fresco depicts thousands of years of Hispanic history highlighting diverse cultural connections between people and places from the Iberian Peninsula to the Americas. The 4\,000 square foot painting is one of the largest frescos in North America. \nThe digitized imagery of the painting ensures that this culturally significant work can be a sharing and learning experience for students and families anywhere. We invite you to explore the imagery\, history and complexities of the Mundos de Mestizaje mural. \nDiscover on your own by clicking the link HERE.\n(It may take a moment to load.  Microsoft Internet Explorer is NOT recommended.  Best experienced with Safari\, Firefox or Chrome.)\nFree
URL:https://nhccnm.org/event/mundos-de-mestizaje-90/
LOCATION:NHCC Torreón\, 1701 4th street SW\, Albuquerque\, NM\, 87102\, United States
CATEGORIES:History and Literary Arts,Visual Arts
ATTACH;FMTTYPE=image/jpeg:https://nhccnm.org/wp-content/uploads/2019/06/NHCC-Torreon-Fresco-3-16-dm-4SMALL.jpg
END:VEVENT
BEGIN:VEVENT
DTSTART;VALUE=DATE:20191020
DTEND;VALUE=DATE:20191021
DTSTAMP:20260420T201518
CREATED:20190715T171054Z
LAST-MODIFIED:20190715T171054Z
UID:7626-1571529600-1571615999@nhccnm.org
SUMMARY:Who We Are\, Together: NM Families Project Presentation for Lopez\, Fraga\, Liomas and Gomez
DESCRIPTION:2-4 pm \nThis project engaged 2-3 generations of seven NM families in testing their DNA and researching their family lineage with the help of the NHCC and experts in the field. For seven Sundays these families will present what they learned about who they are\, where they are\, where they came from\, and from whom they descend\, followed by dialogue. Join us to explore the diverse heritage and history of NM through our families: who we are\, together. \nFor this presentation\, hear more about the histories of the families Lopez\, Fraga\, Liomas and Gomez. \nOther presentation dates below: \nNov. 3\, 2-4 pm: Martinez and Tafoya \nPlease RSVP as space is limited: http://bit.ly/2WFltQa
URL:https://nhccnm.org/event/who-we-are-together-nm-families-project-presentation-for-lopez-fraga-liomas-and-gomez/
LOCATION:NM
ATTACH;FMTTYPE=image/jpeg:https://nhccnm.org/wp-content/uploads/2019/07/FeatureImage.DNA_.Tree_.jpg
END:VEVENT
BEGIN:VEVENT
DTSTART;VALUE=DATE:20191026
DTEND;VALUE=DATE:20191028
DTSTAMP:20260420T201518
CREATED:20190605T193251Z
LAST-MODIFIED:20190605T193251Z
UID:7348-1572048000-1572220799@nhccnm.org
SUMMARY:Mundos de Mestizaje
DESCRIPTION:12 pm to 5 pm \nA Vision of History through Fresco… \nMundos de Mestizaje by Frederico Vigil is a mural housed in the Torreón on the campus of the National Hispanic Cultural Center. This monumental fresco depicts thousands of years of Hispanic history highlighting diverse cultural connections between people and places from the Iberian Peninsula to the Americas. The 4\,000 square foot painting is one of the largest frescos in North America. \nThe digitized imagery of the painting ensures that this culturally significant work can be a sharing and learning experience for students and families anywhere. We invite you to explore the imagery\, history and complexities of the Mundos de Mestizaje mural. \nDiscover on your own by clicking the link HERE.\n(It may take a moment to load.  Microsoft Internet Explorer is NOT recommended.  Best experienced with Safari\, Firefox or Chrome.)\nFree
URL:https://nhccnm.org/event/mundos-de-mestizaje-91/
LOCATION:NHCC Torreón\, 1701 4th street SW\, Albuquerque\, NM\, 87102\, United States
CATEGORIES:History and Literary Arts,Visual Arts
ATTACH;FMTTYPE=image/jpeg:https://nhccnm.org/wp-content/uploads/2019/06/NHCC-Torreon-Fresco-3-16-dm-4SMALL.jpg
END:VEVENT
END:VCALENDAR