BEGIN:VCALENDAR
VERSION:2.0
PRODID:-// - ECPv6.15.14//NONSGML v1.0//EN
CALSCALE:GREGORIAN
METHOD:PUBLISH
X-ORIGINAL-URL:https://nhccnm.org
X-WR-CALDESC:Events for 
REFRESH-INTERVAL;VALUE=DURATION:PT1H
X-Robots-Tag:noindex
X-PUBLISHED-TTL:PT1H
BEGIN:VTIMEZONE
TZID:America/Denver
BEGIN:DAYLIGHT
TZOFFSETFROM:-0700
TZOFFSETTO:-0600
TZNAME:MDT
DTSTART:20180311T090000
END:DAYLIGHT
BEGIN:STANDARD
TZOFFSETFROM:-0600
TZOFFSETTO:-0700
TZNAME:MST
DTSTART:20181104T080000
END:STANDARD
BEGIN:DAYLIGHT
TZOFFSETFROM:-0700
TZOFFSETTO:-0600
TZNAME:MDT
DTSTART:20190310T090000
END:DAYLIGHT
BEGIN:STANDARD
TZOFFSETFROM:-0600
TZOFFSETTO:-0700
TZNAME:MST
DTSTART:20191103T080000
END:STANDARD
BEGIN:DAYLIGHT
TZOFFSETFROM:-0700
TZOFFSETTO:-0600
TZNAME:MDT
DTSTART:20200308T090000
END:DAYLIGHT
BEGIN:STANDARD
TZOFFSETFROM:-0600
TZOFFSETTO:-0700
TZNAME:MST
DTSTART:20201101T080000
END:STANDARD
BEGIN:DAYLIGHT
TZOFFSETFROM:-0700
TZOFFSETTO:-0600
TZNAME:MDT
DTSTART:20210314T090000
END:DAYLIGHT
BEGIN:STANDARD
TZOFFSETFROM:-0600
TZOFFSETTO:-0700
TZNAME:MST
DTSTART:20211107T080000
END:STANDARD
BEGIN:DAYLIGHT
TZOFFSETFROM:-0700
TZOFFSETTO:-0600
TZNAME:MDT
DTSTART:20220313T090000
END:DAYLIGHT
BEGIN:STANDARD
TZOFFSETFROM:-0600
TZOFFSETTO:-0700
TZNAME:MST
DTSTART:20221106T080000
END:STANDARD
BEGIN:DAYLIGHT
TZOFFSETFROM:-0700
TZOFFSETTO:-0600
TZNAME:MDT
DTSTART:20230312T090000
END:DAYLIGHT
BEGIN:STANDARD
TZOFFSETFROM:-0600
TZOFFSETTO:-0700
TZNAME:MST
DTSTART:20231105T080000
END:STANDARD
BEGIN:DAYLIGHT
TZOFFSETFROM:-0700
TZOFFSETTO:-0600
TZNAME:MDT
DTSTART:20240310T090000
END:DAYLIGHT
BEGIN:STANDARD
TZOFFSETFROM:-0600
TZOFFSETTO:-0700
TZNAME:MST
DTSTART:20241103T080000
END:STANDARD
END:VTIMEZONE
BEGIN:VEVENT
DTSTART;VALUE=DATE:20190906
DTEND;VALUE=DATE:20210217
DTSTAMP:20260419T103446
CREATED:20181221T170332Z
LAST-MODIFIED:20181221T170332Z
UID:5998-1567728000-1613519999@nhccnm.org
SUMMARY:El Perú: Art in the Contemporary Past
DESCRIPTION:El Perú: Art in the Contemporary Past\, aims to break down stereotypes of what visitors expect to see in a “Peruvian art exhibit.”  The exhibit celebrates the work of  artists Baldomero Alejos (1924-1976) a photographer from Ayacucho; Ana de Orbegoso\, a multimedia artist inspired by the Cuzco School\, Pre-Colombian pottery and Peruvian history and identity; Kukuli Velarde\, a ceramicist who addresses class racism\, and exclusion  in her ceramics\, and Lorry Salcedo\, a photographer whose striking black and white images connect the Peruvian past to its present.   Each artist explores the Peruvian pre-colonial and colonial past while addressing race\, class and inclusion in the contemporary present.  Works include photography\, sculpture\, ceramics\, painting\, and multimedia in juxtaposition with examples of their historical antecedents.
URL:https://nhccnm.org/event/el-peru-art-in-the-contemporary-past/
LOCATION:September-2019-Board-Meeting-Minutes
CATEGORIES:Exhibitions,Visual Arts
ATTACH;FMTTYPE=image/jpeg:https://nhccnm.org/wp-content/uploads/2019/07/HomeBanner.EP_.jpg
END:VEVENT
BEGIN:VEVENT
DTSTART;VALUE=DATE:20200124
DTEND;VALUE=DATE:20200701
DTSTAMP:20260419T103446
CREATED:20191231T233852Z
LAST-MODIFIED:20191231T233852Z
UID:8715-1579824000-1593561599@nhccnm.org
SUMMARY:El Voto Femenino: Sufragistas Latinas luchando por el derecho al voto
DESCRIPTION:The National Hispanic Cultural Center’s History and Literary Arts Program presents a new exhibit\, “El voto femenino: Sufragistas Latinas luchando por el derecho al voto/The Women’s Vote: Latina Suffragists who Fought for the Right to Vote” which opens on Friday\, January 24\, 2020\, and runs through June 30\, 2020. \nThere will be a free opening reception on Friday\, January 24\, 2020\, from 6-8 pm in the historic History and Literary Arts (HLA) Building on the NHCC campus\, where the exhibit is on display. \nThe exhibit features women from 24 countries in the international Hispanic diaspora who were instrumental in women’s suffrage\, including Nina Otero Warren (New Mexico\, US)\, Bertha Lutz (Brazil)\, Mathilde Hidalgo de Procel (Ecuador)\, Elvia Carrillo Puerto (Mexico)\, Ofelia Domínguez Navarro (Cuba)\, Elena Caffarena (Chile)\, Josefa Llanes Escoda (Philippines) and Jovita Idar (Texas\, US). \n \nOrganized by decade and countries\, the exhibit features photographs\, narrative\, objects (including household items)\, books and documents that illuminate the fight for suffrage by Latinas worldwide. \nThe exhibit also features a companion piece\, “Pan American Unity\,” a mural in woodblock by Albuquerque artist Julianna Kirwin. Kirwin replaced Diego Rivera’s Founding Fathers (in one of the panels of his 1940 “Pan American Unity” mural in San Francisco) with powerful women in the Americas who have shaped its destiny: Berta Cáceres\, Ruth Bader Ginsberg\, Dolores Huerta\, Michelle Bachelet\, Joy Harjo\, Deb Haaland\, Isabel Allende\, Helen Cordero\, Emma Gonzalez and María Martínez. \nThe exhibit is free and open to the public during hours of operation in the HLA building: Tuesday-Friday from 8:30 am – 5:30 pm and the first Saturday of the month from 1-5 pm. \n“El voto femenino” also commemorates the centennial of the U.S. women’s vote which is being celebrated nationwide in 2020. Programming related to both to the exhibit and the centennial will take place in History and Literary Arts through June 30\, 2020.
URL:https://nhccnm.org/event/el-voto-feminino-exhibit/
LOCATION:History and Literary Arts Building
CATEGORIES:History and Literary Arts
ATTACH;FMTTYPE=image/jpeg:https://nhccnm.org/wp-content/uploads/2019/12/HomeBanner.Sufragistas-1.jpg
END:VEVENT
BEGIN:VEVENT
DTSTART;VALUE=DATE:20200228
DTEND;VALUE=DATE:20230918
DTSTAMP:20260419T103446
CREATED:20181218T204343Z
LAST-MODIFIED:20230927T205852Z
UID:8640-1582848000-1694995199@nhccnm.org
SUMMARY:Aquí Estamos: New Selections from the Permanent Collection
DESCRIPTION:NHCC Art Museum \nEvery few years\, the NHCC Art Museum refreshes its exhibit of artworks that showcase the breadth of the permanent collection. As always\, the artworks featured in Aquí Estamos are global in scope and reflect the complexity of the Hispanic experience demonstrating that there is no one way to create art that exemplifies what it means to be Hispanic\, Chicana/o\, Latinx\, and/or Latin American. \n \nArtists Include: \nAdriana GonzalesAlice Rahon \nAlora Cinllo \nAlvin Gill-Tapia \nAna Rosa Rivera Marrero \nAntonio Pérez (Ñiko) \nArthur López \nArturo Elizondo \nBarbara Carrasco \nCarlos Quinto Kemm \nCamilla Trujillo \nCarmela Martínez Álvarez \nCarmen Lomas Garza \nCatalina Delgado-Trunk \nCharles “Chaz” Bojórquez \nCharles Frésquez \nChristina “Tina” Fuentes \nChristopher Espinoza \nCisco Jimenez \nDavid Perez Escudero \nDeborah Rael-Buckley \nEddie Domínguez \nEduardo Muñoz Bachs \nEdward Gonzales \nElena Baca \nEmilio Lobato III \nEnrique Montenegro \nEric J. Garcia \nFanny Rabel \nGeorge T. López \nGlugio “Gronk” Nicandro \nGoldie Garcia \nIrene Aguilar Alcántara \nJaime Palacios \nJessamine Toste \nJesse Amado \nJocelyn Lorena Salaz \nJuanito Jimenez \nKarima Muyaes \nLawrence López Ortiz \nLiberty Gonzales \nLuisa Bacilio Elías \nLydia Gallegos \nMagali Lara \nMalaquias Montoya \nMargaret Herrera Chávez \nMarion C. Martinez \nMartha Varóz Ewing \nMónica Sosaya Halford \nNicholas Herrera \nOrlando Leyba \nPamela Enriquez-Courts \nPatrocinio Barela \nPaula Castillo \nPóla López \nRaul Gonzalez \nRay Martín Abeyta \nRené Zamora \nRon Mier \nScherezade Garcia \nSergio Moyano \nSergio Tapia \nValerie Roybal \nVerne Lucero \nVincent Campos \nVictoria Martinez-Rodgers
URL:https://nhccnm.org/event/aqui-estamos-new-selections-from-the-permanent-collection/
LOCATION:Visual Art Museum\, 1701 4th Street SW\, Albuquerque\, NM\, 87102\, United States
CATEGORIES:Exhibitions,Visual Arts
ATTACH;FMTTYPE=image/jpeg:https://nhccnm.org/wp-content/uploads/2019/12/400x600.AE2020.jpg
END:VEVENT
BEGIN:VEVENT
DTSTART;VALUE=DATE:20200404
DTEND;VALUE=DATE:20200405
DTSTAMP:20260419T103446
CREATED:20200114T214123Z
LAST-MODIFIED:20200114T214123Z
UID:8866-1585958400-1586044799@nhccnm.org
SUMMARY:¡Vamos al Museo!
DESCRIPTION:All events at the NHCC through April 9\, 2020 have been cancelled / postponed.\nPlease call the NHCC at 505-246-2261 for more information. \n10:30 am to 12 pm \nJoin us on the first Saturday of the month for a morning of art-making for children of all ages and families of all sizes. A visit to the museum is included in this NHCC staff and artist-led workshop. We will meet in the Creative Classroom in the Pete V. Domenici Building. \nPlease pre-register HERE (so we know how many materials to prepare) \nFor more information please call or email Elena Baca at 505-246-2261 or ElenaD.Baca@state.nm.us\nFree\, $5 donations are encouraged to support the artists & purchase supplies
URL:https://nhccnm.org/event/vamos-al-museo-37/
LOCATION:Domenici Education Building\, 1701 4th Street SW\, Albuquerque\, NM\, 87102
CATEGORIES:Education,School and Youth Programs,Visual Arts,Workshops
ATTACH;FMTTYPE=image/jpeg:https://nhccnm.org/wp-content/uploads/2018/05/VAM-2017-BannerLogo.jpg
END:VEVENT
BEGIN:VEVENT
DTSTART;VALUE=DATE:20200404
DTEND;VALUE=DATE:20200406
DTSTAMP:20260419T103446
CREATED:20191012T205648Z
LAST-MODIFIED:20191012T205648Z
UID:8210-1585958400-1586131199@nhccnm.org
SUMMARY:Mundos de Mestizaje
DESCRIPTION:All events at the NHCC through April 9\, 2020 have been cancelled / postponed.\nPlease call the NHCC at 505-246-2261 for more information. \n12 pm to 5 pm \nA Vision of History through Fresco… \nMundos de Mestizaje by Frederico Vigil is a mural housed in the Torreón on the campus of the National Hispanic Cultural Center. This monumental fresco depicts thousands of years of Hispanic history highlighting diverse cultural connections between people and places from the Iberian Peninsula to the Americas. The 4\,000 square foot painting is one of the largest frescos in North America. \nThe digitized imagery of the painting ensures that this culturally significant work can be a sharing and learning experience for students and families anywhere. We invite you to explore the imagery\, history and complexities of the Mundos de Mestizaje mural. \nDiscover on your own by clicking the link HERE.\n(It may take a moment to load.  Microsoft Internet Explorer is NOT recommended.  Best experienced with Safari\, Firefox or Chrome.)\nFree
URL:https://nhccnm.org/event/mundos-de-mestizaje-111/
LOCATION:NHCC Torreón\, 1701 4th street SW\, Albuquerque\, NM\, 87102\, United States
CATEGORIES:Education,Visual Arts
ATTACH;FMTTYPE=image/jpeg:https://nhccnm.org/wp-content/uploads/2019/06/NHCC-Torreon-Fresco-3-16-dm-4SMALL.jpg
END:VEVENT
BEGIN:VEVENT
DTSTART;VALUE=DATE:20200418
DTEND;VALUE=DATE:20200420
DTSTAMP:20260419T103446
CREATED:20191012T210624Z
LAST-MODIFIED:20191012T210624Z
UID:8214-1587168000-1587340799@nhccnm.org
SUMMARY:Mundos de Mestizaje
DESCRIPTION:All events at the NHCC through April 30\, 2020 have been cancelled / postponed.\nPlease call the NHCC at 505-246-2261 for more information. \n12 pm to 5 pm \nA Vision of History through Fresco… \nMundos de Mestizaje by Frederico Vigil is a mural housed in the Torreón on the campus of the National Hispanic Cultural Center. This monumental fresco depicts thousands of years of Hispanic history highlighting diverse cultural connections between people and places from the Iberian Peninsula to the Americas. The 4\,000 square foot painting is one of the largest frescos in North America. \nThe digitized imagery of the painting ensures that this culturally significant work can be a sharing and learning experience for students and families anywhere. We invite you to explore the imagery\, history and complexities of the Mundos de Mestizaje mural. \nDiscover on your own by clicking the link HERE.\n(It may take a moment to load.  Microsoft Internet Explorer is NOT recommended.  Best experienced with Safari\, Firefox or Chrome.)\nFree
URL:https://nhccnm.org/event/mundos-de-mestizaje-113/
LOCATION:NHCC Torreón\, 1701 4th street SW\, Albuquerque\, NM\, 87102\, United States
CATEGORIES:Education,Visual Arts
ATTACH;FMTTYPE=image/jpeg:https://nhccnm.org/wp-content/uploads/2019/06/NHCC-Torreon-Fresco-3-16-dm-4SMALL.jpg
END:VEVENT
BEGIN:VEVENT
DTSTART;VALUE=DATE:20200425
DTEND;VALUE=DATE:20200426
DTSTAMP:20260419T103446
CREATED:20181003T182256Z
LAST-MODIFIED:20181003T182256Z
UID:5543-1587772800-1587859199@nhccnm.org
SUMMARY:NHCC Children's Bilingual Book Festival
DESCRIPTION:All events at the NHCC through April 30\, 2020 have been cancelled / postponed.\nPlease call the NHCC at 505-246-2261 for more information. \n9 am to 5 pm \nThe Children’s Bilingual Book Festival takes place at the National Hispanic Cultural Center (NHCC) in April of each year and features K-6 books in Spanish and English and Native Languages in English. There are author readings\, a book fair\, student storytelling\, poetry performances\, workshops for teachers and parents\, and art and book-related activities for all ages\, including teens. Join us! \nVisit the festival website. \n \nOn Friday\, April 24 (school visits) and Saturday\, April 25\, 2020\, the National Hispanic Cultural Center (NHCC) in Albuquerque\, New Mexico\, hosts its second annual Children’s Bilingual Book Festival\, the only one of its kind in the U.S. that features children’s books in Spanish and English and Native languages and English.  \n​The focus on Spanish-English and Native Language-English books and authors makes this festival particularly meaningful and vibrant\, reflecting the identities of many children in New Mexico and the Southwest. We want to encourage children to see themselves in contemporary children’s literature as well as introduce a bilingual body of work to a wider audience. \n​The festival features author readings\, student storytelling\, a book fair\, workshops for parents and teachers\, and creative and book-related activities for young readers (K-6) and their families. \n​The festival is a partnership between the NHCC and the following partners:  Indian Pueblo Cultural Center\, Bookworks\, Artful Life\, The Public Library (City of Albuquerque)\, Dual Language Education of New Mexico (DLENM)\, REFORMA\, and UNM Press. \n​We would like to thank our generous donors\, the City of Albuquerque\, the BNSF Railway Foundation\, and French Funerals and Cremations\, for making the 2019 festival possible. \nFor more information\, please contact Valerie Martínez\, Director of History and Literary Arts\, National Hispanic Cultural Center: valerie.martinez@state.nm.us; 505-383-4724. \nCHECK OUT THE VIDEO FROM THE 2019 FESTIVAL HERE! \nSEE THE FULL PROGRAM FOR THE 2019 FESTIVAL HERE \n  \n  \n 
URL:https://nhccnm.org/event/nhcc-childrens-bilingual-book-festival/
LOCATION:History and Literary Arts Building
CATEGORIES:History and Literary Arts,School and Youth Programs
ATTACH;FMTTYPE=image/jpeg:https://nhccnm.org/wp-content/uploads/2018/10/Marwan.NHCC-BookFestival.9.24.18.REV_-scaled.jpg
END:VEVENT
BEGIN:VEVENT
DTSTART;VALUE=DATE:20200425
DTEND;VALUE=DATE:20200427
DTSTAMP:20260419T103446
CREATED:20191012T210742Z
LAST-MODIFIED:20191012T210742Z
UID:8216-1587772800-1587945599@nhccnm.org
SUMMARY:Mundos de Mestizaje
DESCRIPTION:All events at the NHCC through April 30\, 2020 have been cancelled / postponed.\nPlease call the NHCC at 505-246-2261 for more information. \n12 pm to 5 pm \nA Vision of History through Fresco… \nMundos de Mestizaje by Frederico Vigil is a mural housed in the Torreón on the campus of the National Hispanic Cultural Center. This monumental fresco depicts thousands of years of Hispanic history highlighting diverse cultural connections between people and places from the Iberian Peninsula to the Americas. The 4\,000 square foot painting is one of the largest frescos in North America. \nThe digitized imagery of the painting ensures that this culturally significant work can be a sharing and learning experience for students and families anywhere. We invite you to explore the imagery\, history and complexities of the Mundos de Mestizaje mural. \nDiscover on your own by clicking the link HERE.\n(It may take a moment to load.  Microsoft Internet Explorer is NOT recommended.  Best experienced with Safari\, Firefox or Chrome.)\nFree
URL:https://nhccnm.org/event/mundos-de-mestizaje-114/
LOCATION:NHCC Torreón\, 1701 4th street SW\, Albuquerque\, NM\, 87102\, United States
CATEGORIES:Education,Visual Arts
ATTACH;FMTTYPE=image/jpeg:https://nhccnm.org/wp-content/uploads/2019/06/NHCC-Torreon-Fresco-3-16-dm-4SMALL.jpg
END:VEVENT
END:VCALENDAR