BEGIN:VCALENDAR
VERSION:2.0
PRODID:-// - ECPv6.15.14//NONSGML v1.0//EN
CALSCALE:GREGORIAN
METHOD:PUBLISH
X-ORIGINAL-URL:https://nhccnm.org
X-WR-CALDESC:Events for 
REFRESH-INTERVAL;VALUE=DURATION:PT1H
X-Robots-Tag:noindex
X-PUBLISHED-TTL:PT1H
BEGIN:VTIMEZONE
TZID:America/Denver
BEGIN:DAYLIGHT
TZOFFSETFROM:-0700
TZOFFSETTO:-0600
TZNAME:MDT
DTSTART:20240310T090000
END:DAYLIGHT
BEGIN:STANDARD
TZOFFSETFROM:-0600
TZOFFSETTO:-0700
TZNAME:MST
DTSTART:20241103T080000
END:STANDARD
BEGIN:DAYLIGHT
TZOFFSETFROM:-0700
TZOFFSETTO:-0600
TZNAME:MDT
DTSTART:20250309T090000
END:DAYLIGHT
BEGIN:STANDARD
TZOFFSETFROM:-0600
TZOFFSETTO:-0700
TZNAME:MST
DTSTART:20251102T080000
END:STANDARD
BEGIN:DAYLIGHT
TZOFFSETFROM:-0700
TZOFFSETTO:-0600
TZNAME:MDT
DTSTART:20260308T090000
END:DAYLIGHT
BEGIN:STANDARD
TZOFFSETFROM:-0600
TZOFFSETTO:-0700
TZNAME:MST
DTSTART:20261101T080000
END:STANDARD
END:VTIMEZONE
BEGIN:VEVENT
DTSTART;VALUE=DATE:20251002
DTEND;VALUE=DATE:20251003
DTSTAMP:20260425T071922
CREATED:20250909T190822Z
LAST-MODIFIED:20250930T231720Z
UID:24083-1759363200-1759449599@nhccnm.org
SUMMARY:Reading: Yolanda Nava
DESCRIPTION:6:30 pm \n\nNHCC | Salón Ortega \nJoin us for a two-day reading and workshop event featuring author Yolanda Nava\, in celebration of her book Through The Dark. Through the Dark tells the remarkable true story of Nava’s fight with a mysterious illness that nearly claimed her life – eventually diagnosed as a rare autoimmune disease. Inspiring\, uplifting\, and transcendent in purpose\, Through The Dark reads like a gripping thriller as Nava conducts an investigation into her own life.  \n\n\nOn October 4\, the Center will host a workshop with Yolanda Nava at 10:00 am. Please register separately for both events. \nFree Community Event.
URL:https://nhccnm.org/event/reading-yolanda-nava/
LOCATION:Salón Ortega\, 1701 4th Street SW\, Albuquerque\, NM\, 87102
CATEGORIES:Book Club,History and Literary Arts,Speakers
ATTACH;FMTTYPE=image/png:https://nhccnm.org/wp-content/uploads/2025/09/Yolanda-Web.png
END:VEVENT
BEGIN:VEVENT
DTSTART;VALUE=DATE:20251011
DTEND;VALUE=DATE:20251012
DTSTAMP:20260425T071922
CREATED:20250917T201650Z
LAST-MODIFIED:20250925T184158Z
UID:24146-1760140800-1760227199@nhccnm.org
SUMMARY:Hispanic Genealogical Research Center of NM Speaker Series: Jack R Fox
DESCRIPTION:10:30 – 12:00 pm \nNHCC | Dominici Education Building / Rooms 122-124 \nThe Hispanic Genealogical Research Center of New Mexico welcomes Retired New Mexico Army National Guard Brigadier General Jack R. Fox for our October HGRC Speaker Series. General Fox will lead a discussion on “The Rough Riders of New Mexico\,” a nickname given to the 1st U.S. Volunteer Calvery Legendary Cowboy Regiment. The Men who served had to already have knowledge and experience capable on horseback and in shooting. One Half the unit came from New Mexico and recruited by Commander Theodore Roosevelt. Las Vegas\, New Mexico celebrates with a museum about “The Rough Riders of New Mexico” as the first regiments gathering place in 1899. \n“On June 24\, 1899\, on the one-year anniversary of the Battle of Las Gusaimas\, about a hundred soldiers who called themselves the Rough Riders gathered together to celebrate victory in the Spanish-American War. Where they gathered wasn’t as important as why.  But when it came time to organize such an event only one Old West town seemed appropriate: Las Vegas. \nYes\, Las Vegas. \nOnly this was not the Las Vegas built in the middle of the Nevada desert. That town’s reputation was still several decades away. \nNo\, this was the City of Las Vegas in the New Mexico territory.”         \n– By Ken Zurski
URL:https://nhccnm.org/event/hispanic-genealogical-research-center-of-nm-speaker-series-jack-r-fox/
LOCATION:Domenici Education Building\, 1701 4th Street SW\, Albuquerque\, NM\, 87102
CATEGORIES:Education,Speakers
ATTACH;FMTTYPE=image/jpeg:https://nhccnm.org/wp-content/uploads/2025/08/HGRC-Logo-1200x1200-1.jpg
END:VEVENT
END:VCALENDAR