BEGIN:VCALENDAR
VERSION:2.0
PRODID:-// - ECPv6.15.14//NONSGML v1.0//EN
CALSCALE:GREGORIAN
METHOD:PUBLISH
X-ORIGINAL-URL:https://nhccnm.org
X-WR-CALDESC:Events for 
REFRESH-INTERVAL;VALUE=DURATION:PT1H
X-Robots-Tag:noindex
X-PUBLISHED-TTL:PT1H
BEGIN:VTIMEZONE
TZID:America/Denver
BEGIN:DAYLIGHT
TZOFFSETFROM:-0700
TZOFFSETTO:-0600
TZNAME:MDT
DTSTART:20240310T090000
END:DAYLIGHT
BEGIN:STANDARD
TZOFFSETFROM:-0600
TZOFFSETTO:-0700
TZNAME:MST
DTSTART:20241103T080000
END:STANDARD
BEGIN:DAYLIGHT
TZOFFSETFROM:-0700
TZOFFSETTO:-0600
TZNAME:MDT
DTSTART:20250309T090000
END:DAYLIGHT
BEGIN:STANDARD
TZOFFSETFROM:-0600
TZOFFSETTO:-0700
TZNAME:MST
DTSTART:20251102T080000
END:STANDARD
BEGIN:DAYLIGHT
TZOFFSETFROM:-0700
TZOFFSETTO:-0600
TZNAME:MDT
DTSTART:20260308T090000
END:DAYLIGHT
BEGIN:STANDARD
TZOFFSETFROM:-0600
TZOFFSETTO:-0700
TZNAME:MST
DTSTART:20261101T080000
END:STANDARD
END:VTIMEZONE
BEGIN:VEVENT
DTSTART;VALUE=DATE:20251108
DTEND;VALUE=DATE:20251109
DTSTAMP:20260425T060043
CREATED:20250925T183947Z
LAST-MODIFIED:20250925T183947Z
UID:24149-1762560000-1762646399@nhccnm.org
SUMMARY:Hispanic Genealogical Research Center of NM Speaker Series: Linda Tigges PH.D.
DESCRIPTION:10:30 – 12:00 pm \nNHCC | Dominici Education Building / Rooms 122-124 \nThe Hispanic Genealogical Research Center of New Mexico welcomes Linda Tigges PH.D.. Author\, Historian\, Archivist Researcher\, Dr. Tigges’\, extensive research into New Mexico Spanish Colonial documents uncovered extensive and interesting topics and works published in her outstanding writings\, books and in presentations! \nWorking with translators of Spanish Colonial documents\, Linda Tigges\, PH.D. has published primary source materials which have been foundational in many fields of research. Over the past decade\, Linda’s works have assisted geneologists\, anthropoligists\, historians\, museum curators\, and novelists with accounts from original Spanish Colonial documents.  These documents tell the stories of New Mexico’s 18th century founders and settlers through their mishaps\, grievences\, complaints and outrageous behaviors. \nCome see and hold some of these historic objects! \n“Historical Artifacts/Materials: Metal Objects\, Tools Including a Sword from Civil War:” Historic objects hold stories from the times and lives of N.M. Past Eras!” \nFree community event
URL:https://nhccnm.org/event/hispanic-genealogical-research-center-of-nm-speaker-series-linda-tigges-ph-d/
LOCATION:Domenici Education Building\, 1701 4th Street SW\, Albuquerque\, NM\, 87102
CATEGORIES:Education,Speakers
ATTACH;FMTTYPE=image/jpeg:https://nhccnm.org/wp-content/uploads/2025/08/HGRC-Logo-1200x1200-1.jpg
END:VEVENT
BEGIN:VEVENT
DTSTART;VALUE=DATE:20251120
DTEND;VALUE=DATE:20251121
DTSTAMP:20260425T060043
CREATED:20250709T225711Z
LAST-MODIFIED:20250709T225711Z
UID:23656-1763596800-1763683199@nhccnm.org
SUMMARY:New Mexican Chicanas in the Spotlight: Chicana Feminism and Art in New Mexico
DESCRIPTION:6:00 to 7:00 pm \nHead to the NHCC Visual Art Museum for a conversation a Lecture and Q&A with Bernadine Hernández\, associate professor in the Department of English at the University of New Mexico. She will be introduced by Ray Hernández-Durán\, co-curator of the NHCC art exhibition Voces del Pueblo: Artists of the Levantamiento Chicano in New Mexico. \nFree Community Event. Please register using the link below. \nAbout the exhibition: Voces del Pueblo: Artists of the Levantamiento Chicano in New Mexico features a group of New Mexican artists who were among the earliest generation of Chicana and Chicano activists in the state. The artworks on display capture a distinctly New Mexican Chicana and Chicano experience that has received little attention in Chicano art history. Learn more at nhccnm.org/museum.
URL:https://nhccnm.org/event/new-mexican-chicanas-in-the-spotlight-chicana-feminism-and-art-in-new-mexico/
LOCATION:Visual Art Museum\, 1701 4th Street SW\, Albuquerque\, NM\, 87102\, United States
CATEGORIES:Speakers,Visual Arts
ATTACH;FMTTYPE=image/png:https://nhccnm.org/wp-content/uploads/2025/02/Voces-Web-Square.png
END:VEVENT
END:VCALENDAR