BEGIN:VCALENDAR
VERSION:2.0
PRODID:-// - ECPv6.15.14//NONSGML v1.0//EN
CALSCALE:GREGORIAN
METHOD:PUBLISH
X-ORIGINAL-URL:https://nhccnm.org
X-WR-CALDESC:Events for 
REFRESH-INTERVAL;VALUE=DURATION:PT1H
X-Robots-Tag:noindex
X-PUBLISHED-TTL:PT1H
BEGIN:VTIMEZONE
TZID:America/Denver
BEGIN:DAYLIGHT
TZOFFSETFROM:-0700
TZOFFSETTO:-0600
TZNAME:MDT
DTSTART:20180311T090000
END:DAYLIGHT
BEGIN:STANDARD
TZOFFSETFROM:-0600
TZOFFSETTO:-0700
TZNAME:MST
DTSTART:20181104T080000
END:STANDARD
BEGIN:DAYLIGHT
TZOFFSETFROM:-0700
TZOFFSETTO:-0600
TZNAME:MDT
DTSTART:20190310T090000
END:DAYLIGHT
BEGIN:STANDARD
TZOFFSETFROM:-0600
TZOFFSETTO:-0700
TZNAME:MST
DTSTART:20191103T080000
END:STANDARD
BEGIN:DAYLIGHT
TZOFFSETFROM:-0700
TZOFFSETTO:-0600
TZNAME:MDT
DTSTART:20200308T090000
END:DAYLIGHT
BEGIN:STANDARD
TZOFFSETFROM:-0600
TZOFFSETTO:-0700
TZNAME:MST
DTSTART:20201101T080000
END:STANDARD
END:VTIMEZONE
BEGIN:VEVENT
DTSTART;VALUE=DATE:20190202
DTEND;VALUE=DATE:20190203
DTSTAMP:20260424T052407
CREATED:20180713T212800Z
LAST-MODIFIED:20180713T212800Z
UID:5258-1549065600-1549151999@nhccnm.org
SUMMARY:Pimentel Concert Series: Manuel Barrueco
DESCRIPTION:7 pm \nLatin Grammy-nominated master guitarist Manuel Barrueco is internationally recognized as one of the most important guitarists of our time. His unique artistry is continually described as that of a superb instrumentalist and an elegant musician\, possessed of a seductive sound and uncommon lyrical gifts. Barrueco’s career has been dedicated to bringing the guitar to the main musical centers of the world. Over three decades\, he has performed across the United States from the New World Symphony in Miami to the Seattle Symphony\, and from the Hollywood Bowl with the Los Angeles Philharmonic to New York’s Lincoln Center. He has performed with the Philadelphia Orchestra and with the Boston Symphony under the direction of Seiji Ozawa\, in the American premiere of Toru Takemitsu’s To the Edge of Dream\, and also appears regularly with the Baltimore Symphony Orchestra and San Francisco Performances.\n$35\, $40\, $45 w/ $2 off for children\, seniors and NHCC members \n \nHighlights of Barrueco’s international tours include the Musikverein in Vienna\, Concertgebouw in Amsterdam\, Royal Albert Hall in London\, Philharmonie in Berlin\, Teatro Real in Madrid\, and Palau de la Música in Barcelona. He has completed a dozen tours of Japan\, and made repeated appearances in Korea\, Taiwan\, Singapore\, China\, and Hong Kong. In Latin America and the Caribbean\, he has performed in Mexico\, Brazil\, Colombia\, Costa Rica\, Panama\, and Puerto Rico. In the 2017-2018 concert season\, he will offer two solo tours in Europe in addition to tours with the Cuarteto Latinoamericano and Beijing Guitar Duo. Barrueco’s discography includes over a dozen recordings for the EMI label. \n“A major artist with remarkable musicianship and a world of technique…simply and\nconsistently…awesome.” (Los Angeles Times)\n“An elegant musician and aristocrat of the guitar….” (Dallas Times Herald) \nFounded by Lorenzo Pimentel\, Pimentel & Sons Guitar Makers has become known around the world for the custom creation of stringed instruments unparalleled in craftsmanship and beauty. The family has a history of handing down its talents through generation to generation\, both through music and guitar-making and through giving back to the community. Pimentel & Sons has received numerous awards including the New Mexico Governor’s Award\, Connecticut Mutual’s Blue Chip Enterprise Award\, the U.S. Leadership Outreach Award\, and the Innovative Albuquerque Award\, and the Pimentel family’s creations and innovations are displayed in New Mexico museums. \nThank you to our Performing Arts Season Sponsors Heritage Hotels and Resorts\, the Albuquerque Journal and Southwest Airlines!
URL:https://nhccnm.org/event/pimentel-concert-series-manuel-barrueco/
LOCATION:Roy E. Disney Center for Performing Arts: Albuquerque Journal Theatre\, 1701 4th St SW\, Albuquerque\, NM\, 87102
CATEGORIES:Music,Performing Arts
ATTACH;FMTTYPE=image/jpeg:https://nhccnm.org/wp-content/uploads/2018/07/Manuel-Barrueco-photo-125.jpg
END:VEVENT
BEGIN:VEVENT
DTSTART;VALUE=DATE:20190214
DTEND;VALUE=DATE:20190215
DTSTAMP:20260424T052407
CREATED:20190124T195220Z
LAST-MODIFIED:20190124T195220Z
UID:6385-1550102400-1550188799@nhccnm.org
SUMMARY:Film: La boda de Valentina/Valentina’s Wedding
DESCRIPTION:7 pm \nValentina has the perfect life in New York\, with a perfect job and a perfect boyfriend\, Jason—far away from the family in Mexico City that she has been keeping a secret. Her two worlds collide in chaos when Jason proposes marriage and wants to meet her family—the most scandal-plagued\, surreal political dynasty in the history of Mexico.\nPresented as part of the Bank of America Free Thursday Film Series. \n2018; Marco Polo Constandse; English; 107 minutes; rated R.\nFree ticketed event; tickets available one hour before show
URL:https://nhccnm.org/event/film-la-boda-de-valentina-valentinas-wedding/
LOCATION:NHCC-Newsletter-November-2-30
CATEGORIES:Film,Performing Arts,Theatre
ATTACH;FMTTYPE=image/jpeg:https://nhccnm.org/wp-content/uploads/2019/01/La-boda-de-Valentina-poster.jpg
END:VEVENT
BEGIN:VEVENT
DTSTART;VALUE=DATE:20190214
DTEND;VALUE=DATE:20190218
DTSTAMP:20260424T052407
CREATED:20180825T165752Z
LAST-MODIFIED:20180825T165752Z
UID:5392-1550102400-1550447999@nhccnm.org
SUMMARY:DNAWORKS and the NHCC Present The Real James Bond...Was Dominican
DESCRIPTION:7:30 pm—Thursday-Saturday\n 2 pm—Sunday \nWhat happens when a James Bond-obsessed Dominican boy in Queens (who won’t go anywhere without his nerf gun)\, finds out that the real James Bond was Dominican? \nThis is a true story about Porfirio Rubirosa\, Ian Fleming’s inspiration for Bond\, and a young Dominican actor-to-be – whose discovery of “Rubi” shakes his very foundation. Set to a live percussion score and immersive projections\, The Real James Bond…Was Dominican is a young man’s guide to love\, sex\, color\, code-switching\, white-washing\, success\, fake-it-till-you-make-it\, and the roller coaster of finding one’s true self. \nThe original play\, written and performed by Christopher Rivas\, was developed with and directed by Daniel Banks\, with original score and percussion by Wilson Torres\, projection design by Alexandra Kelly Colburn and Kate Freer\, and lighting design by Driscoll Otto.\n$25 adults; $20 NHCC members; $12 students\, seniors\, unemployed persons\, & artists \nMature subject matter and language; may not be suitable for all audiences. \nThank you to our Performing Arts Season Sponsors Heritage Hotels and Resorts\, the Albuquerque Journal and Southwest Airlines!
URL:https://nhccnm.org/event/dnaworks-nhcc-present-real-james-bond-wasdominican/
LOCATION:NHCC-BOD-January-2020-Meeting
CATEGORIES:Performing Arts,Theatre
ATTACH;FMTTYPE=image/jpeg:https://nhccnm.org/wp-content/uploads/2019/01/FINAL-RJBWDR-POSTCARD-01-scaled.jpg
END:VEVENT
BEGIN:VEVENT
DTSTART;VALUE=DATE:20190223
DTEND;VALUE=DATE:20190225
DTSTAMP:20260424T052407
CREATED:20190103T183443Z
LAST-MODIFIED:20190103T183443Z
UID:6100-1550880000-1551052799@nhccnm.org
SUMMARY:Last Out - Elegy of a Green Beret (Rental)
DESCRIPTION:Saturday at 2 pm & 7 pm\nSunday at 2 pm \nArmy Green Beret Danny Patton is a modern-day warrior fighting battles that range from tribal Afghanistan to his own living room. As the corrosive gears of war rip apart his family\, his integrity\, and his soul\, Danny is thrust into his final\, eternal mission. On the other side\, with Valhalla beckoning\, he discovers that combat can be fueled by vengeance or by love… it just depends which price you are willing to pay. \nYou’ve heard the war stories of the “first in.” This play is the untold story of the “last out.”\n$30 \n\nThe title\, content\, photos/images and description for this event were provided to the NHCC by the organization renting the NHCC venue for the event. By serving as a venue and posting the event on its website\, the NHCC is not endorsing any views expressed in the title or description of the event\, nor is it endorsing the content of the event.
URL:https://nhccnm.org/event/last-out-rental/
LOCATION:NHCC-BOD-January-2020-Meeting
CATEGORIES:Performing Arts,Theatre
ATTACH;FMTTYPE=image/jpeg:https://nhccnm.org/wp-content/uploads/2019/01/LastOutGraphic-1.jpg
END:VEVENT
BEGIN:VEVENT
DTSTART;VALUE=DATE:20190228
DTEND;VALUE=DATE:20190301
DTSTAMP:20260424T052407
CREATED:20190125T143238Z
LAST-MODIFIED:20190125T143238Z
UID:6390-1551312000-1551398399@nhccnm.org
SUMMARY:Film: Harvest of Loneliness: The Bracero Program
DESCRIPTION:7 pm \nThis historical documentary\, shedding light on the current debate over immigration reform and the use of “guest workers” in American agriculture\, examines what was known as the Bracero Program—a system put in place from 1942 to 1964 to recruit Mexican farm laborers for temporary work in the United States. The film features testimony from surviving braceros as well as these workers’ family members and descendants\, along with commentary from featured experts and extensive archival material. Anna Uremovich\, archivist for the NHCC’s History and Literary Arts (HLA) program\, will introduce the film and give an overview of HLA’s ongoing Braceros exhibition\, featuring black-and-white photographs of these workers taken by the photojournalist collective known as the Hermanos Mayo\, together with narratives\, video\, and artifacts that tell the story of the Bracero Program. Presented as part of the Bank of America Free Thursday Film Series. \n2010; Gilbert G. Gonzalez\, Vivian Price & Adrian Salinas; English; 58 minutes; not rated.\nFree ticketed event; tickets available one hour before show
URL:https://nhccnm.org/event/film-harvest-of-loneliness-the-bracero-program/
LOCATION:NHCC-Newsletter-November-2-30
CATEGORIES:Film,Performing Arts,Theatre
ATTACH;FMTTYPE=image/jpeg:https://nhccnm.org/wp-content/uploads/2019/01/Harvest-of-Loneliness-The-Bracero-Program-tall.jpg
END:VEVENT
END:VCALENDAR