BEGIN:VCALENDAR
VERSION:2.0
PRODID:-// - ECPv6.15.14//NONSGML v1.0//EN
CALSCALE:GREGORIAN
METHOD:PUBLISH
X-ORIGINAL-URL:https://nhccnm.org
X-WR-CALDESC:Events for 
REFRESH-INTERVAL;VALUE=DURATION:PT1H
X-Robots-Tag:noindex
X-PUBLISHED-TTL:PT1H
BEGIN:VTIMEZONE
TZID:America/Denver
BEGIN:DAYLIGHT
TZOFFSETFROM:-0700
TZOFFSETTO:-0600
TZNAME:MDT
DTSTART:20180311T090000
END:DAYLIGHT
BEGIN:STANDARD
TZOFFSETFROM:-0600
TZOFFSETTO:-0700
TZNAME:MST
DTSTART:20181104T080000
END:STANDARD
BEGIN:DAYLIGHT
TZOFFSETFROM:-0700
TZOFFSETTO:-0600
TZNAME:MDT
DTSTART:20190310T090000
END:DAYLIGHT
BEGIN:STANDARD
TZOFFSETFROM:-0600
TZOFFSETTO:-0700
TZNAME:MST
DTSTART:20191103T080000
END:STANDARD
BEGIN:DAYLIGHT
TZOFFSETFROM:-0700
TZOFFSETTO:-0600
TZNAME:MDT
DTSTART:20200308T090000
END:DAYLIGHT
BEGIN:STANDARD
TZOFFSETFROM:-0600
TZOFFSETTO:-0700
TZNAME:MST
DTSTART:20201101T080000
END:STANDARD
END:VTIMEZONE
BEGIN:VEVENT
DTSTART;VALUE=DATE:20190301
DTEND;VALUE=DATE:20190303
DTSTAMP:20260424T084146
CREATED:20180720T193445Z
LAST-MODIFIED:20180720T193445Z
UID:5288-1551398400-1551571199@nhccnm.org
SUMMARY:Carnaval 2019: with PANdemonium and Odara Dance Ensemble
DESCRIPTION:7:30 pm \nThe NHCC’s annual celebration of Carnaval is a dazzling spectacle of vibrant dance\, engaging music\, and beautiful costumes\, featuring the band PANdemonium and the Odara Dance Ensemble and showcasing the Carnaval celebrations of Cuba\, Trinidad\, Brazil and New Orleans. \nCarnaval\, the festive season occurring before Lent in many countries\, including Latin American and Caribbean nations as well as parts of the United States\, is one of the world’s most widespread celebrations and one of its biggest parties. Among the guidelines that the Performing Arts program has developed\, refined\, and utilized since 1999 to design its programming and curate its seasons is the provision of a variety of annual programming that is specific to seasons\, holidays\, and celebrations\, as well as culture-specific. Carnaval was first celebrated at the NHCC in 2002\, and has been part of the Center’s regular seasonal programming since 2006\, with regular performances by presenting partners Frank Leto & PANdemonium and Pilar Leto & the Odara Dance Ensemble. This year’s Carnaval 2019 marks the 14th annual Carnaval Celebration at the NHCC’s Roy E. Disney Center for Performing Arts.\n$17\, $22\, $27 w/ $2 off for students\, seniors and NHCC members. Group rates available \n \nFrank Leto\, musical director and leader of the band PANdemonium\, with which he has recorded three world music CDs\, is a multitalented instrumentalist who plays Brazilian and Afro-Cuban percussion and Trinidadian steel drums. His love for rhythms has taken him to Brazil\, Puerto Rico\, and Cuba; while in Cuba\, he studied soneros\, tres\, and batá\, as reflected in his original compositions and performances. Pilar Leto\, founder and artistic director of the Odara Dance Ensemble\, is a dancer\, choreographer\, and producer who has performed and taught Brazilian\, Caribbean\, and Afro-Cuban dance for over 25 years. She also studied in Cuba\, with premier dancers of the Conjunto Folklórico Nacional and Raíces Profundas. Other members of PANdemonium and the Odara Dance Ensemble also have extensive and impressive backgrounds in Latin percussion and dance. \nThank you to our Performing Arts Season Sponsors Heritage Hotels and Resorts\, the Albuquerque Journal and Southwest Airlines!
URL:https://nhccnm.org/event/carnaval-2019-pandemonium-odara-dance-ensemble/
LOCATION:Roy E. Disney Center for Performing Arts: Albuquerque Journal Theatre\, 1701 4th St SW\, Albuquerque\, NM\, 87102
CATEGORIES:Dance,Music,Performing Arts,Theatre
ATTACH;FMTTYPE=image/jpeg:https://nhccnm.org/wp-content/uploads/2017/12/1200x630CarnavalFever.jpg
END:VEVENT
BEGIN:VEVENT
DTSTART;VALUE=DATE:20190307
DTEND;VALUE=DATE:20190309
DTSTAMP:20260424T084146
CREATED:20190119T233934Z
LAST-MODIFIED:20190119T233934Z
UID:6349-1551916800-1552089599@nhccnm.org
SUMMARY:Public Academy for Performing Arts Presents PAPA Spring Dance Concert 2019: 5 6 7 8 (Rental)
DESCRIPTION:7 pm both days \nThe Public Academy for Performing Arts (PAPA) presents 5 6 7 8\, its annual spring dance concert featuring beginning to pre-professional ballet\, contemporary\, flamenco\, hip-hop\, and jazz dance students from grades 6-12. Approximate length of the event is two hours.\n$7\, $12\, $17 \n\nThe title\, content\, photos/images and description for this event were provided to the NHCC by the organization renting the NHCC venue for the event. By serving as a venue and posting the event on its website\, the NHCC is not endorsing any views expressed in the title or description of the event\, nor is it endorsing the content of the event.
URL:https://nhccnm.org/event/papa-spring-dance-concert-2019-5-6-7-8-rental/
LOCATION:NHCC-Newsletter-November-2-30
CATEGORIES:Dance,Performing Arts,Rental,Theatre
ATTACH;FMTTYPE=image/jpeg:https://nhccnm.org/wp-content/uploads/2019/01/PAPA-2019-Ashely-Ramos-Spring-Dance-2019-Visual-Art-125.jpg
END:VEVENT
BEGIN:VEVENT
DTSTART;VALUE=DATE:20190309
DTEND;VALUE=DATE:20190310
DTSTAMP:20260424T084146
CREATED:20190202T171423Z
LAST-MODIFIED:20190202T171423Z
UID:6448-1552089600-1552175999@nhccnm.org
SUMMARY:Kala Anjali (Rental)
DESCRIPTION:6 pm \nNatyakalanjali Academy of Dance and Music presents Kala Anjali\, an evening of East Indian dance\, music\, and martial arts. Nataykalanjali believes strongly in using the arts and deep-rooted culture of India for the betterment of today’s world. All profits from the show will be donated to the victims of the Kerala floods in Southern India\, who have lost their homes in these floods. \nThis presentation seeks to create a cross-cultural conversation between the Indian classical arts and New Mexican viewers\, making art forms accessible to different audiences around the world. Bharatanatyam (an Indian classical dance form) and Indian classical music are versatile and complete idioms\, capable of telling stories. The Indian martial arts are said to be one of the most ancient arts of warfare. Natyakalanjali considers it to be an honor to be able to share these artistic experiences for a cause.\n$25 w/ $5 discount for students \n \nKerala\, the southernmost tip of India\, receives approximately 2\,000 millimeters of rainfall annually. At the end of 2018\, Kerala received 2\,350 millimeters of rain in just two weeks. As a result\, two main rivers\, the Periyar and the Pamba\, were flooded and 22 dams had to be opened to avoid damage to the structures. This led to landslides and flooding in 13 of the 14 districts in Kerala. Nearly 21\,747 miles of roads\, an estimated 174\,000 houses\, and 218 bridges need to be rebuilt. Crops of around 46\,000 hectares have been destroyed\, and the total flood loss has been estimated to be $5.6 billion USD. Kala Anjali hopes to add a drop of assistance to this ocean of need in its humble way \nNatyakalanjali is an organization for the arts of India—Bharatanatyam\, including Carnatic music and allied classical and contemporary forms\, with a holistic focus on education\, performance\, and community outreach. Natyakalanjali is also a premiere academy of Bharathanatyam (Indian dance) and Carnatic (South Indian vocal music) in Albuquerque\, with branches in Little Rock\, AR and Trivandrum\, India. Natyakalanjali focuses on traditional ways of imparting Indian arts. \nKala Anjali’s vision and mission stem from two principles: first\, every artist is a sensitive respondent to experiences within and around him/her\, and second\, ambient and holistic exposure to excellence in the arts must be offered as a benefit to the world.
URL:https://nhccnm.org/event/kala-anjali-rental/
LOCATION:Roy E. Disney Center for Performing Arts: Albuquerque Journal Theatre\, 1701 4th St SW\, Albuquerque\, NM\, 87102
CATEGORIES:Dance,Rental,Theatre
ATTACH;FMTTYPE=image/jpeg:https://nhccnm.org/wp-content/uploads/2019/02/Kalnajali-thumbnail.jpg
END:VEVENT
BEGIN:VEVENT
DTSTART;VALUE=DATE:20190310
DTEND;VALUE=DATE:20190311
DTSTAMP:20260424T084146
CREATED:20180714T175218Z
LAST-MODIFIED:20180714T175218Z
UID:5264-1552176000-1552262399@nhccnm.org
SUMMARY:New Mexico Philharmonic: Beethoven & Schumann (Rental)
DESCRIPTION:There has been a fire at the NHCC and today’s concert (Sunday\, March 10) has been cancelled. We are working with the NM Philharmonic on how best to proceed. We will be in touch on the what the next steps will be.\n3 pm \nNew Mexico Philharmonic presents Beethoven & Schumann\nRoberto Minczuk Music Director\, Antonio Chen Guang piano\nBeethoven Piano Concerto No. 3 Schumann Symphony No. 3\nTwo of the finest works by two late-1Bth­ and early-19th-century classical giants! The warm emotional depth and drama of Beethoven’s Piano Concerto No. 3 in c minor is unsurpassed. Experience its virtuosic performance by Olga Kern International Piano Competition First-Prize Winner\, Antonio Chen Guang! Schumann’s majestic Third Symphony includes French horns\, trumpets\, and timpani\, bringing sumptuous sound to this late-winter Sunday afternoon.\n$24\, $35\, $46\, $68 \n\nThe title\, content\, photos/images and description for this event were provided to the NHCC by the organization renting the NHCC venue for the event. By serving as a venue and posting the event on its website\, the NHCC is not endorsing any views expressed in the title or description of the event\, nor is it endorsing the content of the event.
URL:https://nhccnm.org/event/new-mexico-philharmonic-beethoven-schumann-rental/
LOCATION:Roy E. Disney Center for Performing Arts: Albuquerque Journal Theatre\, 1701 4th St SW\, Albuquerque\, NM\, 87102
CATEGORIES:Music,Theatre
ATTACH;FMTTYPE=image/jpeg:https://nhccnm.org/wp-content/uploads/2015/11/NM-Philharmonic-Logo.jpg
END:VEVENT
BEGIN:VEVENT
DTSTART;VALUE=DATE:20190314
DTEND;VALUE=DATE:20190315
DTSTAMP:20260424T084146
CREATED:20190307T182459Z
LAST-MODIFIED:20190307T182459Z
UID:6725-1552521600-1552607999@nhccnm.org
SUMMARY:Film: Harvest Season
DESCRIPTION:The NHCC’s Roy E. Disney Center for Performing Arts is closed due to facilities issues. As a result\, this film at the National Hispanic Cultural Center\, on March 28 is postponed until further notice. For questions about tickets\, please contact the NHCC Box Office at 505-383-4771. We sincerely apologize for any inconvenience. \n7 pm \nCalifornia’s Napa Valley is one of the premier wine growing regions in the world\, celebrated for decades as a kind of “American Eden” and an idyllic\, luxurious global destination. \n \nYet the vineyard workers and the small producers with roots in the fields are rarely credited for the valley’s famed bounty. Filmed over the course of one agricultural year\, Harvest Season takes an “other side of the valley” approach\, delving into the lives of people who are intimately connected to the winemaking process and bringing forward those who are often background characters in other narratives about wine. Presented in partnership with New Mexico PBS as part of the Bank of America Free Thursday Film Series. \n2019; Bernardo Ruiz; English; 90 minutes; not rated.\nFree ticketed event; tickets available one hour before show
URL:https://nhccnm.org/event/film-harvest-season/
LOCATION:NHCC-Newsletter-November-2-30
CATEGORIES:Film,Performing Arts,Theatre
ATTACH;FMTTYPE=image/jpeg:https://nhccnm.org/wp-content/uploads/2019/03/Harvest-Season-logo.jpg
END:VEVENT
BEGIN:VEVENT
DTSTART;VALUE=DATE:20190315
DTEND;VALUE=DATE:20190317
DTSTAMP:20260424T084146
CREATED:20180906T162906Z
LAST-MODIFIED:20180906T162906Z
UID:5436-1552608000-1552780799@nhccnm.org
SUMMARY:National Institute of Flamenco and the NHCC Present Yjastros 34
DESCRIPTION:  \nThe NHCC’s Roy E. Disney Center for Performing Arts is closed due to a facilities issues. As a result\, this weekend’s performances of the National Institute of Flamenco’s performances of “Yjastros 34” at the National Hispanic Cultural Center\, on March 15 and 16\, are canceled. For questions about tickets\, please contact the NHCC Box Office at 505-383-4771. We sincerely apologize for any inconvenience. \nThe National Institute of Flamenco have canceled their performance here at the NHCC and they will have another performance at the Elizabeth Waters Center for Dance at Carlisle Gym on the University of New Mexico Campus. Please call NIF at 505-242-7600 or visit nifnm.org for ticketing information/purchase to this new performance. \n \nThe National Institute of Flamenco and the National Hispanic Cultural Center\, in collaboration with the University of New Mexico\, present Yjastros 34: The Rise of Flamenco. This stunning production features internationally acclaimed guest artists\, dancers/choreographers Daniel Doña (Granada\, Spain) and Cristian Martín (Ávila\, Spain)\, and the Orchestra of New Spain (Dallas\, Texas) under the direction of Grover Wilkins III. Yjastros 34: The Rise of Flamenco traces the profound lineage of the art of flamenco\, beginning with early Spanish dance and music forms\, such as fandangos\, jácara\, and toná\, taking the audience on an artistic journey through the musical and gestural forms that become modern flamenco.\n$30\, $40\, $50\, $60 w/ $5 discount for students\, seniors and NHCC members \n \nBoth Doña and Martín have garnered some of the most prestigious awards in flamenco and Spanish dance\, including the Premio Ojo Crítico (Doña) and the Coreografía de Danza Española y Flamenco de Madrid (Martín). Their unique artistic vision brings the distant past into a dynamic relationship with the contemporary\, immersing the audience in moving\, unforgettable dance and music. \nThe Orchestra of New Spain\, under the direction of Grover Wilkins III\, draws its principal repertory from manuscripts found in the court\, public\, and cathedral archives of Spain. Ten guest musicians and vocalists will travel to Albuquerque\, forming the awe-inspiring musical accompaniment to the performance\, grounded in Spanish artistic heritage. \nYjastros will debut new choreography created and set by Doña and Martín\, and take the stage with these brilliant guest dancers and musicians to manifest an aesthetic experience unlike any other. \nThank you to our Performing Arts Season Sponsors Heritage Hotels and Resorts\, the Albuquerque Journal and Southwest Airlines!
URL:https://nhccnm.org/event/national-institute-flamenco-presents-yjastros-34/
LOCATION:Roy E. Disney Center for Performing Arts: Albuquerque Journal Theatre\, 1701 4th St SW\, Albuquerque\, NM\, 87102
CATEGORIES:Dance,Music,Performing Arts
ATTACH;FMTTYPE=image/jpeg:https://nhccnm.org/wp-content/uploads/2018/09/Yjastros34-poster.jpg
END:VEVENT
BEGIN:VEVENT
DTSTART;VALUE=DATE:20190321
DTEND;VALUE=DATE:20190324
DTSTAMP:20260424T084146
CREATED:20180901T205530Z
LAST-MODIFIED:20180901T205530Z
UID:5426-1553126400-1553385599@nhccnm.org
SUMMARY:Revolutions International Theatre Festival:  Words from the Walls
DESCRIPTION:Thursday\, March 21\, 2019\n Saturday\, March 23\, 2019\n 7 pm both days \nProduced by Tricklock Company\, the Revolutions International Theatre Festival welcomes performance companies from all over the globe to perform and connect across cultures and communities. For the 19th annual festival\, Tricklock and the NHCC present Words from the Walls. \nCreated by world-renowned Colombian/US Nemcatacoa Words from the Walls is a site-specific performance that explores different points of view about walls that separate people.  A non-conventional performance that mixes bilingual poetry\, video projection\, music\, and physical theater on stilts. Words from the Walls creates an ambulatory theatre experience weaving an intertwined story connected by poetry and visual images that includes stilters\, live music\, and a poet to lead the audience on a journey through the NHCC campus as we investigate all walls\, real and imagined.\n$27 and $15 for students\, seniors\, veterans and NHCC members \nThank you to our Performing Arts Season Sponsors Heritage Hotels and Resorts\, the Albuquerque Journal and Southwest Airlines!
URL:https://nhccnm.org/event/revolutions-international-theatre-festival-words-wall/
LOCATION:NHCC Campus\, 1701 4th Street SW\, Albuquerque\, NM\, 87102
CATEGORIES:Performing Arts,Theatre
ATTACH;FMTTYPE=image/jpeg:https://nhccnm.org/wp-content/uploads/2018/09/Revolutions-Festival-TL-company-logo.jpg
END:VEVENT
BEGIN:VEVENT
DTSTART;VALUE=DATE:20190327
DTEND;VALUE=DATE:20190330
DTSTAMP:20260424T084146
CREATED:20190308T185357Z
LAST-MODIFIED:20190308T185357Z
UID:6743-1553644800-1553903999@nhccnm.org
SUMMARY:Revolutions International Theatre Festival: Where Did We Sit On The Bus?
DESCRIPTION:Wednesday\, March 27\, 2019\nFriday\, March 29\, 2019\n7 pm on Wednesday & 8 pm on Friday \nProduced by Tricklock Company\, the Revolutions International Theatre Festival welcomes performance companies from all over the globe to perform and connect across cultures and communities. For the 19th annual festival\, Tricklock and the NHCC present Where Did We Sit On The Bus?. \nWhere Did We Sit on the Bus? is an electric one-man show pulsing with Latin rhythms\, rap\, hip-hop\, spoken word\, and live looping. During a third grade lesson on the Civil Rights movement and Rosa Parks\, a Latino boy raises his hand to ask\, “Where did we sit on the bus?” and his teacher can’t answer the question. This thrilling autobiographical production examines what it means to be Latino through the eyes of a child\, turned teenager\, turned adult. \nTickets: $15-$27 \nThank you to our Performing Arts Season Sponsors Heritage Hotels and Resorts\, the Albuquerque Journal and Southwest Airlines!
URL:https://nhccnm.org/event/revolutions-international-theatre-festival-where-did-we-sit-on-the-bus/
LOCATION:NHCC-BOD-January-2020-Meeting
CATEGORIES:Performing Arts,Theatre
ATTACH;FMTTYPE=image/jpeg:https://nhccnm.org/wp-content/uploads/2018/09/Revolutions-Festival-TL-company-logo.jpg
END:VEVENT
BEGIN:VEVENT
DTSTART;VALUE=DATE:20190328
DTEND;VALUE=DATE:20190329
DTSTAMP:20260424T084146
CREATED:20190307T183344Z
LAST-MODIFIED:20190307T183344Z
UID:6729-1553731200-1553817599@nhccnm.org
SUMMARY:Film: La Nana/The Maid
DESCRIPTION:The NHCC’s Roy E. Disney Center for Performing Arts has postponed the March 28th film screening until further notice. For questions about tickets\, please contact the NHCC Box Office at 505-383-4771. We sincerely apologize for any inconvenience. \n6 pm \n \nPlease note that a pre-screening conversation about the film\, led by Dr. Elizabeth Hutchison\, will begin at this time. The film will be shown at 7 pm \nRaquel has worked as a live-in\, uniformed maid for a well-to-do family in Santiago\, Chile for over 20 years. Now 41\, she is part of the family in some ways\, as emotional attachments—both positive and negative—attest\, but in others remains apart\, even expendable. \nWhen her employers decide that she needs help and hire an additional maid\, Raquel feels that she must fight for her place in the household. Her “guerrilla war” against a series of newcomers reaches increasingly audacious heights\, until someone quite different turns up and Raquel’s world begins\, very gently\, to expand. La Nana\, described as a “microcosm of Latin social hierarchy\,” also focuses on one woman’s journey to free herself from a mental servitude of her own making. Presented in partnership with Women’s International Study Center (WISC) as part of the Bank of America Free Thursday Film Series. Dr. Elizabeth Hutchison\, WISC Fellow-in-Residence\, will introduce the film and lead a discussion with representatives of other community organizations\, beginning at 6 PM\, prior to the screening. Please join us for refreshments and further conversation in the lobby afterwards! \n2009; Sebastián Silva; Spanish with English subtitles; 135 minutes; not rated.\nFree ticketed event; tickets available one hour before show
URL:https://nhccnm.org/event/film-la-nana-the-maid/
LOCATION:NHCC-Newsletter-November-2-30
CATEGORIES:Film,Performing Arts,Theatre
ATTACH;FMTTYPE=image/jpeg:https://nhccnm.org/wp-content/uploads/2019/03/La-Nana-The-Maid-poster.jpg
END:VEVENT
END:VCALENDAR