BEGIN:VCALENDAR
VERSION:2.0
PRODID:-// - ECPv6.15.14//NONSGML v1.0//EN
CALSCALE:GREGORIAN
METHOD:PUBLISH
X-ORIGINAL-URL:https://nhccnm.org
X-WR-CALDESC:Events for 
REFRESH-INTERVAL;VALUE=DURATION:PT1H
X-Robots-Tag:noindex
X-PUBLISHED-TTL:PT1H
BEGIN:VTIMEZONE
TZID:America/Denver
BEGIN:DAYLIGHT
TZOFFSETFROM:-0700
TZOFFSETTO:-0600
TZNAME:MDT
DTSTART:20180311T090000
END:DAYLIGHT
BEGIN:STANDARD
TZOFFSETFROM:-0600
TZOFFSETTO:-0700
TZNAME:MST
DTSTART:20181104T080000
END:STANDARD
BEGIN:DAYLIGHT
TZOFFSETFROM:-0700
TZOFFSETTO:-0600
TZNAME:MDT
DTSTART:20190310T090000
END:DAYLIGHT
BEGIN:STANDARD
TZOFFSETFROM:-0600
TZOFFSETTO:-0700
TZNAME:MST
DTSTART:20191103T080000
END:STANDARD
BEGIN:DAYLIGHT
TZOFFSETFROM:-0700
TZOFFSETTO:-0600
TZNAME:MDT
DTSTART:20200308T090000
END:DAYLIGHT
BEGIN:STANDARD
TZOFFSETFROM:-0600
TZOFFSETTO:-0700
TZNAME:MST
DTSTART:20201101T080000
END:STANDARD
END:VTIMEZONE
BEGIN:VEVENT
DTSTART;VALUE=DATE:20190411
DTEND;VALUE=DATE:20190412
DTSTAMP:20260423T201049
CREATED:20190330T005237Z
LAST-MODIFIED:20190330T005237Z
UID:6888-1554940800-1555027199@nhccnm.org
SUMMARY:Film: The Way
DESCRIPTION:7 pm \nTom\, an irascible American doctor\, comes to France to deal with the tragic loss of his son. Rather than return home\, he decides to embark on the historical pilgrimage El Camino de Santiago (“The Way of Saint James”) to honor his son’s desire to finish the journey. What Tom doesn’t plan on is the profound impact this trip will have on him\, as\, through unexpected and oftentimes amusing experiences along “The Way\,” he discovers the difference between “the life we live and the life we choose.” Written and directed by Emilio Estevez and starring his father\, Martin Sheen\, The Way was filmed entirely in France and Spain along El Camino de Santiago. Presented in partnership with Instituto Cervantes as part of the Bank of America Free Thursday Film Series. \n2010; Emilio Estevez; English; 123 minutes; rated PG-13.\nFree ticketed event; tickets available one hour before show \n \nThe Camino de Santiago (“Way of St. James”) is a large network of ancient pilgrimage routes that stretch across Europe and come together at the tomb of the apostle St. James (Santiago) in Santiago de Compostela in northwest Spain. Since the beginning of the 9th century\, when the tomb was discovered\, Santiago de Compostela has been a pan-European place of peregrination. The city’s Old Town was designated a UNESCO World Heritage Site in 1985\, and the European Union declared the Camino de Santiago to be the first European Cultural Itinerary in 1987. According to Catholic tradition\, completing a pilgrimage on the Camino\, some 500 miles along the major routes\, assures forgiveness of one’s sins. The walk now attracts people of all faiths and backgrounds\, and over 200\,000 contemporary pilgrims embark on the journey each year. \nThe April films\, as well as the first May film\, in the Bank of America Free Thursday Film Series\, presented in partnership with Instituto Cervantes and the Spanish Resource Center\, have been selected for their insights into different elements of the Way\, capturing the spiritual significance and the rich history of this iconic pilgrimage.
URL:https://nhccnm.org/event/film-the-way/
LOCATION:NHCC-BOD-January-2020-Meeting
CATEGORIES:Film,Performing Arts,Theatre
ATTACH;FMTTYPE=image/jpeg:https://nhccnm.org/wp-content/uploads/2019/03/The-Way-poster.jpg
END:VEVENT
BEGIN:VEVENT
DTSTART;VALUE=DATE:20190411
DTEND;VALUE=DATE:20190415
DTSTAMP:20260423T201049
CREATED:20180905T174008Z
LAST-MODIFIED:20180905T174008Z
UID:5432-1554940800-1555286399@nhccnm.org
SUMMARY:4 Guys Named José and una mujer named María!
DESCRIPTION:Please note that all performances of this show will take place at the NHCC in the Bank of America Theatre.  \n7:30 pm—Thursday-Saturday\n 2 pm—Sunday \nAn Off-Broadway smash hit\, never before presented in Albuquerque\, this musical comedy celebrates the rich and vibrant musical history of Latin America. Emphasizing both the diversity and the commonality of Latino cultures\, it features a show-within-a-show as the “4 Guys Named José”—one Puerto Rican\, one Mexican\, one Cuban\, and one Dominican—design a musical revue that will showcase the music they grew up with and project a positive image to counteract Latino stereotypes. They have never put on a show before\, and their attempts to get through the night without fighting or forgetting their cues are both comic and heartfelt—a journey through love\, loss\, and nostalgia for one’s homeland. Written by Dolores Prida\, 4 Guys Named José and una mujer named maría is directed by Valli Marie Rivera.\n$22 w/ $2 discount for students\, seniors and NHCC members; $10 Thursday show only \nThank you to our Performing Arts Season Sponsors Heritage Hotels and Resorts\, the Albuquerque Journal and Southwest Airlines!
URL:https://nhccnm.org/event/4-guys-named-josey-una-mujer-named-maria/
LOCATION:NHCC-Newsletter-November-2-30
CATEGORIES:Performing Arts,Theatre
ATTACH;FMTTYPE=image/png:https://nhccnm.org/wp-content/uploads/2018/09/4-Guys-Named-Jose-poster-Vortex.png
END:VEVENT
BEGIN:VEVENT
DTSTART;VALUE=DATE:20190425
DTEND;VALUE=DATE:20190426
DTSTAMP:20260423T201049
CREATED:20190330T010219Z
LAST-MODIFIED:20190330T010219Z
UID:6894-1556150400-1556236799@nhccnm.org
SUMMARY:Semana Cervantina: Film: Walking the Camino: Six Ways to Santiago
DESCRIPTION:7 pm \nThe 500-mile Camino de Santiago is no small undertaking\, yet hundreds of thousands of people embark on the journey across this rugged and photogenic landscape each year. Whatever their motivations\, no one can predict just how their paths will unfold or what transformations they will undergo. Walking the Camino follows a diverse group of pilgrims\, ages 3 to 73\, from all over the world as they attempt to cross an entire country on foot with only a backpack\, a pair of boots\, and an open mind. Featuring breathtaking vistas and engaging characters\, the Camino comes to life in this inspiring look at its magnetic and miraculous power to change lives. Presented in partnership with Instituto Cervantes and the Spanish Resource Center as part of the Bank of America Free Thursday Film Series. \nWalking the Camino will be introduced by Antonio Caballero\, director of the Spanish Resource Center at the NHCC\, and the film’s director Lydia Smith\, and followed by a Q& A with Lydia Smith. \n2014; Lydia B. Smith; English; 84 minutes; not rated.\nFree ticketed event; tickets available one hour before show \n \nThe Camino de Santiago (“Way of St. James”) is a large network of ancient pilgrimage routes that stretch across Europe and come together at the tomb of the apostle St. James (Santiago) in Santiago de Compostela in northwest Spain. Since the beginning of the 9th century\, when the tomb was discovered\, Santiago de Compostela has been a pan-European place of peregrination. The city’s Old Town was designated a UNESCO World Heritage Site in 1985\, and the European Union declared the Camino de Santiago to be the first European Cultural Itinerary in 1987. According to Catholic tradition\, completing a pilgrimage on the Camino\, some 500 miles along the major routes\, assures forgiveness of one’s sins. The walk now attracts people of all faiths and backgrounds\, and over 200\,000 contemporary pilgrims embark on the journey each year. \nThe April films\, as well as the first May film\, in the Bank of America Free Thursday Film Series\, presented in partnership with Instituto Cervantes and the Spanish Resource Center\, have been selected for their insights into different elements of the Way\, capturing the spiritual significance and the rich history of this iconic pilgrimage.
URL:https://nhccnm.org/event/film-walking-the-camino-six-ways-to-santiago/
LOCATION:NHCC-Newsletter-November-2-30
CATEGORIES:Film,Performing Arts,Theatre
ATTACH;FMTTYPE=image/jpeg:https://nhccnm.org/wp-content/uploads/2019/03/Walking-the-Camino-Six-Ways-to-Santiago-poster.jpg
END:VEVENT
BEGIN:VEVENT
DTSTART;VALUE=DATE:20190428
DTEND;VALUE=DATE:20190429
DTSTAMP:20260423T201049
CREATED:20180714T180209Z
LAST-MODIFIED:20180714T180209Z
UID:5265-1556409600-1556495999@nhccnm.org
SUMMARY:New Mexico Philharmonic: The Latin Spirit!–RELOCATED
DESCRIPTION:Due to facilities issues in the Roy E. Disney Center for Performing Arts at the NHCC\, this performance will not take place at the NHCC. To learn more about the new location\, please visit: https://nmphil.org/event/the-latin-spirit/ \n3 pm \nNew Mexico Philharmonic presents The Latin Spirit!\nRoberto Minczuk Music Director\nVilla-Lobos Bachianas Brasileiras No. 4\, Golijov Last Round\, lbert Divertissement\, Bizet Carmen Suites 1 & 2\nHeitor Villa-Lobos merges Baroque and Brazilian essences in the impressive and innovative final suite of his renowned Bachianas Brasileiras. Golijov ‘s 1996 homage to Astor Piazzolla-Last Round­ is a passionate tribute to the tango master. And Bizet’s scintillating Carmen Suites will leave you breathless!\n$24\, $35\, $46\, $68 \n\nThe title\, content\, photos/images and description for this event were provided to the NHCC by the organization renting the NHCC venue for the event. By serving as a venue and posting the event on its website\, the NHCC is not endorsing any views expressed in the title or description of the event\, nor is it endorsing the content of the event.
URL:https://nhccnm.org/event/new-mexico-philharmonic-latin-spirit-rental/
LOCATION:Roy E. Disney Center for Performing Arts: Albuquerque Journal Theatre\, 1701 4th St SW\, Albuquerque\, NM\, 87102
CATEGORIES:Music,Performing Arts,Theatre
ATTACH;FMTTYPE=image/jpeg:https://nhccnm.org/wp-content/uploads/2015/11/NM-Philharmonic-Logo.jpg
END:VEVENT
END:VCALENDAR