BEGIN:VCALENDAR
VERSION:2.0
PRODID:-// - ECPv6.15.14//NONSGML v1.0//EN
CALSCALE:GREGORIAN
METHOD:PUBLISH
X-ORIGINAL-URL:https://nhccnm.org
X-WR-CALDESC:Events for 
REFRESH-INTERVAL;VALUE=DURATION:PT1H
X-Robots-Tag:noindex
X-PUBLISHED-TTL:PT1H
BEGIN:VTIMEZONE
TZID:America/Denver
BEGIN:DAYLIGHT
TZOFFSETFROM:-0700
TZOFFSETTO:-0600
TZNAME:MDT
DTSTART:20180311T090000
END:DAYLIGHT
BEGIN:STANDARD
TZOFFSETFROM:-0600
TZOFFSETTO:-0700
TZNAME:MST
DTSTART:20181104T080000
END:STANDARD
BEGIN:DAYLIGHT
TZOFFSETFROM:-0700
TZOFFSETTO:-0600
TZNAME:MDT
DTSTART:20190310T090000
END:DAYLIGHT
BEGIN:STANDARD
TZOFFSETFROM:-0600
TZOFFSETTO:-0700
TZNAME:MST
DTSTART:20191103T080000
END:STANDARD
BEGIN:DAYLIGHT
TZOFFSETFROM:-0700
TZOFFSETTO:-0600
TZNAME:MDT
DTSTART:20200308T090000
END:DAYLIGHT
BEGIN:STANDARD
TZOFFSETFROM:-0600
TZOFFSETTO:-0700
TZNAME:MST
DTSTART:20201101T080000
END:STANDARD
END:VTIMEZONE
BEGIN:VEVENT
DTSTART;VALUE=DATE:20190702
DTEND;VALUE=DATE:20190703
DTSTAMP:20260423T110532
CREATED:20190605T215812Z
LAST-MODIFIED:20190605T215812Z
UID:7366-1562025600-1562111999@nhccnm.org
SUMMARY:¡Baile! Casino (Cuban Salsa) Dance Class
DESCRIPTION:6 pm to 8:15 pm \n6 pm to 7:15 pm—Beginning and Intermediate Class.\nNo experience is necessary to participate in this class. \n7:15 pm to 8:15 pm—Advanced Class\nIn order to participate in this class\, dancers must come to at least one 6 pm class and be familiar with the vocabulary and movement introduced in these classes. \nDance classes are taught by Larry Heard and Rueda 505 Friends. \nThere is no need to pre-register; just show up in comfortable clothes ready to dance! For more information\, contact Elsa Menéndez at elsa.menendez@state.nm.us or 505-246-2261\, ex. 34744. \n$5 to $10 per class (pay what you can)
URL:https://nhccnm.org/event/baile-casino-cuban-salsa-dance-class/
LOCATION:NHCC-Newsletter-August-11-–-24
CATEGORIES:Dance,Dance Classes,Music,Performing Arts,Workshops
ATTACH;FMTTYPE=image/jpeg:https://nhccnm.org/wp-content/uploads/2016/12/BaileHomeBanner-tall.jpg
END:VEVENT
BEGIN:VEVENT
DTSTART;VALUE=DATE:20190707
DTEND;VALUE=DATE:20190708
DTSTAMP:20260423T110532
CREATED:20190516T170419Z
LAST-MODIFIED:20190516T170419Z
UID:7149-1562457600-1562543999@nhccnm.org
SUMMARY:Domingos en Arte: La Diabla
DESCRIPTION:6 pm \nDomingos en Arte\, the summer music and dance series presented by MelazaMusic and the National Hispanic Cultural Center\, enters its fourth season\, with concerts scheduled through August. We have invited a wide range of Latin artists for family-friendly summer Sundays that feature live music\, drinks\, and delicious Latin cuisine in the NHCC’s enchanting Fountain Courtyard. \nLa Diabla\, from Tijuana\, BC\, Mexico\, performing on July 7\, has been “cumbiando” since before it was cool. The band’s name comes from an old Celso Piña tune\, and their music can be powerful and aggressive\, romantic and cheerful\, even dark and macabre. La Diabla has been described as La Sonora Dinamita meets Daft Punk\, or Andrés Landero meets N.W.A.—but with masks\, and with something for everyone to dance to! \n$15 Adults w/ a $2 discount for NHCC members. Admission is free for children 12 and younger \nThank you to our Performing Arts Season Sponsors Heritage Hotels and Resorts\, the Albuquerque Journal and Southwest Airlines!
URL:https://nhccnm.org/event/domingos-en-arte-to-be-determined/
LOCATION:Patio | Fountain Courtyard\, 1701 4th Street SW\, Albuquerque\, NM\, 87102\, United States
CATEGORIES:Dance,Music,Performing Arts
ATTACH;FMTTYPE=image/jpeg:https://nhccnm.org/wp-content/uploads/2019/05/FeaturedImage.jpg
END:VEVENT
BEGIN:VEVENT
DTSTART;VALUE=DATE:20190711
DTEND;VALUE=DATE:20190712
DTSTAMP:20260423T110532
CREATED:20190627T191436Z
LAST-MODIFIED:20190627T191436Z
UID:7522-1562803200-1562889599@nhccnm.org
SUMMARY:Film: Con el viento/Facing the Wind
DESCRIPTION:7 pm \nCon el viento honors the filmmaker’s grandparents’ village\, and the disappearance of its culture with their passing\, while examining the issue of uprooting in all its complexity. After 20 years away in Buenos Aires\, Mónica\, a dancer and choreographer\, receives a call that her father is dying and must return to the remote village in Burgos\, Spain\, where she was born. When she arrives\, her father has already passed away and her mother asks her to stay and help her sell the family home. As winter sets in—a time of perpetual silence and extreme cold—the mother and daughter\, now strangers to each other\, seek to reconcile while lacking the words to do so. Presented in partnership with Instituto Cervantes as part of the Bank of America Free Thursday Film Series. \n2017; Meritxell Colell Aparicio; Spanish with English subtitles; 108 minutes; not rated. \nFree ticketed event; tickets available one hour before show
URL:https://nhccnm.org/event/film-con-el-viento-facing-the-wind/
LOCATION:NHCC-Newsletter-November-2-30
CATEGORIES:Film,Performing Arts
ATTACH;FMTTYPE=image/jpeg:https://nhccnm.org/wp-content/uploads/2019/06/CON-EL-VIENTO-FACING-THE-WIND-poster.jpg
END:VEVENT
BEGIN:VEVENT
DTSTART;VALUE=DATE:20190712
DTEND;VALUE=DATE:20190713
DTSTAMP:20260423T110532
CREATED:20190531T182043Z
LAST-MODIFIED:20190531T182043Z
UID:7288-1562889600-1562975999@nhccnm.org
SUMMARY:Los Tres Tristes Tigres (Rental)
DESCRIPTION:9 pm (doors open at 8 pm) \nUno de los shows de comedias más aclamados en México\, Estados Unidos y Latinoamérica llega a Albuquerque—Los Tres Tristes Tigres por primera vez en el Centro Nacional de la Cultura Hispana. \nRíete a carcajadas con los chistes y las ocurrencias de Los Tres Tristes Tigres. ¡Ronquillo Productions invita! \n$35\, $45\, $55\, $65 \n\nThe title\, content\, photos/images and description for this event were provided to the NHCC by the organization renting the NHCC venue for the event. By serving as a venue and posting the event on its website\, the NHCC is not endorsing any views expressed in the title or description of the event\, nor is it endorsing the content of the event.
URL:https://nhccnm.org/event/los-tres-tristes-tigres-rental/
LOCATION:Roy E. Disney Center for Performing Arts: Albuquerque Journal Theatre\, 1701 4th St SW\, Albuquerque\, NM\, 87102
CATEGORIES:Music,Performing Arts,Rental,Theatre
ATTACH;FMTTYPE=image/jpeg:https://nhccnm.org/wp-content/uploads/2019/05/Los-Tres-Tristes-Tigres-photo-1.jpg
END:VEVENT
BEGIN:VEVENT
DTSTART;VALUE=DATE:20190716
DTEND;VALUE=DATE:20190717
DTSTAMP:20260423T110532
CREATED:20190605T220154Z
LAST-MODIFIED:20190605T220154Z
UID:7369-1563235200-1563321599@nhccnm.org
SUMMARY:¡Baile! Casino (Cuban Salsa) Dance Class
DESCRIPTION:6 pm to 8:15 pm \n6 pm to 7:15 pm—Beginning and Intermediate Class.\nNo experience is necessary to participate in this class. \n7:15 pm to 8:15 pm—Advanced Class\nIn order to participate in this class\, dancers must come to at least one 6 pm class and be familiar with the vocabulary and movement introduced in these classes. \nDance classes are taught by Larry Heard and Rueda 505 Friends. \nThere is no need to pre-register; just show up in comfortable clothes ready to dance! For more information\, contact Elsa Menéndez at elsa.menendez@state.nm.us or 505-246-2261\, ex. 34744. \n$5 to $10 per class (pay what you can)
URL:https://nhccnm.org/event/baile-casino-cuban-salsa-dance-class-2/
LOCATION:NHCC-Newsletter-August-11-–-24
CATEGORIES:Dance,Dance Classes,Education,Music,Performing Arts,Theatre,Workshops
ATTACH;FMTTYPE=image/jpeg:https://nhccnm.org/wp-content/uploads/2016/12/BaileHomeBanner-tall.jpg
END:VEVENT
BEGIN:VEVENT
DTSTART;VALUE=DATE:20190720
DTEND;VALUE=DATE:20190721
DTSTAMP:20260423T110532
CREATED:20190606T171210Z
LAST-MODIFIED:20190606T171210Z
UID:7385-1563580800-1563667199@nhccnm.org
SUMMARY:Film: Leona
DESCRIPTION:7 pm \nA universal tale of star-crossed lovers is given a uniquely Mexican twist in writer-director Isaac Cherem’s debut film. Ariela\, an independently-minded young artist living with her Syrian-Jewish family in a cloistered Jewish neighborhood in Mexico City\, finds herself torn between her family and a forbidden romance with a non-Jewish writer\, who shows her a world of possibilities beyond her sheltered life. As their feelings deepen\, Ariela must negotiate the labyrinth of familial pressure\, religious values and traditions\, and her own burgeoning sentiment\, finding that there are no easy choices to be made. Bridging the divide between generations and cultures\, the film blends romantic comedy with an incisive feminist journey of discovery and self-determination. \n2018; Isaac Cherem; Spanish with English subtitles; 95 minutes; not rated (mature content advisory). \nThe Jewish Community Center’s 6th Annual ABQ Jewish Film Fest features six recently released film premieres\, weaving a colorful tapestry of uniquely Jewish stories that come from around the world. The NHCC is partnering with the JCC on the screenings of Leona (July 20) and The Mamboniks (July 28). \nTickets are being sold by the Jewish Community Center; $10 in advance\, $12 at the door\, $55 for a full festival pass (6th Annual ABQ Jewish Film Fest)
URL:https://nhccnm.org/event/film-2019-jewish-film-festival-leona/
LOCATION:NHCC-Newsletter-November-2-30
CATEGORIES:Film,Performing Arts,Theatre
ATTACH;FMTTYPE=image/jpeg:https://nhccnm.org/wp-content/uploads/2019/06/Leona-poster.jpg
END:VEVENT
BEGIN:VEVENT
DTSTART;VALUE=DATE:20190721
DTEND;VALUE=DATE:20190722
DTSTAMP:20260423T110532
CREATED:20190516T170600Z
LAST-MODIFIED:20190516T170600Z
UID:7151-1563667200-1563753599@nhccnm.org
SUMMARY:Domingos en Arte: Edmar Castañeda
DESCRIPTION:6 pm \nDomingos en Arte\, the summer music and dance series presented by MelazaMusic and the National Hispanic Cultural Center\, enters its fourth season\, with concerts scheduled through August. We have invited a wide range of Latin artists for family-friendly summer Sundays that feature live music\, drinks\, and delicious Latin cuisine in the NHCC’s enchanting Fountain Courtyard. \nOn July 21\, a partnership with Outpost Productions and the New Mexico Jazz Festival brings Colombian-born harp virtuoso Edmar Castañeda to the courtyard stage. Castañeda has forged a unique musical path\, bringing a wholly original voice to jazz and other genres\, and taking the world by storm with his virtuosity and command of his instrument. A consummate collaborator\, he has formed partnerships with Gonzalo Rubalcaba\, Wynton Marsalis\, and the Jazz at Lincoln Center Orchestra\, among others\, and has performed at venues including the John F. Kennedy Center for the Performing Arts\, the Tanglewood Jazz Festival\, and the 10th Annual World Harp Congress. “If you aren’t watching Castañeda in action\, you might think you’re listening to an ensemble rather than a solo player…. Between both hands\, you hear the overlapping polyrhythms of joropo\, a complex\, triple-meter dance from South America.” (Hartford Courant) \n$20 w/ $5 discount for NHCC members and Outpost members; free for children 12 and younger \nThank you to our Performing Arts Season Sponsors Heritage Hotels and Resorts\, the Albuquerque Journal and Southwest Airlines!
URL:https://nhccnm.org/event/domingos-en-arte-edmar-castaneda/
LOCATION:Patio | Fountain Courtyard\, 1701 4th Street SW\, Albuquerque\, NM\, 87102\, United States
CATEGORIES:Dance,Music,Performing Arts,Theatre
ATTACH;FMTTYPE=image/jpeg:https://nhccnm.org/wp-content/uploads/2019/05/FeaturedImage.jpg
END:VEVENT
BEGIN:VEVENT
DTSTART;VALUE=DATE:20190723
DTEND;VALUE=DATE:20190724
DTSTAMP:20260423T110532
CREATED:20190605T220322Z
LAST-MODIFIED:20190605T220322Z
UID:7371-1563840000-1563926399@nhccnm.org
SUMMARY:¡Baile! Casino (Cuban Salsa) Dance Class
DESCRIPTION:6 pm to 8:15 pm \n6 pm to 7:15 pm—Beginning and Intermediate Class.\nNo experience is necessary to participate in this class. \n7:15 pm to 8:15 pm—Advanced Class\nIn order to participate in this class\, dancers must come to at least one 6 pm class and be familiar with the vocabulary and movement introduced in these classes. \nDance classes are taught by Larry Heard and Rueda 505 Friends. \nThere is no need to pre-register; just show up in comfortable clothes ready to dance! For more information\, contact Elsa Menéndez at elsa.menendez@state.nm.us or 505-246-2261\, ex. 34744. \n$5 to $10 per class (pay what you can)
URL:https://nhccnm.org/event/baile-casino-cuban-salsa-dance-class-3/
LOCATION:NHCC-Newsletter-August-11-–-24
CATEGORIES:Dance,Dance Classes,Music,Performing Arts,Theatre,Workshops
ATTACH;FMTTYPE=image/jpeg:https://nhccnm.org/wp-content/uploads/2016/12/BaileHomeBanner-tall.jpg
END:VEVENT
BEGIN:VEVENT
DTSTART;VALUE=DATE:20190725
DTEND;VALUE=DATE:20190726
DTSTAMP:20260423T110532
CREATED:20190627T192335Z
LAST-MODIFIED:20190627T192335Z
UID:7526-1564012800-1564099199@nhccnm.org
SUMMARY:Film: ¡Las Sandinistas!
DESCRIPTION:7 pm \n¡Las Sandinistas! documents a watershed moment in history\, when a group of Nicaraguan women shattered barriers to lead rebel troops in battle and reshape their country with landmark social reforms during the 1979 Sandinista Revolution and the ensuing U.S.-backed Contra War\, only to face renewed marginalization by their male peers once the wars ended. The film centers on the personal stories of Dora María Téllez\, the young medical student who became a key Sandinista general\, and four of her revolutionary allies. Now\, amid staggering levels of gender violence in Nicaragua\, these same women brave the streets once again to lead popular movements for equality and democracy. Presented in partnership with New Mexico PBS as part of the Bank of America Free Thursday Film Series. The screening will be followed by a Q&A with director Jenny Murray. \n2018; Jenny Murray; English and Spanish with English subtitles; 60 minutes; not rated. \nFree ticketed event; tickets available one hour before show
URL:https://nhccnm.org/event/film-las-sandinistas/
LOCATION:NHCC-Newsletter-November-2-30
CATEGORIES:Film,Performing Arts,Theatre
ATTACH;FMTTYPE=image/jpeg:https://nhccnm.org/wp-content/uploads/2019/06/LAS-SANDINISTAS-film-poster.jpg
END:VEVENT
BEGIN:VEVENT
DTSTART;VALUE=DATE:20190728
DTEND;VALUE=DATE:20190729
DTSTAMP:20260423T110532
CREATED:20190606T172237Z
LAST-MODIFIED:20190606T172237Z
UID:7391-1564272000-1564358399@nhccnm.org
SUMMARY:Film: The Mamboniks
DESCRIPTION:2 pm \nLox and bagels meet salsa and congos in Peabody Award winner Lex Gillespie’s joyous and singular celebration of the Jewish love affair with Latin music and dance\, set in New York\, Havana\, Miami Beach\, and the Catskill Mountains. During the 1950s\, free-spirited\, mostly Jewish dancers from New York City fell head over heels for the mambo\, the hot dance from Cuba that became a worldwide sensation. Their love for Latin rhythms earned them a nickname: the “mamboniks.” Now retired\, yet still dancing in Florida\, a lovable\, somewhat zany collection of dancers from the ‘50s share a passion that age has not cooled. With colorful first-person accounts and an infectious Afro-Cuban soundtrack including Tito Puente\, Celia Cruz\, and “mambo king” Pérez Prado\, The Mamboniks explores a largely unexamined and exhilarating aspect of Jewish life and culture\, and a time when Jews\, Latinos\, and African-Americans met on the dance floor\, although America was racially segregated and anti-Semitism was commonplace. \n2018; Lex Gillespie; English; 89 minutes; not rated. \nFollowing the screening\, join us in the lobby outside the theatre to celebrate the film\, and the finale of the 6th Annual ABQ Jewish Film Fest\, with a “Cuban nosh” provided by La Fonda del Bosque and a cash bar provided by Pop Fizz. \nThe Jewish Community Center’s 6th Annual ABQ Jewish Film Fest features six recently released film premieres\, weaving a colorful tapestry of uniquely Jewish stories that come from around the world. The NHCC is partnering with the JCC on the screenings of Leona (July 20) and The Mamboniks (July 28). \nTickets are being sold by the Jewish Community Center; $10 in advance\, $12 at the door\, $55 for a full festival pass (6th Annual ABQ Jewish Film Fest)
URL:https://nhccnm.org/event/film-albuquerque-jewish-film-festival-2019-the-mamboniks/
LOCATION:NHCC-Newsletter-November-2-30
CATEGORIES:Film,Performing Arts,Theatre
ATTACH;FMTTYPE=image/jpeg:https://nhccnm.org/wp-content/uploads/2019/06/The-Mamboniks-poster.jpg
END:VEVENT
BEGIN:VEVENT
DTSTART;VALUE=DATE:20190728
DTEND;VALUE=DATE:20190729
DTSTAMP:20260423T110532
CREATED:20190701T202034Z
LAST-MODIFIED:20190701T202034Z
UID:7537-1564272000-1564358399@nhccnm.org
SUMMARY:Breathe\, Barelas\, Breathe: A Reading of Excerpts from a Trilogy of One-Act Plays
DESCRIPTION:6 pm\nSunday\, July 28\, 6 pm at B. Ruppe Drugstore parking lot\n807 4th St SW\, Albuquerque\, NM 87102\n \nFree food and drink followed by a reading of excerpts from the trilogy.\n \nThis trilogy of one-act plays is written by Barelas resident playwrights Raúl Garza\, Leonard Madrid and Mónica Sánchez\, and inspired by the history\, dreams and musings of one of Albuquerque’s oldest neighborhoods. This trilogy has been developed with the support of Artful Life’s El Puente/Barelas project and in partnership with the NHCC and Homewise. \nTwo additional readings of the plays are below: \nWednesday\, July 31\, 7 pm at the NHCC Wells Fargo Auditorium\n1701 4th St\, SW\, Albuquerque\, NM 87102\nStaged reading of the entire trilogy (90 minutes) followed by refreshments. \nSaturday\, August 3\, 7 pm at Orpheum Arts Space\n500 2nd St\, SW\, Albuquerque\, NM 87102\nStaged reading of the entire trilogy (90 minutes). Arrive early to see a photo exhibit about Barelas. Followed by refreshments. \nThe playwrights:  \nRaúl Garza is a Barelas-inspired playwright who tells stories that resound with culture\, identify\, and sense of place. His full-length play\, Fantasmaville\, received the National Latino Playwriting Award. When not writing\, Raúl explores kundalini yoga\, devours pop culture\, and travel beyond his means. www.theraulito.com. \nLeonard Madrid works as a designer\, actor\, playwright\, and educator in Albuquerque. His plays\, Tecolotito\, Perla\, and Aurora\, have received a Kennedy Center’s Award for Latino Playwrights. Other plays have received readings and performances around the nation. www.leonardmadrid.org. \nMónica Sánchez has followed her bliss toward a life in the theatre and the theatre of life. She has been a professional theatre maker for the last three decades and happily resides in Barelas. This fall she will join the faculty at Colorado College as Assistant Professor of Playwriting and Performance. www.dramatista.com. \nBreathe\, Barelas\, Breathe Flyer HERE
URL:https://nhccnm.org/event/breathe-barelas-breathe/
LOCATION:NM
CATEGORIES:History and Literary Arts,Performing Arts,Theatre
ATTACH;FMTTYPE=image/jpeg:https://nhccnm.org/wp-content/uploads/2019/02/Barelas-Share-Stories.jpg
END:VEVENT
BEGIN:VEVENT
DTSTART;VALUE=DATE:20190728
DTEND;VALUE=DATE:20190729
DTSTAMP:20260423T110532
CREATED:20190706T191653Z
LAST-MODIFIED:20190706T191653Z
UID:7567-1564272000-1564358399@nhccnm.org
SUMMARY:Quintessence: 7th Annual Summer Choral Festival (Rental)
DESCRIPTION:3 pm in the Albuquerque Journal Theatre\,\nwith a 2 pm pre-concert lecture in the Wells Fargo Auditorium \nQuintessence: Choral Artists of the Southwest present a concert of works from their 7th Annual Summer Choral Festival. Join the 100-voice festival chorus performing glorious works of Brahms and Beethoven for choir and orchestra\, and the Scholars’ Chamber Chorus performing a fantastic set of works by contemporary women composers. \n$10 w/ $5 discount for students  \n\nThe title\, content\, photos/images and description for this event were provided to the NHCC by the organization renting the NHCC venue for the event. By serving as a venue and posting the event on its website\, the NHCC is not endorsing any views expressed in the title or description of the event\, nor is it endorsing the content of the event.
URL:https://nhccnm.org/event/quintessence-6th-annual-summer-choral-festival-rental-2/
LOCATION:Roy E. Disney Center for Performing Arts: Albuquerque Journal Theatre\, 1701 4th St SW\, Albuquerque\, NM\, 87102
CATEGORIES:Music,Performing Arts,Rental,Theatre
ATTACH;FMTTYPE=image/jpeg:https://nhccnm.org/wp-content/uploads/2018/07/Q-Logo-2.jpg
END:VEVENT
BEGIN:VEVENT
DTSTART;VALUE=DATE:20190731
DTEND;VALUE=DATE:20190801
DTSTAMP:20260423T110532
CREATED:20190701T202435Z
LAST-MODIFIED:20190701T202435Z
UID:7544-1564531200-1564617599@nhccnm.org
SUMMARY:Breathe\, Barelas\, Breathe: A Staged-Reading of a Trilogy of One-Act Plays
DESCRIPTION:7 pm \nIn the NHCC Wells Fargo Auditorium\n \nThis will be a staged reading of the entire trilogy (90 minutes) followed by refreshments. \nThis trilogy of one-act plays is written by Barelas resident playwrights Raúl Garza\, Leonard Madrid and Mónica Sánchez\, and inspired by the history\, dreams and musings of one of Albuquerque’s oldest neighborhoods. This trilogy has been developed with the support of Artful Life’s El Puente/Barelas project and in partnership with the NHCC and Homewise. \nTwo additional readings of the plays are below: \nUPCOMING\nSaturday\, August 3\, 7 pm at Orpheum Arts Space\n500 2nd St\, SW\, Albuquerque\, NM 87102\nStaged reading of the entire trilogy (90 minutes). Arrive early to see a photo exhibit about Barelas. Followed by refreshments. \nPAST\nSunday\, July 28\, 6 pm at B. Ruppe Drugstore parking lot\n807 4th St SW\, Albuquerque\, NM 87102\nFree food and drink followed by a reading of excerpts from the trilogy. \nThe playwrights:  \nRaúl Garza is a Barelas-inspired playwright who tells stories that resound with culture\, identify\, and sense of place. His full-length play\, Fantasmaville\, received the National Latino Playwriting Award. When not writing\, Raúl explores kundalini yoga\, devours pop culture\, and travel beyond his means. www.theraulito.com. \nLeonard Madrid works as a designer\, actor\, playwright\, and educator in Albuquerque. His plays\, Tecolotito\, Perla\, and Aurora\, have received a Kennedy Center’s Award for Latino Playwrights. Other plays have received readings and performances around the nation. www.leonardmadrid.org. \nMónica Sánchez has followed her bliss toward a life in the theatre and the theatre of life. She has been a professional theatre maker for the last three decades and happily resides in Barelas. This fall she will join the faculty at Colorado College as Assistant Professor of Playwriting and Performance. www.dramatista.com. \nBreathe\, Barelas\, Breathe Flyer HERE
URL:https://nhccnm.org/event/breathe-barelas-breathe-a-trilogy-of-one-act-plays/
LOCATION:NHCC-BOD-January-2020-Meeting
CATEGORIES:History and Literary Arts,Performing Arts,Theatre
ATTACH;FMTTYPE=image/jpeg:https://nhccnm.org/wp-content/uploads/2019/02/Barelas-Share-Stories.jpg
END:VEVENT
END:VCALENDAR