BEGIN:VCALENDAR
VERSION:2.0
PRODID:-// - ECPv6.15.14//NONSGML v1.0//EN
CALSCALE:GREGORIAN
METHOD:PUBLISH
X-ORIGINAL-URL:https://nhccnm.org
X-WR-CALDESC:Events for 
REFRESH-INTERVAL;VALUE=DURATION:PT1H
X-Robots-Tag:noindex
X-PUBLISHED-TTL:PT1H
BEGIN:VTIMEZONE
TZID:America/Denver
BEGIN:DAYLIGHT
TZOFFSETFROM:-0700
TZOFFSETTO:-0600
TZNAME:MDT
DTSTART:20190310T090000
END:DAYLIGHT
BEGIN:STANDARD
TZOFFSETFROM:-0600
TZOFFSETTO:-0700
TZNAME:MST
DTSTART:20191103T080000
END:STANDARD
BEGIN:DAYLIGHT
TZOFFSETFROM:-0700
TZOFFSETTO:-0600
TZNAME:MDT
DTSTART:20200308T090000
END:DAYLIGHT
BEGIN:STANDARD
TZOFFSETFROM:-0600
TZOFFSETTO:-0700
TZNAME:MST
DTSTART:20201101T080000
END:STANDARD
BEGIN:DAYLIGHT
TZOFFSETFROM:-0700
TZOFFSETTO:-0600
TZNAME:MDT
DTSTART:20210314T090000
END:DAYLIGHT
BEGIN:STANDARD
TZOFFSETFROM:-0600
TZOFFSETTO:-0700
TZNAME:MST
DTSTART:20211107T080000
END:STANDARD
END:VTIMEZONE
BEGIN:VEVENT
DTSTART;VALUE=DATE:20200301
DTEND;VALUE=DATE:20200302
DTSTAMP:20260422T170848
CREATED:20190927T181633Z
LAST-MODIFIED:20190927T181633Z
UID:8038-1583020800-1583107199@nhccnm.org
SUMMARY:Niyaz: The Fourth Light Project
DESCRIPTION:7:30 pm \nNotable electroacoustic group Niyaz present The Fourth Light Project: a cutting-edge\, immersive\, multi-sensory show unlike any other. This groundbreaking multi-media experience combines live musical and dance performance with interactive technologies and advanced projection/ body-mapping techniques that respond to sound and movement in real time. Guided by the mystical poetry of legendary Sufi poets and the ancient wisdom of traditional Middle Eastern folk songs\, Niyaz steps into a future that is ancient\, inviting listeners to embark upon a philosophical quest into the human depths. \n$12\, $22\, $32 w/ a $12 ticket for kids 12 years old and younger \n\nThe title\, content\, photos/images and description for this event were provided to the NHCC by the organization renting the NHCC venue for the event. By serving as a venue and posting the event on its website\, the NHCC is not endorsing any views expressed in the title or description of the event\, nor is it endorsing the content of the event.
URL:https://nhccnm.org/event/niyaz-the-fourth-light-project/
LOCATION:Roy E. Disney Center for Performing Arts: Albuquerque Journal Theatre\, 1701 4th St SW\, Albuquerque\, NM\, 87102
CATEGORIES:Dance,Music,Performing Arts,Rental,Theatre
ATTACH;FMTTYPE=image/jpeg:https://nhccnm.org/wp-content/uploads/2019/09/Niyaz-photo-tall-1.jpg
END:VEVENT
BEGIN:VEVENT
DTSTART;VALUE=DATE:20200302
DTEND;VALUE=DATE:20200303
DTSTAMP:20260422T170848
CREATED:20191024T172354Z
LAST-MODIFIED:20191024T172354Z
UID:8298-1583107200-1583193599@nhccnm.org
SUMMARY:Lila Downs
DESCRIPTION:7:30 pm \nAMP Concerts presents iconic Grammy and Latin Grammy Award-winning singer Lila Downs\, one of the world’s most singular and powerful voices whose compelling stage presence and poignant storytelling transcend all language barriers. Raised in Minnesota and Oaxaca\, this global superstar’s exquisite artistry bridges traditions from across the Americas\, with influences ranging from the folk and ranchera music of Mexico and South America to U.S. folk\, jazz\, blues\, and hip-hop. On her new album\, Al Chile\, Lila pays homage to chile and to the complicated relationship Mexicans have with the fiery fruit that brings them happiness\, suffering\, sweat\, and tears. \n$46\, $61\, $71 \n \nApproximate time of event: 2 hours including intermission. \nTickets will be available for AMP Concert members starting on Wednesday\, October 30\, 2019 at 10 am. General Public sales begin Friday\, November 1\, 2019 at 10 am \n\nThe event is a rental event not an NHCC production. The title\, content\, photos/images and description for this event were provided to the NHCC by the organization renting the NHCC venue for the event. By serving as a venue and posting the event on its website\, the NHCC is not endorsing any views expressed in the title or description of the event\, nor is it endorsing the content of the event.\n\n 
URL:https://nhccnm.org/event/lila-downs/
LOCATION:Roy E. Disney Center for Performing Arts: Albuquerque Journal Theatre\, 1701 4th St SW\, Albuquerque\, NM\, 87102
CATEGORIES:Dance,Music,Performing Arts
ATTACH;FMTTYPE=image/jpeg:https://nhccnm.org/wp-content/uploads/2019/10/Lila-Downs-photo-tall.jpg
END:VEVENT
BEGIN:VEVENT
DTSTART;VALUE=DATE:20200303
DTEND;VALUE=DATE:20200304
DTSTAMP:20260422T170848
CREATED:20191219T232126Z
LAST-MODIFIED:20191219T232126Z
UID:8671-1583193600-1583279999@nhccnm.org
SUMMARY:¡Baile! Casino (Cuban Salsa) Dance Class
DESCRIPTION:6 pm to 8:15 pm \n6 pm to 7:15 pm—Beginning and Intermediate Class.\nNo experience is necessary to participate in this class. \n7:15 pm to 8:15 pm—Advanced Class\nIn order to participate in this class\, dancers must come to at least one 6 pm class and be familiar with the vocabulary and movement introduced in these classes. \nDance classes are taught by Larry Heard and Rueda 505 Friends. \nThere is no need to pre-register; just show up in comfortable clothes ready to dance! For more information\, call 505-246-2261. \n$5 to $10 per class (pay what you can) \n 
URL:https://nhccnm.org/event/baile-casino-cuban-salsa-dance-class-32/
LOCATION:NHCC-Newsletter-August-11-–-24
CATEGORIES:Film,Performing Arts,Theatre
ATTACH;FMTTYPE=image/jpeg:https://nhccnm.org/wp-content/uploads/2019/12/Baile-400x600-1.jpg
END:VEVENT
BEGIN:VEVENT
DTSTART;VALUE=DATE:20200305
DTEND;VALUE=DATE:20200308
DTSTAMP:20260422T170848
CREATED:20200216T223018Z
LAST-MODIFIED:20200216T223018Z
UID:9022-1583366400-1583625599@nhccnm.org
SUMMARY:PAPA\, Public Academy for Performing Arts: Spring Dance Concert: 2020 Vision
DESCRIPTION:Thursday-Saturday\, March 5-7\, 2020\n7 pm—Thursday & Friday\n2 pm—Saturday \nThe Public Academy for Performing Arts (PAPA) presents Vision\, its annual spring dance concert featuring beginning to pre-professional ballet\, contemporary\, flamenco\, hip-hop\, musical theatre\, and jazz dance students from grades 6-12. Approximate length of the event is two hours. \n$7\, $12\, $17 \n \n\nThe event is a rental event not an NHCC production. The title\, content\, photos/images and description for this event were provided to the NHCC by the organization renting the NHCC venue for the event. By serving as a venue and posting the event on its website\, the NHCC is not endorsing any views expressed in the title or description of the event\, nor is it endorsing the content of the event.
URL:https://nhccnm.org/event/papa-spring-dance-concert-2020-2020-vision/
LOCATION:Roy E. Disney Center for Performing Arts: Albuquerque Journal Theatre\, 1701 4th St SW\, Albuquerque\, NM\, 87102
CATEGORIES:Dance,Film,Music,Performing Arts,Rental,Theatre
ATTACH;FMTTYPE=image/jpeg:https://nhccnm.org/wp-content/uploads/2020/02/PAPA-SDC-2020--scaled.jpg
END:VEVENT
BEGIN:VEVENT
DTSTART;VALUE=DATE:20200307
DTEND;VALUE=DATE:20200308
DTSTAMP:20260422T170848
CREATED:20200304T234742Z
LAST-MODIFIED:20200304T234742Z
UID:9125-1583539200-1583625599@nhccnm.org
SUMMARY:Mapitzmitl Xiukwetzpaltin (PAZ) Presents Tonal Machiotl/Piedra del Sol/Aztec Calendar
DESCRIPTION:11 am \nThis is the first of a series of workshops about the Aztec calendar\, covering a range of subject matter pertaining to this indigenous timekeeping device that was rediscovered in Mexico City in 1790. It is an overview of the calendar; participants will be shown the meaning of the calendar’s different concentric rings\, which are used to chart solar\, ceremonial\, and Venutian years. \nFree public event \n \nA second workshop\, sponsored by Kalpulli Izkalli\, will be held at Casa Barelas\, 1024 4th Street SW\, at 6 pm on Wednesday\, March 11. Admission to this workshop\, focusing on the solar year\, is on a donation basis. \nThe third workshop\, an explanation of the 260-day ceremonial year\, will be held at the NHCC on Saturday\, March 14\, in the Wells Fargo Auditorium at 11 am. This workshop is a free public event. \nThese workshops provide background information for the celebration of Yankwik Xiwitl\, or Mexika/Aztec New Year\, hosted by Kalpulli Ehecatl and Kalpulli Izkalli on Sunday\, March 15\, on the NHCC’s Plaza Mayor. The free public event\, ushering in Chikyei Tekpatl/Ocho Pedernal/Eight Stone Blade\, features fire making with a hand drill\, an offering of flowers and fruit\, and ritual Aztec dancing. \nThere are three different year counts in traditional Mesoamerican culture: a lunar year\, a solar year\, and a Venutian year. Mexika New Year celebrates the solar year of 365.25 days. \nFor more information\, e-mail pazehecatl@hotmail.com.
URL:https://nhccnm.org/event/mapitzmitl-xiukwetzpaltin-paz-presents-tonal-machiotl-piedra-del-sol-aztec-calendar/
LOCATION:NHCC-Newsletter-November-2-30
CATEGORIES:Dance,History and Literary Arts,Music,Performing Arts,Theatre
ATTACH;FMTTYPE=image/jpeg:https://nhccnm.org/wp-content/uploads/2020/03/Aztec-New-Year-photo-2020-3.jpg
END:VEVENT
BEGIN:VEVENT
DTSTART;VALUE=DATE:20200310
DTEND;VALUE=DATE:20200311
DTSTAMP:20260422T170848
CREATED:20191219T232357Z
LAST-MODIFIED:20191219T232357Z
UID:8673-1583798400-1583884799@nhccnm.org
SUMMARY:¡Baile! Casino (Cuban Salsa) Dance Class
DESCRIPTION:6 pm to 8:15 pm \n6 pm to 7:15 pm—Beginning and Intermediate Class.\nNo experience is necessary to participate in this class. \n7:15 pm to 8:15 pm—Advanced Class\nIn order to participate in this class\, dancers must come to at least one 6 pm class and be familiar with the vocabulary and movement introduced in these classes. \nDance classes are taught by Larry Heard and Rueda 505 Friends. \nThere is no need to pre-register; just show up in comfortable clothes ready to dance! For more information\, call 505-246-2261. \n$5 to $10 per class (pay what you can)
URL:https://nhccnm.org/event/baile-casino-cuban-salsa-dance-class-33/
LOCATION:NHCC-Newsletter-August-11-–-24
CATEGORIES:Film,Performing Arts,Theatre
ATTACH;FMTTYPE=image/jpeg:https://nhccnm.org/wp-content/uploads/2019/12/Baile-400x600-1.jpg
END:VEVENT
BEGIN:VEVENT
DTSTART;VALUE=DATE:20200312
DTEND;VALUE=DATE:20200313
DTSTAMP:20260422T170848
CREATED:20200305T161139Z
LAST-MODIFIED:20200305T161139Z
UID:9131-1583971200-1584057599@nhccnm.org
SUMMARY:Film: La filla d’algú/La hija de alguien
DESCRIPTION:Tonight’s film screening has been postponed \n7 pm \nEli\, a 30-year-old lawyer\, is pregnant with her first child. On the day of the oral hearing of a high-profile media trial that she has been preparing with her father\, a renowned Barcelona lawyer\, he suddenly disappears. From this point on\, Eli must race to unravel family secrets that have been kept from her until now… or that she hasn’t wanted to see\, and her search will lead her to a reality that will turn her world upside down. Presented in partnership with Instituto Cervantes as part of the Bank of America Free Thursday Film Series. \n2019; Marcel Alcantara Flores\, Julia De Paz Solvas\, Sara Fantova Barrena\, Enric Vilageliu Arnella\, Alejandro Marín\, Carlos Villafina Peláez\, Gerard Vidal Cortes\, Celia Giraldo Lozano\, Guillem Gallego Bertran\, Valentín Moulias\, Pol Vidal Rivas; Catalán with English subtitles; 71 minutes; not recommended for children under 7. \nFree ticketed event; tickets available one hour before show
URL:https://nhccnm.org/event/film-la-filla-dalgu-la-hija-de-alguien/
LOCATION:NHCC-Newsletter-November-2-30
CATEGORIES:Film,Performing Arts,Theatre
ATTACH;FMTTYPE=image/jpeg:https://nhccnm.org/wp-content/uploads/2020/03/La-filla-dalgu-poster.jpg
END:VEVENT
BEGIN:VEVENT
DTSTART;VALUE=DATE:20200313
DTEND;VALUE=DATE:20200314
DTSTAMP:20260422T170848
CREATED:20200205T223422Z
LAST-MODIFIED:20200205T223422Z
UID:8966-1584057600-1584143999@nhccnm.org
SUMMARY:Revolutions Theatre Fest:  And Then…?
DESCRIPTION:All events at the NHCC through April 9\, 2020 have been cancelled / postponed.\nPlease call the NHCC at 505-246-2261 for more information. \n7 pm \nLed by its world-renowned founder and director Dr. Rwangyezi Stephen\, Ndere is a cultural development organization that specializes in Ugandan traditional music\, dance\, and drama. Ndere boasts a repertoire of over 40 different dances\, hundreds of songs\, and a wide variety of instruments. Masterpieces like Ekitaguriro\, Bwola\, Embaga\, Mwaga\, Agwara\, Bakisimba/Nankasa/Mowogola\, Runyege/Ntogoro\, Ding Ding\, Ekizino\, Adungu\, and Gaze make the troupe a true exemplar of Uganda and Africa. When you have seen Ndere\, you have seen Uganda\, and when you have seen Uganda\, you have seen Africa. \nProduced by Tricklock Company\, the Revolutions International Theatre Festival welcomes performance companies from all over the globe to perform and connect across cultures and communities. \n$27 w/ $9 discount for students\, seniors and NHCC members \n \nThank you to our Performing Arts Season Sponsors Heritage Hotels and Resorts\, the Albuquerque Journal and Southwest Airlines!
URL:https://nhccnm.org/event/revolutions-international-theatre-festival-and-then/
LOCATION:NHCC-Newsletter-November-2-30
CATEGORIES:Performing Arts,Seasonal Events,Theatre
ATTACH;FMTTYPE=image/jpeg:https://nhccnm.org/wp-content/uploads/2020/02/Ndere-tall.jpg
END:VEVENT
BEGIN:VEVENT
DTSTART;VALUE=DATE:20200313
DTEND;VALUE=DATE:20200315
DTSTAMP:20260422T170848
CREATED:20190313T175136Z
LAST-MODIFIED:20190313T175136Z
UID:8544-1584057600-1584230399@nhccnm.org
SUMMARY:Yjastros: The American Flamenco Repertory Company Presents Yjastros 36: El Fuego Fatuo
DESCRIPTION:All events at the NHCC through April 9\, 2020 have been postponed.\nPlease call the NHCC at 505-246-2261 for more information. \n8 pm—Friday\n2 pm & 8 pm—Saturday \nYjastros: The American Flamenco Repertory Company presents Yjastros 36: El Fuego Fatuo\, a dynamic display of flamenco’s possibilities framed through Spanish composer Manuel de Falla’s famous work “El Fuego Fatuo”—referring to the persistent fire that is the spirit of flamenco. With world premiere choreography and invited artists including Sevilla’s world-famous flamenco cantaora (singer) Esperanza Fernández and the musical group Revózo led by Vicente Griego and César Bauvallet (Son Como Son)\, El Fuego Fatuo is a dazzling display of flamenco and stunning musical compositions. The interplay among expressive interpretations of de Falla’s work through the vehicles of both dance and music give audiences access to flamenco’s power to evoke profound emotions and connect us all. \n$30\, $40\, $50\, $60 w/ $5 discount for students\, seniors and NHCC members\n \nA unique artistic treasure in the American cultural landscape\, Yjastros proudly brings the creative visions of world-renowned flamenco artists to the American public\, while cultivating the living art of flamenco in the United States. \nThank you to our Performing Arts Season Sponsors Heritage Hotels and Resorts\, the Albuquerque Journal and Southwest Airlines!
URL:https://nhccnm.org/event/yjastros-36/
LOCATION:Roy E. Disney Center for Performing Arts: Albuquerque Journal Theatre\, 1701 4th St SW\, Albuquerque\, NM\, 87102
CATEGORIES:Dance,Music,Performing Arts,Theatre
ATTACH;FMTTYPE=image/jpeg:https://nhccnm.org/wp-content/uploads/2019/12/Yjastros-36-Esponoza-Tall.jpg
END:VEVENT
BEGIN:VEVENT
DTSTART;VALUE=DATE:20200314
DTEND;VALUE=DATE:20200315
DTSTAMP:20260422T170848
CREATED:20200304T235033Z
LAST-MODIFIED:20200304T235033Z
UID:9128-1584144000-1584230399@nhccnm.org
SUMMARY:Mapitzmitl Xiukwetzpaltin (PAZ) Presents Tonal Machiotl/Piedra del Sol/Aztec Calendar
DESCRIPTION:All events at the NHCC through April 9\, 2020 have been cancelled / postponed.\nPlease call the NHCC at 505-246-2261 for more information. \n11 am \nThis is the third and last of a series of workshops about the Aztec calendar\, covering a range of subject matter pertaining to this indigenous timekeeping device that was rediscovered in Mexico City in 1790. It is an explanation of the 260-day ceremonial year. \nFree public event \n \nThese workshops provide background information for the celebration of Yankwik Xiwitl\, or Mexika/Aztec New Year\, hosted by Kalpulli Ehecatl and Kalpulli Izkalli on Sunday\, March 15\, on the NHCC’s Plaza Mayor. The free public event\, ushering in Chikyei Tekpatl/Ocho Pedernal/Eight Stone Blade\, features fire making with a hand drill\, an offering of flowers and fruit\, and ritual Aztec dancing. \nThere are three different year counts in traditional Mesoamerican culture: a lunar year\, a solar year\, and a Venutian year. Mexika New Year celebrates the solar year of 365.25 days. \nFor more information\, e-mail pazehecatl@hotmail.com.
URL:https://nhccnm.org/event/mapitzmitl-xiukwetzpaltin-paz-presents-tonal-machiotl-piedra-del-sol-aztec-calendar-2/
LOCATION:NHCC-BOD-January-2020-Meeting
CATEGORIES:Dance,History and Literary Arts,Music,Performing Arts,Theatre
ATTACH;FMTTYPE=image/jpeg:https://nhccnm.org/wp-content/uploads/2020/03/Aztec-New-Year-photo-2020-3.jpg
END:VEVENT
BEGIN:VEVENT
DTSTART;VALUE=DATE:20200315
DTEND;VALUE=DATE:20200316
DTSTAMP:20260422T170848
CREATED:20200304T234009Z
LAST-MODIFIED:20200304T234009Z
UID:9117-1584230400-1584316799@nhccnm.org
SUMMARY:Yankwik Xiwitl/Año Nuevo Azteca/Aztec New Year
DESCRIPTION:All events at the NHCC through April 9\, 2020 have been cancelled / postponed.\nPlease call the NHCC at 505-246-2261 for more information. \n10 am; dancing begins at approximately 12 pm \nJoin us as Kalpulli Ehecatl and Kalpulli Izkalli host Yankwik Xiwitl\, or Mexika/Aztec New Year\, on the NHCC’s Plaza Mayor. The free public event\, ushering in Chikyei Tekpatl/Ocho Pedernal/Eight Stone Blade\, features fire making with a hand drill\, an offering of flowers and fruit\, and ritual Aztec dancing. \nFree public event \n \nThere are three different year counts in traditional Mesoamerican culture: a lunar year\, a solar year\, and a Venutian year. Mexika New Year celebrates the solar year of 365.25 days. This year’s celebration is preceded by two free educational presentations at the Center— an overview of the Aztec calendar at 11 am on Saturday\, March 7\, and an explanation of the 260-day ceremonial year at 11 am on Saturday\, March 14. An additional workshop\, sponsored by Kalpulli Izkalli\, will be held at Casa Barelas at 6 pm on Wednesday\, March 11. Admission to this workshop\, focusing on the solar year\, is on a donation basis. \nFor more information\, e-mail pazehecatl@hotmail.com.
URL:https://nhccnm.org/event/yankwik-xiwitl-ano-nuevo-azteca-aztec-new-year/
LOCATION:NM
CATEGORIES:Dance,Music,Performing Arts,Theatre
ATTACH;FMTTYPE=image/jpeg:https://nhccnm.org/wp-content/uploads/2020/03/Aztec-New-Year-photo-2020-3.jpg
END:VEVENT
BEGIN:VEVENT
DTSTART;VALUE=DATE:20200317
DTEND;VALUE=DATE:20200318
DTSTAMP:20260422T170848
CREATED:20191219T232512Z
LAST-MODIFIED:20191219T232512Z
UID:8675-1584403200-1584489599@nhccnm.org
SUMMARY:¡Baile! Casino (Cuban Salsa) Dance Class
DESCRIPTION:All events at the NHCC through April 9\, 2020 have been cancelled / postponed.\nPlease call the NHCC at 505-246-2261 for more information. \n6 pm to 8:15 pm \n6 pm to 7:15 pm—Beginning and Intermediate Class.\nNo experience is necessary to participate in this class. \n7:15 pm to 8:15 pm—Advanced Class\nIn order to participate in this class\, dancers must come to at least one 6 pm class and be familiar with the vocabulary and movement introduced in these classes. \nDance classes are taught by Larry Heard and Rueda 505 Friends. \nThere is no need to pre-register; just show up in comfortable clothes ready to dance! For more information\, call 505-246-2261. \n$5 to $10 per class (pay what you can)
URL:https://nhccnm.org/event/baile-casino-cuban-salsa-dance-class-34/
LOCATION:NHCC-Newsletter-August-11-–-24
CATEGORIES:Film,Performing Arts,Theatre
ATTACH;FMTTYPE=image/jpeg:https://nhccnm.org/wp-content/uploads/2019/12/Baile-400x600-1.jpg
END:VEVENT
BEGIN:VEVENT
DTSTART;VALUE=DATE:20200322
DTEND;VALUE=DATE:20200330
DTSTAMP:20260422T170848
CREATED:20190530T194511Z
LAST-MODIFIED:20190530T194511Z
UID:7273-1584835200-1585526399@nhccnm.org
SUMMARY:Opera Southwest Presents Verdi’s La Traviata
DESCRIPTION:All events at the NHCC through April 9\, 2020 have been cancelled / postponed.\nPlease call the NHCC at 505-246-2261 for more information. \nMarch 22\, 25\, 27 & 29\, 2019\n2 pm—Sundays\n7:30 pm—Wednesday & Friday \nOpera Southwest presents Verdi’s La Traviata\, a fully-staged opera with orchestra\, sung in Italian with English translation supertitles and presented in three acts with one intermission. \nOne of the most famous of the great classic operas\, La Traviata is a sweeping love story set against the backdrop of decadent Paris high society\, where the celebrated courtesan Violetta eschews her wealthy suitors for the simple life with poor Alfredo. \n$19\, $39\, $59\, $79\, $99; discounts for groups of ten or more and patrons 30 and younger \n \nVisit the Opera Southwest website HERE. \n\nThe title\, content\, photos/images and description for this event were provided to the NHCC by the organization renting the NHCC venue for the event. By serving as a venue and posting the event on its website\, the NHCC is not endorsing any views expressed in the title or description of the event\, nor is it endorsing the content of the event.
URL:https://nhccnm.org/event/opera-southwest-la-traviata/
LOCATION:Roy E. Disney Center for Performing Arts: Albuquerque Journal Theatre\, 1701 4th St SW\, Albuquerque\, NM\, 87102
CATEGORIES:Music,Performing Arts,Rental,Theatre
ATTACH;FMTTYPE=image/jpeg:https://nhccnm.org/wp-content/uploads/2015/11/OSW-Logo.jpg
END:VEVENT
BEGIN:VEVENT
DTSTART;VALUE=DATE:20200324
DTEND;VALUE=DATE:20200325
DTSTAMP:20260422T170848
CREATED:20191219T232943Z
LAST-MODIFIED:20191219T232943Z
UID:8677-1585008000-1585094399@nhccnm.org
SUMMARY:¡Baile! Casino (Cuban Salsa) Dance Class
DESCRIPTION:All events at the NHCC through April 9\, 2020 have been cancelled / postponed.\nPlease call the NHCC at 505-246-2261 for more information. \n6 pm to 8:15 pm \n6 pm to 7:15 pm—Beginning and Intermediate Class.\nNo experience is necessary to participate in this class. \n7:15 pm to 8:15 pm—Advanced Class\nIn order to participate in this class\, dancers must come to at least one 6 pm class and be familiar with the vocabulary and movement introduced in these classes. \nDance classes are taught by Larry Heard and Rueda 505 Friends. \nThere is no need to pre-register; just show up in comfortable clothes ready to dance! For more information\, call 505-246-2261. \n$5 to $10 per class (pay what you can)
URL:https://nhccnm.org/event/baile-casino-cuban-salsa-dance-class-35/
LOCATION:NHCC-Newsletter-August-11-–-24
CATEGORIES:Film,Performing Arts,Theatre
ATTACH;FMTTYPE=image/jpeg:https://nhccnm.org/wp-content/uploads/2019/12/Baile-400x600-1.jpg
END:VEVENT
BEGIN:VEVENT
DTSTART;VALUE=DATE:20200326
DTEND;VALUE=DATE:20200327
DTSTAMP:20260422T170848
CREATED:20200305T161826Z
LAST-MODIFIED:20200305T161826Z
UID:9135-1585180800-1585267199@nhccnm.org
SUMMARY:Film: Young and Beautiful
DESCRIPTION:All events at the NHCC through April 9\, 2020 have been cancelled / postponed.\nPlease call the NHCC at 505-246-2261 for more information. \n7 pm \nPoti\, Nais\, Ione\, and Das are young Spanish women who live on their own terms. But as they approach their thirties\, a profound unease overcomes them: they are still far from being the independent\, self-confident\, and passionate adults they always dreamed of being. Each has to examine her identity through dialogue\, in an intimate exchange with Marina\, their friend and the director of this film. Young and Beautiful is a portrait of a generation accused of not wanting to grow up\, while expected to accept a hopeless world and a country in crisis\, where they are told that the one way to survive is to abandon their dreams. Presented in partnership with Instituto Cervantes as part of the Bank of America Free Thursday Film Series. \n2018; Marina Lameiro; Spanish with English subtitles; 72 minutes; not rated. \nFree ticketed event; tickets available one hour before show
URL:https://nhccnm.org/event/film-young-and-beautiful-7-pm/
LOCATION:NHCC-Newsletter-November-2-30
CATEGORIES:Film,Performing Arts,Theatre
ATTACH;FMTTYPE=image/jpeg:https://nhccnm.org/wp-content/uploads/2020/03/Young-and-Beautiful-poster-1.jpg
END:VEVENT
BEGIN:VEVENT
DTSTART;VALUE=DATE:20200327
DTEND;VALUE=DATE:20200328
DTSTAMP:20260422T170848
CREATED:20200206T192236Z
LAST-MODIFIED:20200206T192236Z
UID:8974-1585267200-1585353599@nhccnm.org
SUMMARY:Revolutions Theatre Fest:  Free Speech Comedy Arts Series featuring John Fugelsang
DESCRIPTION:All events at the NHCC through April 9\, 2020 have been cancelled / postponed.\nPlease call the NHCC at 505-246-2261 for more information. \n9:30 pm \nComedian John Fugelsang (SiriusXM\, The Sexy Liberal Comedy Tour\, MSNBC & CNN) returns to Revolutions with his brilliant and hilarious insights on the world in this stand-up comedy special. John will be back in Albuquerque for one night only to celebrate 20 years of Revolutions with his irreverent comedy including special guests\, Albuquerque favorites Rusty Rutherford and Sarah Kennedy. \nProduced by Tricklock Company\, the Revolutions International Theatre Festival welcomes performance companies from all over the globe to perform and connect across cultures and communities. \n$27 w/ a 9 discount for students\, seniors and NHCC members \n \nThank you to our Performing Arts Season Sponsors Heritage Hotels and Resorts\, the Albuquerque Journal and Southwest Airlines!
URL:https://nhccnm.org/event/revolutions-theatre-fest-free-speech-comedy-arts-series-featuring-john-fugelsang/
LOCATION:NHCC-Newsletter-November-2-30
CATEGORIES:Performing Arts,Seasonal Events,Speakers,Theatre
ATTACH;FMTTYPE=image/jpeg:https://nhccnm.org/wp-content/uploads/2020/02/John-F-Free-Speech-125.jpg
END:VEVENT
BEGIN:VEVENT
DTSTART;VALUE=DATE:20200328
DTEND;VALUE=DATE:20200329
DTSTAMP:20260422T170848
CREATED:20200227T190253Z
LAST-MODIFIED:20200227T190253Z
UID:9070-1585353600-1585439999@nhccnm.org
SUMMARY:Revolutions Theatre Fest: The Solution Mixtape
DESCRIPTION:All events at the NHCC through April 9\, 2020 have been cancelled / postponed.\nPlease call the NHCC at 505-246-2261 for more information. \n5 pm \nIn less than 90 minutes\, writers/performers/hip-hop artists Idris Goodwin and Brian Quijada solve the nation’s biggest problems with beats\, rhymes\, and real talk.  Thro9ugh their autobiographical work\, woven with humor\, heart\, and piercing commentary\, they join forces to tackle issues of immigration\, race\, masculinity\, and gender. Built on Brian’s live soundscapes\, created on the spot\, they tell stories and share poems designed to spark meaningful conversation with the audience. Throughout the performance\, they share the mic with the community and facilitate a collective conversation and brainstorming on how we can collectively name and use our privilege for progress. \nProduced by Tricklock Company\, the Revolutions International Theatre Festival welcomes performance companies from all over the globe to perform and connect across cultures and communities. \nPay What You Decide
URL:https://nhccnm.org/event/revolutions-international-theatre-festival-the-solution-mixtape/
LOCATION:NHCC-Newsletter-November-2-30
CATEGORIES:Performing Arts,Theatre
ATTACH;FMTTYPE=image/jpeg:https://nhccnm.org/wp-content/uploads/2020/02/Brian-Quijada-photo-3.1.jpg
END:VEVENT
BEGIN:VEVENT
DTSTART;VALUE=DATE:20200331
DTEND;VALUE=DATE:20200401
DTSTAMP:20260422T170848
CREATED:20191219T233051Z
LAST-MODIFIED:20191219T233051Z
UID:8679-1585612800-1585699199@nhccnm.org
SUMMARY:¡Baile! Casino (Cuban Salsa) Dance Class
DESCRIPTION:All events at the NHCC through April 9\, 2020 have been cancelled / postponed.\nPlease call the NHCC at 505-246-2261 for more information. \n6 pm to 8:15 pm \n6 pm to 7:15 pm—Beginning and Intermediate Class.\nNo experience is necessary to participate in this class. \n7:15 pm to 8:15 pm—Advanced Class\nIn order to participate in this class\, dancers must come to at least one 6 pm class and be familiar with the vocabulary and movement introduced in these classes. \nDance classes are taught by Larry Heard and Rueda 505 Friends. \nThere is no need to pre-register; just show up in comfortable clothes ready to dance! For more information\, call 505-246-2261. \n$5 to $10 per class (pay what you can)
URL:https://nhccnm.org/event/baile-casino-cuban-salsa-dance-class-36/
LOCATION:NHCC-Newsletter-August-11-–-24
CATEGORIES:Film,Performing Arts,Theatre
ATTACH;FMTTYPE=image/jpeg:https://nhccnm.org/wp-content/uploads/2019/12/Baile-400x600-1.jpg
END:VEVENT
END:VCALENDAR