BEGIN:VCALENDAR
VERSION:2.0
PRODID:-// - ECPv6.15.14//NONSGML v1.0//EN
CALSCALE:GREGORIAN
METHOD:PUBLISH
X-ORIGINAL-URL:https://nhccnm.org
X-WR-CALDESC:Events for 
REFRESH-INTERVAL;VALUE=DURATION:PT1H
X-Robots-Tag:noindex
X-PUBLISHED-TTL:PT1H
BEGIN:VTIMEZONE
TZID:America/Denver
BEGIN:DAYLIGHT
TZOFFSETFROM:-0700
TZOFFSETTO:-0600
TZNAME:MDT
DTSTART:20240310T090000
END:DAYLIGHT
BEGIN:STANDARD
TZOFFSETFROM:-0600
TZOFFSETTO:-0700
TZNAME:MST
DTSTART:20241103T080000
END:STANDARD
BEGIN:DAYLIGHT
TZOFFSETFROM:-0700
TZOFFSETTO:-0600
TZNAME:MDT
DTSTART:20250309T090000
END:DAYLIGHT
BEGIN:STANDARD
TZOFFSETFROM:-0600
TZOFFSETTO:-0700
TZNAME:MST
DTSTART:20251102T080000
END:STANDARD
BEGIN:DAYLIGHT
TZOFFSETFROM:-0700
TZOFFSETTO:-0600
TZNAME:MDT
DTSTART:20260308T090000
END:DAYLIGHT
BEGIN:STANDARD
TZOFFSETFROM:-0600
TZOFFSETTO:-0700
TZNAME:MST
DTSTART:20261101T080000
END:STANDARD
END:VTIMEZONE
BEGIN:VEVENT
DTSTART;VALUE=DATE:20250613
DTEND;VALUE=DATE:20250614
DTSTAMP:20260424T064544
CREATED:20250130T210655Z
LAST-MODIFIED:20250605T163521Z
UID:22316-1749772800-1749859199@nhccnm.org
SUMMARY:NHCC Summer Film Series: Problemista
DESCRIPTION:7:00 pm\n6:00 pm cash bar with Pop Fizz  \nNHCC | Bank of America Theatre \nJoin us for a film screening by a Hispanic/Chicane/Latine filmmaker. We will be presenting films that preserve\, promote and/or advance the vast cultural identity and experience of Hispanic/Chicane/Latine people. \nJulio Torres’ Problemista is the story of Alejandro\, an aspiring toy designer from El Salvador\, struggling to bring his unusual ideas to life in New York City. As time on his work visa runs out\, a job assisting an erratic art-world outcast becomes his only hope to stay in the country and realize his dream. From writer/director Julio Torres comes a surreal adventure through the equally treacherous worlds of New York City and the U.S. Immigration system. \nDirector: Julio Torres | Production year: 2024 | Rating: R | Studio: A24 | Runtime: 98 minutes | Cast: Julio Torres\, Tilda Swinton\, RZA\, Catalina Saavedra\, & James Scully \nFree community event. Please let us know who will be attending by making a reservation below.
URL:https://nhccnm.org/event/nhcc-summer-film-series-2/
LOCATION:Roy E. Disney Center for Performing Arts: Bank of America Theatre\, 1701 4th Street SW\, Albuquerque\, NM\, 87102
CATEGORIES:Film,Theatre
ATTACH;FMTTYPE=image/jpeg:https://nhccnm.org/wp-content/uploads/2025/01/Problemista-graphic.jpg
END:VEVENT
BEGIN:VEVENT
DTSTART;VALUE=DATE:20250620
DTEND;VALUE=DATE:20250621
DTSTAMP:20260424T064544
CREATED:20250401T161910Z
LAST-MODIFIED:20250401T162906Z
UID:22755-1750377600-1750463999@nhccnm.org
SUMMARY:Festival Flamenco Alburquerque: Ballet Flamenco de Andalucía: Pineda
DESCRIPTION:8:30 pm \nNHCC | Albuquerque Journal Theatre \nNational Institute of Flamenco and the NHCC present Festival Flamenco Alburquerque: Ballet Flamenco de Andalucía: “PINEDA.” Federico García Lorca wrote Mariana Pineda “at barely twenty years old and with a strong romantic flavor\,” as he stated in an interview after its first premiere. However\, the origins of the play trace back to the poet’s childhood in Granada and young Federico’s encounter with the bronze statue of the liberal heroine\, “proud upon the column\, her hair loose\, her gaze fixed on the sky\, clutching the flag of liberty against her body.” Lorca also recalled himself holding hands with other children\, singing the verses of a popular ballad “in a melancholic tone\, which seemed tragic to me.” Early in his career as a playwright\, the poet felt the poetic imperative to transform that “profound childhood impression” into a theatrical work. \n“There are a thousand different Marianas of Pineda. The heroic Mariana\, the motherly Mariana\, the Mariana in love\, the embroidering Mariana\, but I wasn’t going to ‘create’ them all.” This is how Federico García Lorca described his protagonist after the 1927 premiere of the play. Among all these possible Marianas\, we have chosen to focus on the one Lorca himself evoked: “a woman of deep Spanish roots\, who sings of love and freedom in the verses of her life in a way that captures the universal essence of these two great sentiments\,” embodying “freedom itself.” \nIn her debut as Artistic Director of the Ballet Flamenco de Andalucía\, Granada-born Patricia Guerrero takes on the challenge of giving body and soul to Pineda. This version explores the full spiritual and expressive power of Lorca’s dramatic poem. Accompanied by an exceptional team\, Patricia Guerrero delivers a vibrant and electrifying Pineda\, both rooted in Granada and universal\, and unequivocally flamenco. A dramatic poem brought to life through dance because\, in Federico’s own words\, “the stage can only be emotion and poetry: in the word\, in the action\, and in the gesture.” \n$69\, $83\, $99\, $113 & $129. *Price includes the NHCC’s $4 fee. \n\n*All NHCC performance/event ticket sales go through the National Hispanic Cultural Center Website. NHCC is a division of New Mexico Department of Cultural Affairs. You will be redirected to our central ticketing system. DO NOT BUY FROM THIRD PARTIES. If you see a third party app or website\, please report it to the Center at (505) 246-2261.
URL:https://nhccnm.org/event/festival-flamenco-alburquerque-ballet-flamenco-de-andalucia-pineda/
LOCATION:Roy E. Disney Center for Performing Arts: Albuquerque Journal Theatre\, 1701 4th St SW\, Albuquerque\, NM\, 87102
CATEGORIES:Dance,Performing Arts,Seasonal Events,Theatre
ATTACH;FMTTYPE=image/png:https://nhccnm.org/wp-content/uploads/2025/03/thumbnail_PINEDA.png
END:VEVENT
BEGIN:VEVENT
DTSTART;VALUE=DATE:20250621
DTEND;VALUE=DATE:20250622
DTSTAMP:20260424T064544
CREATED:20250315T192940Z
LAST-MODIFIED:20250401T163158Z
UID:22758-1750464000-1750550399@nhccnm.org
SUMMARY:Festival Flamenco Alburquerque: Ballet Flamenco de Andalucía: Tierra Bendita
DESCRIPTION:8:30 pm \nNHCC | Albuquerque Journal Theatre \nNational Institute of Flamenco and the NHCC present Festival Flamenco Alburquerque: Ballet Flamenco de Andalucía: “Tierra Bendita.” From Andalusia\, the birthplace of Flamenco\, Tierra Bendita presents a journey through the picturesque landscapes of this southern Spanish region\, showcasing its most iconic songs and dances. This production bridges tradition and modernity\, blending 18th-century aesthetics with contemporary art. \nTierra Bendita unveils a flamenco world without restraint\, celebrating the new generation of creators while revealing the artist’s raw essence to the audience. Directed by Patricia Guerrero\, recipient of Spain’s National Dance Award in 2021\, and performed by the Andalusian Flamenco Ballet\, the piece is a masterful work rich in detail. It reimagines structures while respecting traditional forms\, offering a multidisciplinary experience where every element stands strong on its own yet contributes seamlessly to the whole. \n$69\, $83\, $99\, $113 & $129. *Price includes the NHCC’s $4 fee. \n\n*All NHCC performance/event ticket sales go through the National Hispanic Cultural Center Website. NHCC is a division of New Mexico Department of Cultural Affairs. You will be redirected to our central ticketing system. DO NOT BUY FROM THIRD PARTIES. If you see a third party app or website\, please report it to the Center at (505) 246-2261.
URL:https://nhccnm.org/event/festival-flamenco-alburquerque-ballet-flamenco-de-andalucia-tierra-bendita/
LOCATION:Roy E. Disney Center for Performing Arts: Albuquerque Journal Theatre\, 1701 4th St SW\, Albuquerque\, NM\, 87102
CATEGORIES:Music,Performing Arts,Seasonal Events,Theatre
ATTACH;FMTTYPE=image/png:https://nhccnm.org/wp-content/uploads/2025/03/TIERRA-BENDITA.png
END:VEVENT
BEGIN:VEVENT
DTSTART;VALUE=DATE:20250622
DTEND;VALUE=DATE:20250623
DTSTAMP:20260424T064544
CREATED:20250401T161829Z
LAST-MODIFIED:20250401T161829Z
UID:22763-1750550400-1750636799@nhccnm.org
SUMMARY:Festival Flamenco Alburquerque: Rafaela Carrasco y compañía: Nocturna
DESCRIPTION:8:30 pm \nNHCC | Albuquerque Journal Theatre \nNational Institute of Flamenco and the NHCC present Festival Flamenco Alburquerque: Rafaela Carrasco y compañía: “Nocturna.” Nocturna is a flamenco performance that delves into the mysteries of the night\, exploring themes of insomnia\, dreams\, and the passage of time. Choreographed and directed by Rafaela Carrasco\, with dramaturgy by Álvaro Tato\, the show journeys through the emotional and psychological landscapes of sleepless nights. \nCombining dance\, music\, and poetry\, Nocturna evokes the contradictions of the night: tranquility and madness\, love and fear\, dream and nightmare. The production features a rich interplay of live flamenco singing\, piano\, and electronic music\, inspired by J.S. Bach’s Goldberg Variations\, silences\, and original compositions. \nThe dancers navigate moments of solitude and togetherness on stage\, reflecting the transformation and movement the night imposes on the human spirit. It is a poetic\, deeply evocative experience that strips the soul bare\, revealing the most intimate emotions hidden in darkness. \nNocturna is an ambitious work\, seamlessly blending tradition and modernity to reimagine flamenco’s emotional and artistic possibilities \n$59\, $73\, $89\, $103 & $119. *Price includes the NHCC’s $4 fee. \n\n*All NHCC performance/event ticket sales go through the National Hispanic Cultural Center Website. NHCC is a division of New Mexico Department of Cultural Affairs. You will be redirected to our central ticketing system. DO NOT BUY FROM THIRD PARTIES. If you see a third party app or website\, please report it to the Center at (505) 246-2261.
URL:https://nhccnm.org/event/festival-flamenco-alburquerque-rafaela-carrasco-y-compania-nocturna/
LOCATION:Roy E. Disney Center for Performing Arts: Albuquerque Journal Theatre\, 1701 4th St SW\, Albuquerque\, NM\, 87102
CATEGORIES:Dance,Music,Performing Arts,Theatre
ATTACH;FMTTYPE=image/png:https://nhccnm.org/wp-content/uploads/2025/03/NOCTURNA.png
END:VEVENT
BEGIN:VEVENT
DTSTART;VALUE=DATE:20250627
DTEND;VALUE=DATE:20250628
DTSTAMP:20260424T064544
CREATED:20250401T161735Z
LAST-MODIFIED:20250401T161735Z
UID:22769-1750982400-1751068799@nhccnm.org
SUMMARY:Festival Flamenco Alburquerque: Fiesta Flamenca
DESCRIPTION:Featuring Paula Comitre\, Juan de Juan\, Alfonso Losa\, Ana Morales\, and Olga Pericet.\n8:30 pm \nNHCC | Albuquerque Journal Theatre \nNational Institute of Flamenco and the NHCC present Festival Flamenco Alburquerque: “Fiesta Flamenca.” Fiesta Flamenca is the grand finale and a true highlight of Festival Flamenco Alburquerque\, the largest and longest-running flamenco festival outside of Spain. \nThis star-studded gala evening brings together a dazzling array of flamenco music and dance\, showcasing performances by some of the most renowned artists and companies in the world. Each Fiesta Flamenca features a unique cast\, delivering an unforgettable celebration of the depth\, diversity\, and passion that define flamenco artistry. \nHosted at the prestigious National Hispanic Cultural Center in Albuquerque\, New Mexico\, Fiesta Flamenca is a centerpiece of the broader Festival Flamenco Alburquerque\, which also includes world-class performances\, workshops\, and cultural events. It’s an experience that captures the essence of flamenco and leaves audiences captivated. \n$69\, $83\, $99\, $113 & $129. *Price includes the NHCC’s $4 fee. \n\n*All NHCC performance/event ticket sales go through the National Hispanic Cultural Center Website. NHCC is a division of New Mexico Department of Cultural Affairs. You will be redirected to our central ticketing system. DO NOT BUY FROM THIRD PARTIES. If you see a third party app or website\, please report it to the Center at (505) 246-2261.
URL:https://nhccnm.org/event/festival-flamenco-alburquerque-fiesta-flamenca-3/
LOCATION:Roy E. Disney Center for Performing Arts: Albuquerque Journal Theatre\, 1701 4th St SW\, Albuquerque\, NM\, 87102
CATEGORIES:Dance,Music,Performing Arts,Theatre
ATTACH;FMTTYPE=image/png:https://nhccnm.org/wp-content/uploads/2025/03/thumbnail_FIESTAS-FLAMENCAS.png
END:VEVENT
BEGIN:VEVENT
DTSTART;VALUE=DATE:20250628
DTEND;VALUE=DATE:20250629
DTSTAMP:20260424T064544
CREATED:20250401T161715Z
LAST-MODIFIED:20250401T183524Z
UID:22772-1751068800-1751155199@nhccnm.org
SUMMARY:Festival Flamenco Alburquerque: Fiesta Flamenca
DESCRIPTION:Featuring David Coria\, Fuensanta “La Moneta\,” José Maya\, Luisa Palicio and Yjastros: The American Flamenco Repertory Company.\n8:30 pm \nNHCC | Albuquerque Journal Theatre \nNational Institute of Flamenco and the NHCC present Festival Flamenco Alburquerque: “Fiesta Flamenca.” Fiesta Flamenca is the grand finale and a true highlight of Festival Flamenco Alburquerque\, the largest and longest-running flamenco festival outside of Spain. \nThis star-studded gala evening brings together a dazzling array of flamenco music and dance\, showcasing performances by some of the most renowned artists and companies in the world. Each Fiesta Flamenca features a unique cast\, delivering an unforgettable celebration of the depth\, diversity\, and passion that define flamenco artistry. \nHosted at the prestigious National Hispanic Cultural Center in Albuquerque\, New Mexico\, Fiesta Flamenca is a centerpiece of the broader Festival Flamenco Alburquerque\, which also includes world-class performances\, workshops\, and cultural events. It’s an experience that captures the essence of flamenco and leaves audiences captivated. \n$69\, $83\, $99\, $113 & $129. *Price includes the NHCC’s $4 fee. \n\n*All NHCC performance/event ticket sales go through the National Hispanic Cultural Center Website. NHCC is a division of New Mexico Department of Cultural Affairs. You will be redirected to our central ticketing system. DO NOT BUY FROM THIRD PARTIES. If you see a third party app or website\, please report it to the Center at (505) 246-2261.
URL:https://nhccnm.org/event/festival-flamenco-alburquerque-fiesta-flamenca-2/
LOCATION:Roy E. Disney Center for Performing Arts: Albuquerque Journal Theatre\, 1701 4th St SW\, Albuquerque\, NM\, 87102
CATEGORIES:Dance,Music,Performing Arts,Theatre
ATTACH;FMTTYPE=image/png:https://nhccnm.org/wp-content/uploads/2025/03/thumbnail_FIESTAS-FLAMENCAS.png
END:VEVENT
END:VCALENDAR