BEGIN:VCALENDAR
VERSION:2.0
PRODID:-// - ECPv6.15.14//NONSGML v1.0//EN
CALSCALE:GREGORIAN
METHOD:PUBLISH
X-ORIGINAL-URL:https://nhccnm.org
X-WR-CALDESC:Events for 
REFRESH-INTERVAL;VALUE=DURATION:PT1H
X-Robots-Tag:noindex
X-PUBLISHED-TTL:PT1H
BEGIN:VTIMEZONE
TZID:America/Denver
BEGIN:DAYLIGHT
TZOFFSETFROM:-0700
TZOFFSETTO:-0600
TZNAME:MDT
DTSTART:20240310T090000
END:DAYLIGHT
BEGIN:STANDARD
TZOFFSETFROM:-0600
TZOFFSETTO:-0700
TZNAME:MST
DTSTART:20241103T080000
END:STANDARD
BEGIN:DAYLIGHT
TZOFFSETFROM:-0700
TZOFFSETTO:-0600
TZNAME:MDT
DTSTART:20250309T090000
END:DAYLIGHT
BEGIN:STANDARD
TZOFFSETFROM:-0600
TZOFFSETTO:-0700
TZNAME:MST
DTSTART:20251102T080000
END:STANDARD
BEGIN:DAYLIGHT
TZOFFSETFROM:-0700
TZOFFSETTO:-0600
TZNAME:MDT
DTSTART:20260308T090000
END:DAYLIGHT
BEGIN:STANDARD
TZOFFSETFROM:-0600
TZOFFSETTO:-0700
TZNAME:MST
DTSTART:20261101T080000
END:STANDARD
END:VTIMEZONE
BEGIN:VEVENT
DTSTART;VALUE=DATE:20251005
DTEND;VALUE=DATE:20251006
DTSTAMP:20260422T063845
CREATED:20250710T230140Z
LAST-MODIFIED:20250710T230140Z
UID:23677-1759622400-1759708799@nhccnm.org
SUMMARY:New Mexico Philharmonic: Schubert’s Tragic Symphony
DESCRIPTION:2:00 pm \nNew Mexico Philharmonic presents Schubert’s Tragic Symphony\n \nFrancois Lopez-Ferrer\, conductor\nElla Tasker violin\nSean Choi piano \nMozart Overture to Don Giovanni \nMozart Violin Concerto No. 4 in D Major\, K. 218: I. Allegro\nBeethoven Piano Concerto No. 4 in G Major\, Op. 58: III. Rondo-Vivace\nSchubert Symphony No. 4 in c minor\, “Tragic” \nStep into the heart of musical drama with Schubert’s emotionally charged “Tragic” Symphony. This concert showcases the brilliant young talents of Ella Tasker and Sean Choi\, first-place winners of the Jackie McGehee Young Artists’ Competition\, performing selections from Mozart’s lyrical Violin Concerto No. 4 and Beethoven’s radiant Piano Concerto No. 4\, respectively. And we open the evening with the stormy passion of Mozart’s Don Giovanni Overture. This afternoon is a perfect blend of elegance and fire. \nRun time: Approximately 2 hours \n\n*The event is a rental event not an NHCC production. The title\, content\, photos/images and description for this event were provided to the NHCC by the organization renting the NHCC venue for the event. By serving as a venue and posting the event on its website\, the NHCC is not endorsing any views expressed in the title or description of the event\, nor is it endorsing the content of the event. \n*All NHCC performance/event ticket sales go through the National Hispanic Cultural Center Website. NHCC is a division of New Mexico Department of Cultural Affairs. You will be redirected to our central ticketing system. DO NOT BUY FROM THIRD PARTIES. If you see a third party app or website\, please report it to the Center at (505) 246-2261.
URL:https://nhccnm.org/event/new-mexico-philharmonic-schuberts-tragic-symphony/
LOCATION:Roy E. Disney Center for Performing Arts: Albuquerque Journal Theatre\, 1701 4th St SW\, Albuquerque\, NM\, 87102
CATEGORIES:Music,Performing Arts,Rental,Theatre
ATTACH;FMTTYPE=image/png:https://nhccnm.org/wp-content/uploads/2024/07/NM-Philharmonic-image-1.png
END:VEVENT
BEGIN:VEVENT
DTSTART;VALUE=DATE:20251008
DTEND;VALUE=DATE:20251026
DTSTAMP:20260422T063845
CREATED:20250625T164917Z
LAST-MODIFIED:20250923T223744Z
UID:23553-1759881600-1761436799@nhccnm.org
SUMMARY:The Vortex Theatre: Cebollas
DESCRIPTION:Oct. 10-11: 7:30 pm Friday\, 2:00 pm Saturday\nOct. 17-19: 7:30 pm Friday\, 2:00 & 7:30 pm Saturday\, 2:00 pm Sunday\nOct. 25: 7:30 pm\nJoin us 7:30 pm Thursday\, October 8 for Cebollas’ special preview/community night \nNHCC | Wells Fargo Auditorium \nThe Vortex Theatre invite you to a crazy and funny play. \nLeonard Madrid’s Cebollas\, directed by Rachel Dodd\, is a road trip like no other. Tere\, Celia and Yolie decide to take the body of Yolie’s dead lover back to his wife\, and the highway between Burque and Denver will never be the same. This play involves adult themes of death\, sexuality\, and adult language. Viewer discretion is advised. Ticket sales are 18+. \nJoin us for this exciting new Latinx play that will be playing over three October weekends. \n$26 w/ $2 off for seniors and NHCC members.\n*$5 special price for the preview performances. \n\n*The event is a rental event not an NHCC production. By serving as a venue and posting the event on its website\, the NHCC is not endorsing any views expressed in the title or description of the event\, nor is it endorsing the content of the event. All NHCC performance/event ticket sales go through the National Hispanic Cultural Center Website. NHCC is a division of New Mexico Department of Cultural Affairs. \nYou will be redirected to our central ticketing system. DO NOT BUY FROM THIRD PARTIES. If you see a third party app or website\, please report it to the Center at (505) 246-2261.
URL:https://nhccnm.org/event/the-vortex-theatre-cebollas/
LOCATION:Roy E. Disney Center for Performing Arts: Wells Fargo Auditorium\, 1701 4th Street SW\, Albuquerque\, NM\, 87102
CATEGORIES:Performing Arts,Theatre
ATTACH;FMTTYPE=image/jpeg:https://nhccnm.org/wp-content/uploads/2025/06/Vortex-Graphic-Cebollas-a.jpg
END:VEVENT
BEGIN:VEVENT
DTSTART;VALUE=DATE:20251009
DTEND;VALUE=DATE:20251027
DTSTAMP:20260422T063845
CREATED:20250916T214556Z
LAST-MODIFIED:20251008T154828Z
UID:24126-1759968000-1761523199@nhccnm.org
SUMMARY:The Vortex Theatre: Chimichangas & Zoloft
DESCRIPTION:Oct. 11-12: 7:30 pm Saturday\, 2:00 pm Sunday\nOct. 19: 7:30 pm Sunday\nOct. 26: 2:00 pm Sunday\n7:30 pm Thursday\, October 9 for Chimichangas & Zoloft’s special preview/community night \nNHCC | Wells Fargo Auditorium \nThe Vortex Theatre presents Chimichangas & Zoloft. Fernanda Coppel’s written comedy\, Chimichangas & Zoloft\, directed by Miguel Martinez\, examines the search for happiness and the mysteries of sexuality and navigating the paths of identity and culture. Please note that this performance is for adults/mature audiences and involves adult themes and language. Viewer discretion is advised. Ticket sales are 18+. \n$26 w/ $2 off for seniors.\n*$5 special price for the preview performances. \nThis is a general admission event. \n\n*The event is a rental event not an NHCC production. By serving as a venue and posting the event on its website\, the NHCC is not endorsing any views expressed in the title or description of the event\, nor is it endorsing the content of the event. All NHCC performance/event ticket sales go through the National Hispanic Cultural Center Website. NHCC is a division of New Mexico Department of Cultural Affairs. \nYou will be redirected to our central ticketing system. DO NOT BUY FROM THIRD PARTIES. If you see a third party app or website\, please report it to the Center at (505) 246-2261.
URL:https://nhccnm.org/event/the-vortex-theatre-chimichangas-zoloft/
LOCATION:Roy E. Disney Center for Performing Arts: Wells Fargo Auditorium\, 1701 4th Street SW\, Albuquerque\, NM\, 87102
CATEGORIES:Performing Arts,Theatre
ATTACH;FMTTYPE=image/jpeg:https://nhccnm.org/wp-content/uploads/2025/09/Vortex-Graphic-Chimichangas-A.jpg
END:VEVENT
BEGIN:VEVENT
DTSTART;VALUE=DATE:20251009
DTEND;VALUE=DATE:20251010
DTSTAMP:20260422T063845
CREATED:20250715T230500Z
LAST-MODIFIED:20250819T173558Z
UID:23733-1759968000-1760054399@nhccnm.org
SUMMARY:NHCC Fall Film Series: I Dream in Another Language
DESCRIPTION:7:00 pm \nThe NHCC Fall Film Series features Hispanic filmmakers that preserve our stories\, promote our experiences and advance the vast cultural identity of our gente. This film series continues with I Dream in Another Language (2017) on Thursday\, Oct. 9. \nA millenary language agonizes: Its last two speakers\, Evaristo and Isauro (70’s) had a quarrel 50 years ago and haven’t spoken to each other since. Martin\, a linguist\, will undertake the challenge of bringing the two old friends back together and convince them to talk again in order for him to be able to obtain a record of the language. Yet\, hidden in the past\, in the core of the jungle\, lies a secret hidden in the language that makes it difficult to believe that the heart of Zikril will beat again. (IMDB). \n“Poetic Mexican film raises philosophical questions about what is lost when a language and by extension\, our elders’ memory is allowed to fade away unpreserved.” (Variety) \nFree Community Event. Please register using the link below.
URL:https://nhccnm.org/event/nhcc-fall-film-series-i-dream-in-another-language/
LOCATION:Roy E. Disney Center for Performing Arts: Bank of America Theatre\, 1701 4th Street SW\, Albuquerque\, NM\, 87102
CATEGORIES:Film,Performing Arts,Theatre
ATTACH;FMTTYPE=image/jpeg:https://nhccnm.org/wp-content/uploads/2025/07/I-Dream-in-Another-Language-graphic.jpg
END:VEVENT
BEGIN:VEVENT
DTSTART;VALUE=DATE:20251018
DTEND;VALUE=DATE:20251019
DTSTAMP:20260422T063845
CREATED:20250721T172551Z
LAST-MODIFIED:20251001T183653Z
UID:23798-1760745600-1760831999@nhccnm.org
SUMMARY:Noche de Familia: Noche de Cempasúchil Film: Disney*Pixar’s Coco
DESCRIPTION:4:00 pm – 9:00 pm\n4:00 pm: Event begins\n5:00 pm: Disney*Pixar’s Coco at the Bank of America Theatre \nThe whole family is invited to a night to experience the traditions of Latin America ahead of the Día de Los Muertos holiday. Take the opportunity to experience some movie magic by being transported to the festivities though green screen techniques of filmmaking. We will also be watching the Disney*Pixar’s classic film “Coco!” \nDespite his family’s generations-old ban on music\, young Miguel dreams of becoming an accomplished musician like his idol Ernesto de la Cruz. Desperate to prove his talent\, Miguel finds himself in the stunning and colorful Land of the Dead. After meeting a charming trickster named Héctor\, the two new friends embark on an extraordinary journey to unlock the real story behind Miguel’s family history. \nDirected by Lee Unkrich (Toy Story 3)\, co-directed by Adrian Molina (story artist Monsters University) and produced by Darla K. Anderson (Toy Story 3)\, Disney*Pixar’s Coco opened in U.S. theatres on November 22\, 2017. English with Spanish Subtitles; 105 minutes; rated PG. \nFree community event. Bring the whole family! Please register using the link below.
URL:https://nhccnm.org/event/noche-de-familia-noche-de-superheroe-film-spiderman-across-the-spider-verse/
LOCATION:Roy E. Disney Center for Performing Arts: Bank of America Theatre\, 1701 4th Street SW\, Albuquerque\, NM\, 87102
CATEGORIES:Education,Film,Food,Performing Arts,Theatre,Workshops
ATTACH;FMTTYPE=image/jpeg:https://nhccnm.org/wp-content/uploads/2025/07/image_57ecff16.jpeg
END:VEVENT
BEGIN:VEVENT
DTSTART;VALUE=DATE:20251019
DTEND;VALUE=DATE:20251020
DTSTAMP:20260422T063845
CREATED:20250710T230327Z
LAST-MODIFIED:20251007T211731Z
UID:23680-1760832000-1760918399@nhccnm.org
SUMMARY:New Mexico Philharmonic: Olga Kern International Piano Competition Finals
DESCRIPTION:2:00 pm \nNew Mexico Philharmonic presents Olga Kern International Piano Competition Finals \nNimrod David Pfeffer\, Conductor  \nRoberto Minczuk\, Music Director \nJoin us for a thrilling afternoon of music and discovery as emerging pianists from around the globe take the stage for the final round of the prestigious Olga Kern International Piano Competition. Music Director Roberto Minczuk leads the NMPhil in an evening of electrifying performances and unforgettable artistry. The next great piano star could be discovered tonight! \nRun time: Approximately 2 hours \n$34\, $44\, $54 & $78\, special $10 student tickets with valid Id. \n\n*The event is a rental event not an NHCC production. The title\, content\, photos/images and description for this event were provided to the NHCC by the organization renting the NHCC venue for the event. By serving as a venue and posting the event on its website\, the NHCC is not endorsing any views expressed in the title or description of the event\, nor is it endorsing the content of the event. \n*All NHCC performance/event ticket sales go through the National Hispanic Cultural Center Website. NHCC is a division of New Mexico Department of Cultural Affairs. You will be redirected to our central ticketing system. DO NOT BUY FROM THIRD PARTIES. If you see a third party app or website\, please report it to the Center at (505) 246-2261.
URL:https://nhccnm.org/event/new-mexico-philharmonic-olga-kern-international-piano-competition-finals/
LOCATION:Roy E. Disney Center for Performing Arts: Albuquerque Journal Theatre\, 1701 4th St SW\, Albuquerque\, NM\, 87102
CATEGORIES:Music,Performing Arts,Rental
ATTACH;FMTTYPE=image/png:https://nhccnm.org/wp-content/uploads/2024/07/NM-Philharmonic-image-1.png
END:VEVENT
BEGIN:VEVENT
DTSTART;VALUE=DATE:20251025
DTEND;VALUE=DATE:20251026
DTSTAMP:20260422T063845
CREATED:20251001T193600Z
LAST-MODIFIED:20251001T193754Z
UID:24285-1761350400-1761436799@nhccnm.org
SUMMARY:NHCC 25th Anniversary: Nosotros Special Performance
DESCRIPTION:6:00 pm \nNHCC Campus \nCap off the evening with a headlining performance from the award-winning Latin band Nosotros! Enjoy a free performance from one of the most recognizable and original Latin bands in the Southwest United States. \nAward-winning ensemble Nosotros began as a guitar trio in Las Cruces in 1994. Now an eight-member band\, they relocated to the Albuquerque/Santa Fe area in 2001 and have established themselves as one of the most popular bands in New Mexico. Combining Latin rhythms with elements of rock\, salsa\, jazz\, and cumbia to create their original sound\, they have released seven albums\, including the anthology CD titled XX to celebrate their 20 years together as a band in 2014. They have received numerous New Mexico Music (“MIC”) Awards\, including Album of the Year and Producer of the Year for their third\, self-titled album\, Nosotros\, and have appeared with artists including Ozomatli\, Los Lobos\, Etta James\, The Wailers\, and the Gipsy Kings. M.E. Schenck\, in Hyperactive Music Magazine\, said\, “Nosotros’ music is not to be explained\, it is to be felt in the pit of our souls.” \nFree community event. Please let us know who will be attending below.
URL:https://nhccnm.org/event/nhcc-25th-anniversary-nosotros-special-performance/
LOCATION:NHCC Campus\, 1701 4th Street SW\, Albuquerque\, NM\, 87102
CATEGORIES:Music,Performing Arts,Seasonal Events,Theatre
ATTACH;FMTTYPE=image/png:https://nhccnm.org/wp-content/uploads/2025/05/Black-With-Text-scaled.png
END:VEVENT
BEGIN:VEVENT
DTSTART;VALUE=DATE:20251026
DTEND;VALUE=DATE:20251103
DTSTAMP:20260422T063845
CREATED:20250716T174238Z
LAST-MODIFIED:20251011T194001Z
UID:23737-1761436800-1762127999@nhccnm.org
SUMMARY:Opera Southwest: Dolores
DESCRIPTION:October 26\, 29\, 31 & November 2\, 2025\n2:00 pm Sundays\, 7:30 pm Wednesday & Friday \nNHCC | Albuquerque Journal Theatre \nMusic / Nicolás Lell Benavides\nLibretto / Marella Martin Koch \n1968. The Delano grape strike is dragging into its third year. Farmworkers in California are building solidarity that transcends race and\nlanguage. Bobby Kennedy is running for president. Tricky Dick is on the radio promising discipline. Dolores Huerta is holding the movement together with one hand. With the other\, she dials home\, again\, to say goodnight to children she hasn’t seen in weeks. \nShe’s not a symbol. Not yet.\nShe’s just doing the work. \nDolores is an opera that floats between the real and the imagined\, memory and nightmare. Composer Nicolás Lell Benavides and librettist Marella Martin Koch stitch history into something fragile and feverish. There are sacred chants\, electric guitar pulsations\, bossa nova hallucinations. \nLabor icon Dolores Huerta helped build a union out of dust and righteous anger. She walked the fields\, held the line\, made the calls. With César Chávez and Larry Itliong\, she shaped a movement that reached the ears of presidents but never lost sight of the people bent over the vines. The work didn’t stop. It never does. That’s the cost of believing another world is possible. \n¡SÍ SE PUEDE! \nCommissioned and Co-produced by Opera Southwest\, West Edge Opera and San Diego Opera\, presented in partnership with the National Hispanic Cultural Center. \nPiano tuning and preparation are provided by Albuquerque Piano Services: albuquerque-piano-tuning.com\nRunning Time: 2 hours and 30 minutes including one intermission \nSUNG IN ENGLISH\n-English translations are projected above the stage for all operas- \n45 Minutes before curtain\, Opera Southwest offers our “Opera Insights” pre-opera talks. These take place in either Bank of America\nTheatre or Wells Fargo Auditorium\, accessible from the shared lobby with the Albuquerque Journal Theatre. \nFor more information on Opera Southwest please click HERE. \nEnhance your weeknight opera-going experience with Taste of Opera – a pre-show dinner and relaxed conversation with Opera Southwest artistic staff members on Wednesday\, October 29\, 2025. Click here for more information.\n*Tickets to the performance sold separately. \n$29\, $49\, $69\, $89 & $109 with discounts for groups of 8 or more\, anyone 30 years old and younger and Opera for All with a WIC or EBT card. Opera for All tickets are limited to 2 per ID and must be purchased at the NHCC box office by calling 505-724-4771 or in person. \n\n*In accordance with the ticketing policies of the event promoter\, tickets for this event are not permitted to be advertised or re-sold for more than face value. All ticket sales must be purchased through National Hispanic Cultural Center or accompanying host partner. \n*All NHCC performance/event ticket sales go through the National Hispanic Cultural Center Website. NHCC is a division of New Mexico Department of Cultural Affairs. You will be redirected to our central ticketing system. DO NOT BUY FROM THIRD PARTIES. If you see a third party app or website\, please report it to the Center at (505) 246-2261.
URL:https://nhccnm.org/event/opera-southwest-dolores-huerta/
LOCATION:Roy E. Disney Center for Performing Arts: Albuquerque Journal Theatre\, 1701 4th St SW\, Albuquerque\, NM\, 87102
CATEGORIES:Music,Performing Arts,Theatre
ATTACH;FMTTYPE=image/jpeg:https://nhccnm.org/wp-content/uploads/2025/07/OSW-Dolores-2025-Logo.jpg
END:VEVENT
END:VCALENDAR