BEGIN:VCALENDAR
VERSION:2.0
PRODID:-// - ECPv6.15.14//NONSGML v1.0//EN
CALSCALE:GREGORIAN
METHOD:PUBLISH
X-ORIGINAL-URL:https://nhccnm.org
X-WR-CALDESC:Events for 
REFRESH-INTERVAL;VALUE=DURATION:PT1H
X-Robots-Tag:noindex
X-PUBLISHED-TTL:PT1H
BEGIN:VTIMEZONE
TZID:America/Denver
BEGIN:DAYLIGHT
TZOFFSETFROM:-0700
TZOFFSETTO:-0600
TZNAME:MDT
DTSTART:20250309T090000
END:DAYLIGHT
BEGIN:STANDARD
TZOFFSETFROM:-0600
TZOFFSETTO:-0700
TZNAME:MST
DTSTART:20251102T080000
END:STANDARD
BEGIN:DAYLIGHT
TZOFFSETFROM:-0700
TZOFFSETTO:-0600
TZNAME:MDT
DTSTART:20260308T090000
END:DAYLIGHT
BEGIN:STANDARD
TZOFFSETFROM:-0600
TZOFFSETTO:-0700
TZNAME:MST
DTSTART:20261101T080000
END:STANDARD
BEGIN:DAYLIGHT
TZOFFSETFROM:-0700
TZOFFSETTO:-0600
TZNAME:MDT
DTSTART:20270314T090000
END:DAYLIGHT
BEGIN:STANDARD
TZOFFSETFROM:-0600
TZOFFSETTO:-0700
TZNAME:MST
DTSTART:20271107T080000
END:STANDARD
END:VTIMEZONE
BEGIN:VEVENT
DTSTART;VALUE=DATE:20260222
DTEND;VALUE=DATE:20260302
DTSTAMP:20260421T104929
CREATED:20250716T174623Z
LAST-MODIFIED:20260306T171419Z
UID:23741-1771718400-1772409599@nhccnm.org
SUMMARY:Opera Southwest: Aida
DESCRIPTION:February 22\, 25\, 27 and March 1\, 2026\n2:00 pm Sundays\, 7:30 pm Wednesday & Friday \nNHCC | Albuquerque Journal Theatre \nMusic / G. Verdi\nLibretto / Antonio Ghislanzoni \nThe grandest of grand opera is back on the NHCC stage. Michelle Johnson (Turandot 2023 and Lohengrin 2019) returns in the title role\, alongside Olivia Vote (Verdi’s Requiem 2025 & Norma 2018 ) as Amneris\, Dane Suarez makes his company debut as Radames\, OSW favorite Matt Hanscom returns as Amonasro. This new production promises vocal fireworks\, stirring choruses\, and unforgettable theatrical moments. \nPiano tuning and preparation are provided by Albuquerque Piano Services: albuquerque-piano-tuning.com \nRunning Time: \nSUNG IN ITALIAN \n-English translations are projected above the stage for all operas- \n45 Minutes before curtain\, Opera Southwest offers our “Opera Insights” pre-opera talks. These take place in either Bank of America Theatre or Wells Fargo Auditorium\, accessible from the shared lobby with the Journal Theatre. \nFor more information on Opera Southwest please click HERE. \nEnhance your weeknight opera-going experience with Taste of Opera – a pre-show dinner and relaxed conversation with Opera Southwest artistic staff members on Wednesday\, February 25 & Friday\, February 27\, 2026. Click here for more information.\n*Tickets to the performance sold separately from the Taste of Opera. \n$29\, $49\, $69\, $89 & $109 with discounts for groups of 8 or more\, anyone 30 years old and younger and Opera for All with a WIC or EBT card. Opera for All tickets are limited to 2 per ID and must be purchased at the NHCC box office by calling 505-724-4771 or in person. \nPLEASE MAKE YOUR PERFORMANCE RESERVATION HERE! \n\n*In accordance with the ticketing policies of the event promoter\, tickets for this event are not permitted to be advertised or re-sold for more than face value. All ticket sales must be purchased through National Hispanic Cultural Center or accompanying host partner. \n*All NHCC performance/event ticket sales go through the National Hispanic Cultural Center Website. NHCC is a division of New Mexico Department of Cultural Affairs. You will be redirected to our central ticketing system. DO NOT BUY FROM THIRD PARTIES. If you see a third party app or website\, please report it to the Center at (505) 246-2261.
URL:https://nhccnm.org/event/opera-southwest-aida/
LOCATION:Roy E. Disney Center for Performing Arts: Albuquerque Journal Theatre\, 1701 4th St SW\, Albuquerque\, NM\, 87102
CATEGORIES:Performing Arts
ATTACH;FMTTYPE=image/jpeg:https://nhccnm.org/wp-content/uploads/2025/07/OSW-Aida-2026-Logo.jpg
END:VEVENT
BEGIN:VEVENT
DTSTART;VALUE=DATE:20260304
DTEND;VALUE=DATE:20260305
DTSTAMP:20260421T104929
CREATED:20260203T000750Z
LAST-MODIFIED:20260212T210225Z
UID:24976-1772582400-1772668799@nhccnm.org
SUMMARY:PAPA Senior Showcase 2026: Film & Visual Arts
DESCRIPTION:Wednesday\, March 4\, 2026\n6:30 pm \nThe Senior Class of 2026 at the Public Academy for Performing Arts invites you to an evening celebrating creativity\, talent\, and artistic growth. This culminating showcase features students working in film and visual arts\, highlighting the dedication and artistry of our graduating seniors. Join us and experience the remarkable talents of these rising stars. \n$15 & $20\, no discounts available. \nPLEASE MAKE YOUR RESERVATION HERE! \nTickets go on sale starting on Friday\, February 6\, 2026 at 10:00 am \n \n*The event is a rental event not an NHCC production. The title\, content\, photos/images and description for this event were provided to the NHCC by the organization renting the NHCC venue for the event. By serving as a venue and posting the event on its website\, the NHCC is not endorsing any views expressed in the title or description of the event\, nor is it endorsing the content of the event. \n*All NHCC performance/event ticket sales go through the National Hispanic Cultural Center Website. NHCC is a division of New Mexico Department of Cultural Affairs. You will be redirected to our central ticketing system. DO NOT BUY FROM THIRD PARTIES. If you see a third party app or website\, please report it to the Center at (505) 246-2261.
URL:https://nhccnm.org/event/papa-senior-showcase-2026-film-visual-arts/
LOCATION:Roy E. Disney Center for Performing Arts: Bank of America Theatre\, 1701 4th Street SW\, Albuquerque\, NM\, 87102
ATTACH;FMTTYPE=image/jpeg:https://nhccnm.org/wp-content/uploads/2025/04/PAPA-Logo-1200x1200-1.jpg
END:VEVENT
BEGIN:VEVENT
DTSTART;VALUE=DATE:20260307
DTEND;VALUE=DATE:20260308
DTSTAMP:20260421T104929
CREATED:20251029T142926Z
LAST-MODIFIED:20260305T162551Z
UID:24393-1772841600-1772927999@nhccnm.org
SUMMARY:East Mountain Dance: Cinderella!
DESCRIPTION:Saturday\, March 7\, 2026 at 2:00 pm\nSaturday\, March 7\, 2026 at 6:30 pm \n^Please note this is the rescheduled performances from the January 24th snow day cancellation. If you purchased tickets for January 24th\, they will be good for March 7th performances. Call the NHCC Welcome Center\, at 505-724-4771\, if you have any questions.  \nNHCC | Albuquerque Journal Theatre \nEast Mountain Dance presents a fairytale favorite\, Cinderella! the ballet. Cinderella\, a young woman who is mistreated and underestimated by her stepmother and stepsisters\, overcomes adversity and hardship with a little encouragement\, guidance\, and magic from her mystical Fairy Godmother. Join us as we follow Cinderella from dust and rags\, through a garden of fairies\, to a splendid ball at the palace\, and back home where she finds herself awakening from the dream that is about to become her reality. \nSet to the melodious music by composer Sergei Prokofiev\, first premiered by the Bolshoi Ballet in 1945 and presented by ballet companies around the world\, Cinderella is now coming to the National Hispanic Cultural Center stage and being performed by local New Mexico students from East Mountain Dance. \n$19\, $27\, $36\, $44 w/ $2 discount for students and seniors \nPLEASE MAKE YOUR RESERVATION HERE! \n\n*The event is a rental event not an NHCC production. The title\, content\, photos/images and description for this event were provided to the NHCC by the organization renting the NHCC venue for the event. By serving as a venue and posting the event on its website\, the NHCC is not endorsing any views expressed in the title or description of the event\, nor is it endorsing the content of the event. \n*All NHCC performance/event ticket sales go through the National Hispanic Cultural Center Website. NHCC is a division of New Mexico Department of Cultural Affairs. You will be redirected to our central ticketing system. DO NOT BUY FROM THIRD PARTIES. If you see a third party app or website\, please report it to the Center at (505) 246-2261.
URL:https://nhccnm.org/event/east-mountain-dance-cinderella-2/
LOCATION:Roy E. Disney Center for Performing Arts: Albuquerque Journal Theatre\, 1701 4th St SW\, Albuquerque\, NM\, 87102
ATTACH;FMTTYPE=image/jpeg:https://nhccnm.org/wp-content/uploads/2025/10/Cinderella-2025-graphic.jpg
END:VEVENT
BEGIN:VEVENT
DTSTART;VALUE=DATE:20260315
DTEND;VALUE=DATE:20260316
DTSTAMP:20260421T104929
CREATED:20250721T171829Z
LAST-MODIFIED:20260415T163207Z
UID:23795-1773532800-1773619199@nhccnm.org
SUMMARY:OSW: NM Symphonic Chorus: Brahms – Requiem
DESCRIPTION:Sunday\, March 15\, 2026\n2:00 pm \nOpera Southwest Presents: The New Mexico Symphonic Chorus \nBrahms – Requiem \nEin deutsches Requiem (A German Requiem)\nPresented in Spanish translation \nBrahms did not set a Latin mass. He called his great work “Ein deutsches Requiem—A German Requiem” – but wrote to a colleague that he would have preferred to call it “A Human Requiem.” \nHis intention was clear: this is music for the living\, not the dead. Not bound to any single dogma\, Brahms bypassed conventional liturgy to weave together scripture that speaks to sorrow\, love\, and release. Just three years after its premiere\, the work was performed in English with the composer’s support. \nIn that spirit of openness and consolation\, we present the Requiem in Spanish. \nFor more information on the New Mexico Symphonic Chorus and Opera Southwest please click HERE. \n$22\, $37\, $52\, $69 & $89 w/ discounts for anyone 30 years old and younger and Opera for All with a WIC or EBT card. Opera for All tickets are limited to 2 per ID and must be purchased at the NHCC box office by calling 505-724-4771 or in person. \nPLEASE MAKE YOUR RESERVATION HERE! \n\n*The event is a rental event not an NHCC production. The title\, content\, photos/images and description for this event were provided to the NHCC by the organization renting the NHCC venue for the event. By serving as a venue and posting the event on its website\, the NHCC is not endorsing any views expressed in the title or description of the event\, nor is it endorsing the content of the event. \n*In accordance with the ticketing policies of the event promoter\, tickets for this event are not permitted to be advertised or re-sold for more than face value. All ticket sales must be purchased through National Hispanic Cultural Center or accompanying host partner. \n*All NHCC performance/event ticket sales go through the National Hispanic Cultural Center Website. NHCC is a division of New Mexico Department of Cultural Affairs. You will be redirected to our central ticketing system. DO NOT BUY FROM THIRD PARTIES. If you see a third party app or website\, please report it to the Center at (505) 246-2261.
URL:https://nhccnm.org/event/osw-nm-symphonic-chorus-brahms-requiem/
LOCATION:Roy E. Disney Center for Performing Arts: Albuquerque Journal Theatre\, 1701 4th St SW\, Albuquerque\, NM\, 87102
CATEGORIES:Performing Arts
ATTACH;FMTTYPE=image/jpeg:https://nhccnm.org/wp-content/uploads/2025/07/OSW-NMSC-Requiem-graphic.jpg
END:VEVENT
BEGIN:VEVENT
DTSTART;VALUE=DATE:20260315
DTEND;VALUE=DATE:20260316
DTSTAMP:20260421T104929
CREATED:20260302T213228Z
LAST-MODIFIED:20260311T155019Z
UID:25385-1773532800-1773619199@nhccnm.org
SUMMARY:Yankwik Xiwitl Ceremony/Año Nuevo Azteca/Aztec New Year
DESCRIPTION:Sunday\, March 15\, 2026\n10:00 am: Laying of the Tlalmanalli\n12:00 pm: Danza \nNHCC Plaza Mayor \nXiwitl Ze Tochtli\nAño Uno Conejo\nYear One Rabbit \nJoin us for Yankwik Xiwitl or Mexika/Aztec New Year on the NHCC’s Plaza Mayor. The free public event\, ushering in the year Matlaktli yei Kalli/ Trece Casa/Thirteen House features fire making with a hand drill\, an offering of flowers and fruit and ritual Mexika/ Chichimeka (Aztec) dance. This year marks the end of a 52-year cycle. \nFree public event. \nFor more information\, e-mail pazehecatl@hotmail.com. \n 
URL:https://nhccnm.org/event/yankwik-xiwitl-ano-nuevo-azteca-aztec-new-year-3/
LOCATION:Roy E. Disney Center for Performing Arts: Albuquerque Journal Theatre\, 1701 4th St SW\, Albuquerque\, NM\, 87102
CATEGORIES:Performing Arts
ATTACH;FMTTYPE=image/jpeg:https://nhccnm.org/wp-content/uploads/2026/03/Aztec-New-Year-Graphic.jpg
END:VEVENT
BEGIN:VEVENT
DTSTART;VALUE=DATE:20260329
DTEND;VALUE=DATE:20260330
DTSTAMP:20260421T104929
CREATED:20260207T180631Z
LAST-MODIFIED:20260325T185019Z
UID:25006-1774742400-1774828799@nhccnm.org
SUMMARY:NM Gay Men’s Chorus: Voices of Our Community
DESCRIPTION:Sunday\, March 29\, 2026\n2:00 pm \nNM Gay Men’s Chorus presents Voices of Our Community\, an extraordinary community concert that will bring together some of Albuquerque’s and New Mexico’s most beloved musical organizations—including the Albuquerque Civic Chorus\, Albuquerque Philharmonic\, NM Peace Choir\, and NM Women’s Chorus—in a powerful collaboration that celebrates unity through song. The concert will also feature new work by Grammy®-winning composer Christopher Tin\, including Southwest premieres of Calling All Dawns and Song Offerings. It is bold. It is ambitious. \n$20\, $30\, $45\, & $60 with a special discount for UNDER 30. \nPLEASE MAKE YOUR RESERVATION HERE! \n\n \n*The event is a rental event not an NHCC production. The title\, content\, photos/images and description for this event were provided to the NHCC by the organization renting the NHCC venue for the event. By serving as a venue and posting the event on its website\, the NHCC is not endorsing any views expressed in the title or description of the event\, nor is it endorsing the content of the event. \n*All NHCC performance/event ticket sales go through the National Hispanic Cultural Center Website. NHCC is a division of New Mexico Department of Cultural Affairs. You will be redirected to our central ticketing system. DO NOT BUY FROM THIRD PARTIES. If you see a third party app or website\, please report it to the Center at (505) 246-2261.
URL:https://nhccnm.org/event/nm-gay-mens-chorus-voices-of-our-community/
LOCATION:Roy E. Disney Center for Performing Arts: Albuquerque Journal Theatre\, 1701 4th St SW\, Albuquerque\, NM\, 87102
ATTACH;FMTTYPE=image/jpeg:https://nhccnm.org/wp-content/uploads/2026/02/NMGMC-Voices-NHCC-Graphic-1.2.jpg
END:VEVENT
END:VCALENDAR