BEGIN:VCALENDAR
VERSION:2.0
PRODID:-// - ECPv6.15.14//NONSGML v1.0//EN
CALSCALE:GREGORIAN
METHOD:PUBLISH
X-ORIGINAL-URL:https://nhccnm.org
X-WR-CALDESC:Events for 
REFRESH-INTERVAL;VALUE=DURATION:PT1H
X-Robots-Tag:noindex
X-PUBLISHED-TTL:PT1H
BEGIN:VTIMEZONE
TZID:America/Denver
BEGIN:DAYLIGHT
TZOFFSETFROM:-0700
TZOFFSETTO:-0600
TZNAME:MDT
DTSTART:20250309T090000
END:DAYLIGHT
BEGIN:STANDARD
TZOFFSETFROM:-0600
TZOFFSETTO:-0700
TZNAME:MST
DTSTART:20251102T080000
END:STANDARD
BEGIN:DAYLIGHT
TZOFFSETFROM:-0700
TZOFFSETTO:-0600
TZNAME:MDT
DTSTART:20260308T090000
END:DAYLIGHT
BEGIN:STANDARD
TZOFFSETFROM:-0600
TZOFFSETTO:-0700
TZNAME:MST
DTSTART:20261101T080000
END:STANDARD
BEGIN:DAYLIGHT
TZOFFSETFROM:-0700
TZOFFSETTO:-0600
TZNAME:MDT
DTSTART:20270314T090000
END:DAYLIGHT
BEGIN:STANDARD
TZOFFSETFROM:-0600
TZOFFSETTO:-0700
TZNAME:MST
DTSTART:20271107T080000
END:STANDARD
END:VTIMEZONE
BEGIN:VEVENT
DTSTART;VALUE=DATE:20260516
DTEND;VALUE=DATE:20260517
DTSTAMP:20260421T110633
CREATED:20251204T173941Z
LAST-MODIFIED:20260325T182136Z
UID:24567-1778889600-1778975999@nhccnm.org
SUMMARY:Noche de Familia: Cine Para Chiquitos featuring DreamWorks' Puss in Boots: The Last Wish
DESCRIPTION:4:00 pm \nNHCC | Bank of America Theatre \nNoche de Familia: Cine Para Chiquitos. Join us for a film screening and green-screen movie magic! Cine Para Chiquitos is a film night for children and families where a culturally relevant film is screened and the magic of movie making is shared through activities. The title of the film will be announced soon. \nFree community event. Bring the whole family! Please let us know who will be attending below. \nSponsored in part by NM Gas. \nPLEASE MAKE YOUR RESERVATION HERE!
URL:https://nhccnm.org/event/noche-de-familia-cine-para-chiquitos/
LOCATION:Roy E. Disney Center for Performing Arts: Bank of America Theatre\, 1701 4th Street SW\, Albuquerque\, NM\, 87102
ATTACH;FMTTYPE=image/jpeg:https://nhccnm.org/wp-content/uploads/2025/12/Noche-de-Familia-Puss-n-Boot.jpg
END:VEVENT
BEGIN:VEVENT
DTSTART;VALUE=DATE:20260517
DTEND;VALUE=DATE:20260518
DTSTAMP:20260421T110633
CREATED:20260316T220334Z
LAST-MODIFIED:20260408T173849Z
UID:25621-1778976000-1779062399@nhccnm.org
SUMMARY:Sandra's School of Dance: Passport Recital 2026
DESCRIPTION:Sunday\, May 17\, 2026\n10:00 am\, 1:00 pm\, & 4:00 pm. \nNHCC | Albuquerque Journal Theatre \nSandra’s School of Dance presents Passport Recital 2025. \nWhether you’re just starting out or are a seasoned dancer\, Sandra’s School of Dance is where dreams are turned into reality. Join our dance family and let your passion shine! Please visit our website for more information at Sandra’s School of Dance: Dance Classes in Albuquerque\, NM. \n$20\, $25\, $30\, & $35\, no other discounts / everyone must have a ticket to attend. \nPLEASE MAKE YOUR RESERVATION HERE! \nTickets go on sale starting on April 20\, 2026 at 10:00 am. \n\n*The event is a rental event not an NHCC production. The title\, content\, photos/images and description for this event were provided to the NHCC by the organization renting the NHCC venue for the event. By serving as a venue and posting the event on its website\, the NHCC is not endorsing any views expressed in the title or description of the event\, nor is it endorsing the content of the event. \n*All NHCC performance/event ticket sales go through the National Hispanic Cultural Center Website. NHCC is a division of New Mexico Department of Cultural Affairs. You will be redirected to our central ticketing system. DO NOT BUY FROM THIRD PARTIES. If you see a third party app or website\, please report it to the Center at (505) 246-2261.
URL:https://nhccnm.org/event/sandras-school-of-dance-passport-recital-2026/
LOCATION:Roy E. Disney Center for Performing Arts: Albuquerque Journal Theatre\, 1701 4th St SW\, Albuquerque\, NM\, 87102
CATEGORIES:Performing Arts
ATTACH;FMTTYPE=image/png:https://nhccnm.org/wp-content/uploads/2024/12/Sandra-School-of-Dance-logo-A.2.png
END:VEVENT
BEGIN:VEVENT
DTSTART;VALUE=DATE:20260520
DTEND;VALUE=DATE:20260522
DTSTAMP:20260421T110633
CREATED:20260302T214523Z
LAST-MODIFIED:20260325T182411Z
UID:25392-1779235200-1779407999@nhccnm.org
SUMMARY:Tierra Adentro of NM Charter School: Caminos
DESCRIPTION:May 20 & 21\, 2026\n7:00 pm both days \nNHCC | Albuquerque Journal Theatre \nJoin Tierra Adentro of New Mexico Charter School as they celebrate their end of year production by taking you through a journey of flamenco dance and music. Filled with our students’ love of their art forms will be an event you don’t want to miss! \nApproximate run time:  1.5 hours \nTickets will go on sale starting on Friday\, May 1\, 2026. \n$29\, $34\, & $39 w/ $2 discount for Seniors and children 12 and younger \nPLEASE RESERVE YOUR TICKETS HERE! \n\n*The event is a rental event not an NHCC production. The title\, content\, photos/images and description for this event were provided to the NHCC by the organization renting the NHCC venue for the event. By serving as a venue and posting the event on its website\, the NHCC is not endorsing any views expressed in the title or description of the event\, nor is it endorsing the content of the event. \n*All NHCC performance/event ticket sales go through the National Hispanic Cultural Center Website. NHCC is a division of New Mexico Department of Cultural Affairs. You will be redirected to our central ticketing system. DO NOT BUY FROM THIRD PARTIES. If you see a third party app or website\, please report it to the Center at (505) 246-2261.
URL:https://nhccnm.org/event/tierra-adentro-of-nm-charter-school-caminos-2/
LOCATION:Roy E. Disney Center for Performing Arts: Albuquerque Journal Theatre\, 1701 4th St SW\, Albuquerque\, NM\, 87102
CATEGORIES:Performing Arts
ATTACH;FMTTYPE=image/png:https://nhccnm.org/wp-content/uploads/2026/03/NHCC_Caminos.png
END:VEVENT
BEGIN:VEVENT
DTSTART;VALUE=DATE:20260523
DTEND;VALUE=DATE:20260524
DTSTAMP:20260421T110633
CREATED:20251029T141406Z
LAST-MODIFIED:20260415T163455Z
UID:24399-1779494400-1779580799@nhccnm.org
SUMMARY:East Mountain Dance: Recital 2026\, “Family Game Night!”
DESCRIPTION:Saturday\, May 23\, 2026 at 2:00 pm\nSaturday\, May 23\, 2026 at 6:00 pm \nNHCC | Albuquerque Journal Theatre \nEast Mountain Dance presents its 2026 end-of-year recital\, fully costumed\, and performed on one of the best stages in NM! Broken into two unique performances\, the studio’s classes will all have the opportunity to perform for friends\, family\, and the community. \nPlease check with your student PRIOR to purchasing tickets as most classes and students will perform in ONLY one (1) of the two (2) shows on May 23rd. The first show (2pm) will be approximately 1.5 hours\, with no intermission\, and will be geared towards our younger students and their families. Our final show of the day (6pm) will be our older showcase. This will be geared towards our older students and their families\, and will include a brief intermission. These shows are open to the public and we thank everyone for supporting youth/adolescent development and arts education! \nThere is nothing like performing on stage\, and we hope all of our students\, friends\, family\, and community will join us in celebrating a wonderful year of dance and growth! \nRun time of event: 1.5 hours (2:00 pm)\, 2 hours (6:00 pm) \n$19\, $24\, $29\, and $34 w/ $2 discount for students and seniors \nPLEASE MAKE YOUR RESERVATION HERE! \n\n*The event is a rental event not an NHCC production. The title\, content\, photos/images and description for this event were provided to the NHCC by the organization renting the NHCC venue for the event. By serving as a venue and posting the event on its website\, the NHCC is not endorsing any views expressed in the title or description of the event\, nor is it endorsing the content of the event. \n*All NHCC performance/event ticket sales go through the National Hispanic Cultural Center Website. NHCC is a division of New Mexico Department of Cultural Affairs. You will be redirected to our central ticketing system. DO NOT BUY FROM THIRD PARTIES. If you see a third party app or website\, please report it to the Center at (505) 246-2261.
URL:https://nhccnm.org/event/east-mountain-dance-recital-2026-family-game-night/
LOCATION:Roy E. Disney Center for Performing Arts: Albuquerque Journal Theatre\, 1701 4th St SW\, Albuquerque\, NM\, 87102
ATTACH;FMTTYPE=image/jpeg:https://nhccnm.org/wp-content/uploads/2025/10/EMD-Logo.jpg
END:VEVENT
BEGIN:VEVENT
DTSTART;VALUE=DATE:20260531
DTEND;VALUE=DATE:20260601
DTSTAMP:20260421T110633
CREATED:20250710T225914Z
LAST-MODIFIED:20260416T170225Z
UID:23690-1780185600-1780271999@nhccnm.org
SUMMARY:New Mexico Philharmonic: Tetiana Plays Beethoven
DESCRIPTION:New Mexico Philharmonic: Tetiana Plays Beethoven\nSunday\, May 31\, 2026\n2:00 pm \nNew Mexico Philharmonic presents Tetiana Plays Beethoven \nEckart Preu\, Conductor\nTetiana Shafran\, piano\nBeethoven: Piano Concerto No. 1\nRavel: Mother Goose Suite\nStravinski: Pulcinella Suite \nUkrainian pianist Tetiana Shafran\, gold medalist at the 2019 Olga Kern International Piano Competition\, brings sparkle and soul to Beethoven’s youthful and exuberant Piano Concerto No. 1. Ravel’s enchanting Mother Goose Suite invites us into a dreamlike world of fantasy while Stravinsky’s spirited Pulcinella Suite delivers humor\, wit\, and rhythmic brilliance to close the NMPhil Afternoon Classics season with flair and panache. \nRun time: Approximately 2 hours \n$34\, $44\, $54 & $78 \nPLEASE MAKE YOUR RESERVATION HERE! \nFor more information on the New Mexico Philharmonic please call them at (505) 323-4343 or check out the website HERE. \n\n*The event is a rental event not an NHCC production. The title\, content\, photos/images and description for this event were provided to the NHCC by the organization renting the NHCC venue for the event. By serving as a venue and posting the event on its website\, the NHCC is not endorsing any views expressed in the title or description of the event\, nor is it endorsing the content of the event. \n*All NHCC performance/event ticket sales go through the National Hispanic Cultural Center Website. NHCC is a division of New Mexico Department of Cultural Affairs. You will be redirected to our central ticketing system. DO NOT BUY FROM THIRD PARTIES. If you see a third party app or website\, please report it to the Center at (505) 246-2261.
URL:https://nhccnm.org/event/new-mexico-philharmonic-tetiana-plays-beethoven/
LOCATION:Roy E. Disney Center for Performing Arts: Albuquerque Journal Theatre\, 1701 4th St SW\, Albuquerque\, NM\, 87102
CATEGORIES:Music,Performing Arts,Rental,Theatre
ATTACH;FMTTYPE=image/jpeg:https://nhccnm.org/wp-content/uploads/2025/07/NM-Philharmonic-FB-Header.jpg
END:VEVENT
END:VCALENDAR