BEGIN:VCALENDAR
VERSION:2.0
PRODID:-// - ECPv6.15.14//NONSGML v1.0//EN
CALSCALE:GREGORIAN
METHOD:PUBLISH
X-ORIGINAL-URL:https://nhccnm.org
X-WR-CALDESC:Events for 
REFRESH-INTERVAL;VALUE=DURATION:PT1H
X-Robots-Tag:noindex
X-PUBLISHED-TTL:PT1H
BEGIN:VTIMEZONE
TZID:America/Denver
BEGIN:DAYLIGHT
TZOFFSETFROM:-0700
TZOFFSETTO:-0600
TZNAME:MDT
DTSTART:20150308T090000
END:DAYLIGHT
BEGIN:STANDARD
TZOFFSETFROM:-0600
TZOFFSETTO:-0700
TZNAME:MST
DTSTART:20151101T080000
END:STANDARD
BEGIN:DAYLIGHT
TZOFFSETFROM:-0700
TZOFFSETTO:-0600
TZNAME:MDT
DTSTART:20160313T090000
END:DAYLIGHT
BEGIN:STANDARD
TZOFFSETFROM:-0600
TZOFFSETTO:-0700
TZNAME:MST
DTSTART:20161106T080000
END:STANDARD
BEGIN:DAYLIGHT
TZOFFSETFROM:-0700
TZOFFSETTO:-0600
TZNAME:MDT
DTSTART:20170312T090000
END:DAYLIGHT
BEGIN:STANDARD
TZOFFSETFROM:-0600
TZOFFSETTO:-0700
TZNAME:MST
DTSTART:20171105T080000
END:STANDARD
END:VTIMEZONE
BEGIN:VEVENT
DTSTART;VALUE=DATE:20160701
DTEND;VALUE=DATE:20160702
DTSTAMP:20260419T132628
CREATED:20160618T215955Z
LAST-MODIFIED:20160618T215955Z
UID:2255-1467331200-1467417599@nhccnm.org
SUMMARY:Summer Institute Performances: Voces
DESCRIPTION:7 pm \nThe NHCC’s Summer Institutes—Circo Latino\, the Manoa Project\, and Voces—are presenting performances based on the exhibit The House on Mango Street:  Artists Interpret Community and Sandra Cisneros’ book of the same name. Join Voces for a stirring performance inspired by themes of family\, community\, identity\, and home—appropriate for all ages.  Students from the Voces writing program will perform selected pieces from their month of intensive writing\, exploring their own inner voices as well as the themes from the exhibit and novel.\nFree public event; suggested donation $5
URL:https://nhccnm.org/event/summer-institute-performances-based-house-mango-street-voces/
LOCATION:NHCC-Newsletter-November-2-30
CATEGORIES:Education,Performing Arts,School and Youth Programs,Theatre,Workshops
ATTACH;FMTTYPE=image/jpeg:https://nhccnm.org/wp-content/uploads/2016/06/Voces-photo-1.jpg
END:VEVENT
END:VCALENDAR